From mboxrd@z Thu Jan 1 00:00:00 1970 Return-Path: Received: from mails.dpdk.org (mails.dpdk.org [217.70.189.124]) by inbox.dpdk.org (Postfix) with ESMTP id 955F946B1F for ; Mon, 7 Jul 2025 12:49:42 +0200 (CEST) Received: from mails.dpdk.org (localhost [127.0.0.1]) by mails.dpdk.org (Postfix) with ESMTP id 8C77D4025D; Mon, 7 Jul 2025 12:49:42 +0200 (CEST) Received: from mail-io1-f99.google.com (mail-io1-f99.google.com [209.85.166.99]) by mails.dpdk.org (Postfix) with ESMTP id 6A3474025D for ; Mon, 7 Jul 2025 12:49:41 +0200 (CEST) Received: by mail-io1-f99.google.com with SMTP id ca18e2360f4ac-86d029e2bdeso137499239f.1 for ; Mon, 07 Jul 2025 03:49:41 -0700 (PDT) DKIM-Signature: v=1; a=rsa-sha256; c=relaxed/relaxed; d=iol.unh.edu; s=unh-iol; t=1751885381; x=1752490181; darn=dpdk.org; h=references:in-reply-to:cc:to:from:subject:message-id:date:from:to :cc:subject:date:message-id:reply-to; bh=nzLm4DQXiYx7hSgfjjLuD458j1EtVVGABHhwxpuwRlg=; b=C0eRfa30tBSwdEsnpPS7TFUgTp1YRKI4iS+SSAEA5ZQid+Ro7iXDW0Vb9r+UxMQuGJ ChGhQMFs42qCQvGqBjH+A1qrnCOTh5ye+yc7er4mopwSHPbRCOSfh7gUOw1gGebIArp/ hSBe/VzkcUknT5GFt7B5l1a52lruP5AjVqBK4= X-Google-DKIM-Signature: v=1; a=rsa-sha256; c=relaxed/relaxed; d=1e100.net; s=20230601; t=1751885381; x=1752490181; h=references:in-reply-to:cc:to:from:subject:message-id:date :x-gm-message-state:from:to:cc:subject:date:message-id:reply-to; bh=nzLm4DQXiYx7hSgfjjLuD458j1EtVVGABHhwxpuwRlg=; b=vaJdc+isgT22FIJUfzOCyYbI2gD/YO5ZXdZkecuaUS5oJD0g7MSsRwSiz6QjppeTF5 qsWS+XFrRuydvqnfKZuGGnALPrl0LtC1vy7tp6eG1ryKgZ6mACQHMNppBXaA0uOG+aob FPvbA/Ig+iAWobS0MPImshkntp/Yqw9b77nuE7H4FR0oiX00isIPBN8GN5hHfqaVeBRj VWK5lqSi52QMYnzXMjgV/yDs/SQWxxBj8YxHyQFAq/ZeI1nIAYdqPgrVfT56y4SIaqvZ nITa+3zZWNizTS28eeYEwESYJyeG0RqhZmxbx3bwDPUYcRxOYuUUD1N+T9sFNNA/YcXY 4K7w== X-Gm-Message-State: AOJu0Yw4vIVc4ISiKZguMDInV5OKNeHyVvIx9TxaxB4wSK1CctA7x0oL y9HpIbCv1/ApNC5hxUEU1BXsCqTIjWIZJAsqncrS34IQp24ZtsgcfdHnaculMyGPyCs5wdmmo5r 11TGE1Nb9Axn0Rb36/HI42K805y25F6KxRzuStGdFsILE X-Gm-Gg: ASbGncsBNQdmgjLNayyChSEA3LtWFwl+a4HdXFPCwpKveoccJRKrgOUW8Ow7JCAg6hQ OdTNSC5D3QTYF3CqcncEmXmk6cBW8v53yhaSvqt2vEWSk3mHC/quaX7fulgWWYu53RrYFH1yme5 HGcAnbGfnVGMZtotUXo+XQMGV2El3QcD3urK+IOjjs915KOlVHEGOxrikLP1UTGlVyS04utReR7 5J+cq4/dOtgBbArHjBEguWQRQB25aL0Txi3dOee68lBOF/oz12Sqz/qz+ja/cLK2AaNJE5QDAl9 /aKkjjrM/Cfx68QBE9hg179dQ/MezxxlNit/miD0/FFy6pdQPhQh3LMqzJ3tCI0/aoh7vA== X-Google-Smtp-Source: AGHT+IGZu7uo7Y4WkXHNAViRFO9WavHUWNKjxmt2F1mMRUMAXuEvbrSN5dgLtfb6qEJgMKr74i5nUOKrI3kE X-Received: by 2002:a05:6e02:2613:b0:3dd:bb60:4600 with SMTP id e9e14a558f8ab-3e1347d85c7mr113151415ab.5.1751885380648; Mon, 07 Jul 2025 03:49:40 -0700 (PDT) Received: from postal.iol.unh.edu (postal.iol.unh.edu. [132.177.123.84]) by smtp-relay.gmail.com with ESMTPS id e9e14a558f8ab-3e0f9b7fd63sm4988175ab.29.2025.07.07.03.49.40 (version=TLS1_2 cipher=ECDHE-ECDSA-AES128-GCM-SHA256 bits=128/128); Mon, 07 Jul 2025 03:49:40 -0700 (PDT) X-Relaying-Domain: iol.unh.edu Date: Mon, 07 Jul 2025 03:49:40 -0700 (PDT) Message-ID: <686ba644.050a0220.aca13.a553SMTPIN_ADDED_MISSING@mx.google.com> Received: from [172.21.0.5] (unknown [172.18.0.240]) by postal.iol.unh.edu (Postfix) with ESMTP id 32D176051830; Mon, 7 Jul 2025 06:49:40 -0400 (EDT) Subject: |SUCCESS| pw155027 [PATCH] [v2] mbuf: add new ptype for slow protoco From: dpdklab@iol.unh.edu To: Test Report Cc: dpdk-test-reports@iol.unh.edu In-Reply-To: <20250707075100.15034-1-kuka@cesnet.cz> References: <20250707075100.15034-1-kuka@cesnet.cz> Content-Type: text/plain X-BeenThere: test-report@dpdk.org X-Mailman-Version: 2.1.29 Precedence: list List-Id: automatic DPDK test reports List-Unsubscribe: , List-Archive: List-Post: List-Help: List-Subscribe: , Errors-To: test-report-bounces@dpdk.org Test-Label: iol-abi-testing Test-Status: SUCCESS http://dpdk.org/patch/155027 _Testing PASS_ Submitter: Mario Kuka Date: Monday, July 07 2025 07:51:00 DPDK git baseline: Repo:dpdk Branch: master CommitID:70c2297528e7c7789af452f78de1932e9a20c8a2 155027 --> testing pass Upstream job id: Generic-DPDK-Compile-ABI#133365 Test environment and result as below: +-------------------------------+----------+ | Environment | abi_test | +===============================+==========+ | CentOS Stream 10 | PASS | +-------------------------------+----------+ | CentOS Stream 9 | PASS | +-------------------------------+----------+ | Debian GNU/Linux 12 | PASS | +-------------------------------+----------+ | Fedora Linux 40 | PASS | +-------------------------------+----------+ | Fedora Linux 41 | PASS | +-------------------------------+----------+ | Red Hat Enterprise Linux 9.5 | PASS | +-------------------------------+----------+ | openSUSE Leap 15.6 | PASS | +-------------------------------+----------+ | Ubuntu 22.04 | PASS | +-------------------------------+----------+ | Ubuntu 24.04 | PASS | +-------------------------------+----------+ | Red Hat Enterprise Linux 8.10 | PASS | +-------------------------------+----------+ CentOS Stream 10 Kernel: 5.15 Compiler: gcc gcc (GCC) 14.2.1 20250110 (Red Hat 14.2.1-8) CentOS Stream 9 Kernel: 5.15 Compiler: gcc gcc (GCC) 11.5.0 20240719 (Red Hat 11.5.0-7) Debian GNU/Linux 12 Kernel: 5.15 Compiler: gcc gcc (Debian 12.2.0-14+deb12u1) 12.2.0 Fedora Linux 40 Kernel: 5.15 Compiler: clang gcc (GCC) 14.2.1 20240912 (Red Hat 14.2.1-3) Fedora Linux 41 Kernel: 5.15 Compiler: clang gcc (GCC) 14.3.1 20250523 (Red Hat 14.3.1-1) Red Hat Enterprise Linux 9.5 Kernel: 5.15 Compiler: gcc gcc (GCC) 11.5.0 20240719 (Red Hat 11.5.0-2) openSUSE Leap 15.6 Kernel: 5.15 Compiler: gcc gcc (SUSE Linux) 7.5.0 Ubuntu 22.04 Kernel: 5.15 Compiler: gcc gcc (Ubuntu 11.4.0-1ubuntu1~22.04) 11.4.0 Ubuntu 24.04 Kernel: 5.15 Compiler: gcc gcc (Ubuntu 13.3.0-6ubuntu2~24.04) 13.3.0 Red Hat Enterprise Linux 8.10 Kernel: 5.15 Compiler: gcc gcc (GCC) 8.5.0 20210514 (Red Hat 8.5.0-22) To view detailed results, visit: https://lab.dpdk.org/results/dashboard/patchsets/33602/ UNH-IOL DPDK Community Lab To manage your email subscriptions, visit: https://lab.dpdk.org/results/dashboard/preferences/subscriptions/