From mboxrd@z Thu Jan 1 00:00:00 1970 Return-Path: Received: from mails.dpdk.org (mails.dpdk.org [217.70.189.124]) by inbox.dpdk.org (Postfix) with ESMTP id AB96346B1F for ; Mon, 7 Jul 2025 12:49:59 +0200 (CEST) Received: from mails.dpdk.org (localhost [127.0.0.1]) by mails.dpdk.org (Postfix) with ESMTP id A354F4025D; Mon, 7 Jul 2025 12:49:59 +0200 (CEST) Received: from mail-qv1-f97.google.com (mail-qv1-f97.google.com [209.85.219.97]) by mails.dpdk.org (Postfix) with ESMTP id C325C4025D for ; Mon, 7 Jul 2025 12:49:58 +0200 (CEST) Received: by mail-qv1-f97.google.com with SMTP id 6a1803df08f44-6faf66905adso21461306d6.2 for ; Mon, 07 Jul 2025 03:49:58 -0700 (PDT) DKIM-Signature: v=1; a=rsa-sha256; c=relaxed/relaxed; d=iol.unh.edu; s=unh-iol; t=1751885398; x=1752490198; darn=dpdk.org; h=references:in-reply-to:cc:to:from:subject:message-id:date:from:to :cc:subject:date:message-id:reply-to; bh=mYepw3TONp7y71rjGwl9KfEQ7JU9oK5mRNmTokD+Ofs=; b=dgeVpqh94Yj1ywGujnsmeaIDPt2vLSKqDNCSrlze0dvfZ3DoohW/z2fLUcmL7q888C NvIsqD4z6ZWkIsF7Yi95VdscuXADfl4Kuw+K/bKxAHoJIIUK1vP7RcTO6OLS024ltSco Qfez9Z9DyD+EtLXg5IncLjCXYXEpFhr7H4G6U= X-Google-DKIM-Signature: v=1; a=rsa-sha256; c=relaxed/relaxed; d=1e100.net; s=20230601; t=1751885398; x=1752490198; h=references:in-reply-to:cc:to:from:subject:message-id:date :x-gm-message-state:from:to:cc:subject:date:message-id:reply-to; bh=mYepw3TONp7y71rjGwl9KfEQ7JU9oK5mRNmTokD+Ofs=; b=vCkVlMTn5ApvKp4hmaBbPXpEJxo4bzGpH0exDosuRAPFi1um8SLhpnK85dVQzcgFJ+ PiaQzfhhDG1z601ZBbNMujQDRK5ohaseUI8/SKMwbhjFuww7XXCKkJQV84jvPdPCRhWV Pu/ew+bBIHKmY97trWMtAuhCkQpiORY3mipXVQEC0con9vGEo/ggqt5IWTnXrPrQkql+ YSGNG1F6149lZunzNC3puFCOD2i9ubwyfYdkXxINvhQcpVL8jWJw2dKGF/9mtan1H3Nj ivZaN2KUimP8Vjz7vsxyErq3nUZcYf5WI/s2XiemF8gzwDMoKSw9SLviPDeJXpk6U5Wk ZORQ== X-Gm-Message-State: AOJu0Yz+dD5d3X4Nqbt5c/S81zUy5Hu6H7Nw9tvPhMnzzQd5UNstbbw7 rN5QtnHDqHAZ+Im1zk3bJ5fKmViM+Zi5K/5XU1PCbJDjyEXKtUInIBv/iICHH7PYYYiTCjMC1O/ zcl0TqzkzH+3IZ827EgaksDp4kHL3ntTodghw7A0uPxVt X-Gm-Gg: ASbGnctWkjZ1+SuRQ/CUIBYPEbE+4xpZiAUMYF64bGHZ4tK4Eu4q54ZcEqLUzn8uuaf pM2gLiEBxIQwvU1jVG+F3WBv6sGoWVP9m7DTQtrVrfnz3+5jZ31UTxCy0XUtPIlFtIe18+Yb5GN n4GJRmMMbzffttVQ4wrJMt2oBGxv3hDWcpZlt1m4nqEJec4FOP6dFcKGKev24VtFKCdz+WpaAn1 CcYOA6+VzQbefO9GyuvSKiPhuoxkqyo4L0ALQ47dkS0/bNhMf10f8P+K/OUDsAGzDd/yCyODvhG 8hKh5HZMC+6ThswmYEhir59R3ZMeRkyNfu0MQv0pvsuFyBpr7JLjZigctKs1GAn6pLWJ1g== X-Google-Smtp-Source: AGHT+IG90t5tuBZ/9amT7BxvhEOheZWFLqf4aAuGsQI22cqYJ16PcfpSYg7AaxkHMyEOBMg8Nvv9NgO5l7Cj X-Received: by 2002:a0c:f094:0:20b0:702:c8dc:c4a8 with SMTP id 6a1803df08f44-702c8dcc4d7mr101813486d6.11.1751885398162; Mon, 07 Jul 2025 03:49:58 -0700 (PDT) Received: from postal.iol.unh.edu (postal.iol.unh.edu. [132.177.123.84]) by smtp-relay.gmail.com with ESMTPS id 6a1803df08f44-702c4cc4fe9sm4089246d6.1.2025.07.07.03.49.58 (version=TLS1_2 cipher=ECDHE-ECDSA-AES128-GCM-SHA256 bits=128/128); Mon, 07 Jul 2025 03:49:58 -0700 (PDT) X-Relaying-Domain: iol.unh.edu Date: Mon, 07 Jul 2025 03:49:58 -0700 (PDT) Message-ID: <686ba656.d40a0220.181e9a.4baaSMTPIN_ADDED_MISSING@mx.google.com> Received: from [172.21.0.6] (unknown [172.18.0.240]) by postal.iol.unh.edu (Postfix) with ESMTP id DE03A6051830; Mon, 7 Jul 2025 06:49:57 -0400 (EDT) Subject: |SUCCESS| pw155027 [PATCH] [v2] mbuf: add new ptype for slow protoco From: dpdklab@iol.unh.edu To: Test Report Cc: dpdk-test-reports@iol.unh.edu In-Reply-To: <20250707075100.15034-1-kuka@cesnet.cz> References: <20250707075100.15034-1-kuka@cesnet.cz> Content-Type: text/plain X-BeenThere: test-report@dpdk.org X-Mailman-Version: 2.1.29 Precedence: list List-Id: automatic DPDK test reports List-Unsubscribe: , List-Archive: List-Post: List-Help: List-Subscribe: , Errors-To: test-report-bounces@dpdk.org Test-Label: iol-abi-testing Test-Status: SUCCESS http://dpdk.org/patch/155027 _Testing PASS_ Submitter: Mario Kuka Date: Monday, July 07 2025 07:51:00 DPDK git baseline: Repo:dpdk Branch: master CommitID:70c2297528e7c7789af452f78de1932e9a20c8a2 155027 --> testing pass Upstream job id: Generic-DPDK-Compile-ABI#133367 Test environment and result as below: +-------------------------------+----------+ | Environment | abi_test | +===============================+==========+ | CentOS Stream 10 | PASS | +-------------------------------+----------+ | CentOS Stream 9 | PASS | +-------------------------------+----------+ | Debian GNU/Linux 12 | PASS | +-------------------------------+----------+ | Fedora Linux 40 | PASS | +-------------------------------+----------+ | Fedora Linux 41 | PASS | +-------------------------------+----------+ | Red Hat Enterprise Linux 9.5 | PASS | +-------------------------------+----------+ | openSUSE Leap 15.6 | PASS | +-------------------------------+----------+ | Ubuntu 22.04 | PASS | +-------------------------------+----------+ | Ubuntu 24.04 | PASS | +-------------------------------+----------+ | Red Hat Enterprise Linux 8.10 | PASS | +-------------------------------+----------+ CentOS Stream 10 Kernel: 5.15 Compiler: gcc gcc (GCC) 14.2.1 20250110 (Red Hat 14.2.1-8) CentOS Stream 9 Kernel: 5.15 Compiler: gcc gcc (GCC) 11.5.0 20240719 (Red Hat 11.5.0-7) Debian GNU/Linux 12 Kernel: 5.15 Compiler: gcc gcc (Debian 12.2.0-14+deb12u1) 12.2.0 Fedora Linux 40 Kernel: 5.15 Compiler: clang gcc (GCC) 14.2.1 20240912 (Red Hat 14.2.1-3) Fedora Linux 41 Kernel: 5.15 Compiler: clang gcc (GCC) 14.3.1 20250523 (Red Hat 14.3.1-1) Red Hat Enterprise Linux 9.5 Kernel: 5.15 Compiler: gcc gcc (GCC) 11.5.0 20240719 (Red Hat 11.5.0-2) openSUSE Leap 15.6 Kernel: 5.15 Compiler: gcc gcc (SUSE Linux) 7.5.0 Ubuntu 22.04 Kernel: 5.15 Compiler: gcc gcc (Ubuntu 11.4.0-1ubuntu1~22.04) 11.4.0 Ubuntu 24.04 Kernel: 5.15 Compiler: gcc gcc (Ubuntu 13.3.0-6ubuntu2~24.04) 13.3.0 Red Hat Enterprise Linux 8.10 Kernel: 5.15 Compiler: gcc gcc (GCC) 8.5.0 20210514 (Red Hat 8.5.0-22) To view detailed results, visit: https://lab.dpdk.org/results/dashboard/patchsets/33602/ UNH-IOL DPDK Community Lab To manage your email subscriptions, visit: https://lab.dpdk.org/results/dashboard/preferences/subscriptions/