From mboxrd@z Thu Jan 1 00:00:00 1970 Return-Path: Received: from mails.dpdk.org (mails.dpdk.org [217.70.189.124]) by inbox.dpdk.org (Postfix) with ESMTP id D0C6646B1F for ; Mon, 7 Jul 2025 12:50:59 +0200 (CEST) Received: from mails.dpdk.org (localhost [127.0.0.1]) by mails.dpdk.org (Postfix) with ESMTP id C9A054025D; Mon, 7 Jul 2025 12:50:59 +0200 (CEST) Received: from mail-yb1-f228.google.com (mail-yb1-f228.google.com [209.85.219.228]) by mails.dpdk.org (Postfix) with ESMTP id 0B93B4025D for ; Mon, 7 Jul 2025 12:50:58 +0200 (CEST) Received: by mail-yb1-f228.google.com with SMTP id 3f1490d57ef6-e87c86845d9so2181771276.1 for ; Mon, 07 Jul 2025 03:50:57 -0700 (PDT) DKIM-Signature: v=1; a=rsa-sha256; c=relaxed/relaxed; d=iol.unh.edu; s=unh-iol; t=1751885457; x=1752490257; darn=dpdk.org; h=references:in-reply-to:cc:to:from:subject:message-id:date:from:to :cc:subject:date:message-id:reply-to; bh=vemIjayxHLfLHn68DTN56RUpryzEV0PSfJ+DCxET86k=; b=EPkP9mKBkeT1kJQKBGHX6yVWzMeD+nSdPSYrDLTul6k4oH1Rhzw6bQ33nm15AdjMPQ 5SJ4AP9hGLfPKRKXHU3uSDnZY/k36f+bhgiYafkd1mqEjAAzM7E524G8SqKcJKTWa3Yg HuO2dbQpHtWtGI//c5aJbqRplZMtvYaUYBqVM= X-Google-DKIM-Signature: v=1; a=rsa-sha256; c=relaxed/relaxed; d=1e100.net; s=20230601; t=1751885457; x=1752490257; h=references:in-reply-to:cc:to:from:subject:message-id:date :x-gm-message-state:from:to:cc:subject:date:message-id:reply-to; bh=vemIjayxHLfLHn68DTN56RUpryzEV0PSfJ+DCxET86k=; b=vbE4B2cTaL4X9d7Vt5LDEmZpQw8CR7rIWR4AUnbyIsKBx/WhtpffZwqw+/n6bRGyoN q48au7E4ADGqTsoCUErm4Gvy/x6CkMzYdqr1rKv0FT7oR3ToNpShtFO1wP3vu27qimLC v34TV0dzVJfgw0dO7qsX0c6vRVOQAUyUGrWy06Bbg6eIhtSHQ3oMqEQ5lGneq4QsrnMw +336Ua08LoZqb8iLk4yPzw6dR5dxC1OGWTYXqcc8aqlNdvlB8ci/KV7Sj6coebjazuoD tXz6mfnQ3hSnxeTjs80kK4V+0pIdZd2cAdRx/+9F0DjnXBt30RUrXb1FqAYXrPiOZpEk R/SA== X-Gm-Message-State: AOJu0YyIR3xvxx6+OoOIcRAW7lEJo5BS/KDqAuJdZWOZJ+lB5FidbyE3 JnZpZDe329BaU3lXKmt35SoT8cuX8pN3oOHiScmvXLX9flcaeFxnJekyPr3Wl4hyPgUrFIGTWqD u4kVfKD+bRg4RXW9Um90KpxKl8Fx+vf3tZbiiY3MWvojO X-Gm-Gg: ASbGncub/mavYQzYlZyJgP07qSkNLSnFAi9C8yelj1Eqx743V/iT71Bacjgo8pcQm/b Okm6CFj9stPgLqtkx2jx2S89s9IHNKB1/TRx5dBAL6qHH3yjibQV4/Xvj2lKnAR6EvSL897Sp+j QcZ3hMr5sp7hdw9Hkyad/iIFkRcYC8Na0xwi0PlK/OvDOy/RcQzwif0Ep1x9WUlUnevF24/JJD+ rmSbb28cAozMUF8vojCX4IKnwWVyslbG7drw7V+QwH34HeMWLqSX9Yqhe2y4DjGV42omJtKvxWn yB6hFo0cmp3+L8rCYGAITeWIgWmJ6fs1QyKu5SMyMW+Ho7uYYrqGkedto+9CL1F2sNWxGw== X-Google-Smtp-Source: AGHT+IEpubLAXt3pKpq6HhW50RNrT0vYdsSxDCOrPGBdkQPsUHi1GEaDWEfTHhMHljkoqXvQQ6fgE9e+56vf X-Received: by 2002:a05:6902:220a:b0:e89:8e73:9d59 with SMTP id 3f1490d57ef6-e8b3cdc0742mr7783038276.43.1751885457209; Mon, 07 Jul 2025 03:50:57 -0700 (PDT) Received: from postal.iol.unh.edu (postal.iol.unh.edu. [132.177.123.84]) by smtp-relay.gmail.com with ESMTPS id 3f1490d57ef6-e899c480c5bsm388582276.29.2025.07.07.03.50.57 (version=TLS1_2 cipher=ECDHE-ECDSA-AES128-GCM-SHA256 bits=128/128); Mon, 07 Jul 2025 03:50:57 -0700 (PDT) X-Relaying-Domain: iol.unh.edu Date: Mon, 07 Jul 2025 03:50:57 -0700 (PDT) Message-ID: <686ba691.250a0220.272cd3.4281SMTPIN_ADDED_MISSING@mx.google.com> Received: from [172.21.0.5] (unknown [172.18.0.240]) by postal.iol.unh.edu (Postfix) with ESMTP id D40A76051830; Mon, 7 Jul 2025 06:50:56 -0400 (EDT) Subject: |SUCCESS| pw155021-155026 [PATCH] [v1,6/6] net/zxdh: add support I51 From: dpdklab@iol.unh.edu To: Test Report Cc: dpdk-test-reports@iol.unh.edu In-Reply-To: <20250707055621.357606-6-wang.junlong1@zte.com.cn> References: <20250707055621.357606-6-wang.junlong1@zte.com.cn> Content-Type: text/plain X-BeenThere: test-report@dpdk.org X-Mailman-Version: 2.1.29 Precedence: list List-Id: automatic DPDK test reports List-Unsubscribe: , List-Archive: List-Post: List-Help: List-Subscribe: , Errors-To: test-report-bounces@dpdk.org Test-Label: iol-compile-arm64-testing Test-Status: SUCCESS http://dpdk.org/patch/155026 _Testing PASS_ Submitter: Junlong Wang Date: Monday, July 07 2025 05:56:21 DPDK git baseline: Repo:dpdk Branch: master CommitID:a288c0dee9221fd2acf4f079ef1b1ff04135aedd 155021-155026 --> testing pass Upstream job id: Generic-DPDK-Compile-Meson#406162 Test environment and result as below: +------------------------------+--------------------+ | Environment | dpdk_meson_compile | +==============================+====================+ | Red Hat Enterprise Linux 9.5 | PASS | +------------------------------+--------------------+ | Ubuntu 20.04 | PASS | +------------------------------+--------------------+ | Debian GNU/Linux 12 | PASS | +------------------------------+--------------------+ | Fedora Linux 40 | PASS | +------------------------------+--------------------+ | Fedora Linux 41 | PASS | +------------------------------+--------------------+ | Ubuntu 22.04 | PASS | +------------------------------+--------------------+ | Ubuntu 24.04 | PASS | +------------------------------+--------------------+ | CentOS Stream 9 | PASS | +------------------------------+--------------------+ | CentOS Stream 10 | PASS | +------------------------------+--------------------+ Red Hat Enterprise Linux 9.5 Kernel: 5.4 Compiler: gcc gcc (GCC) 11.5.0 20240719 (Red Hat 11.5.0-2) Ubuntu 20.04 Kernel: 5.15 Compiler: aarch64-linux-gnu-gcc gcc (Ubuntu 9.4.0-1ubuntu1~20.04.2) 9.4.0 Debian GNU/Linux 12 Kernel: 5.4 Compiler: gcc gcc (Debian 12.2.0-14+deb12u1) 12.2.0 Fedora Linux 40 Kernel: 5.4 Compiler: clang gcc (GCC) 14.2.1 20240912 (Red Hat 14.2.1-3) Fedora Linux 41 Kernel: 5.4 Compiler: gcc gcc (GCC) 14.3.1 20250523 (Red Hat 14.3.1-1) Ubuntu 22.04 Kernel: 5.4 Compiler: gcc gcc (Ubuntu 11.4.0-1ubuntu1~22.04) 11.4.0 Ubuntu 24.04 Kernel: 5.4 Compiler: gcc gcc (Ubuntu 13.3.0-6ubuntu2~24.04) 13.3.0 CentOS Stream 9 Kernel: 5.4 Compiler: gcc gcc (GCC) 11.5.0 20240719 (Red Hat 11.5.0-7) CentOS Stream 10 Kernel: 5.4 Compiler: gcc gcc (GCC) 14.2.1 20250110 (Red Hat 14.2.1-8) To view detailed results, visit: https://lab.dpdk.org/results/dashboard/patchsets/33601/ UNH-IOL DPDK Community Lab To manage your email subscriptions, visit: https://lab.dpdk.org/results/dashboard/preferences/subscriptions/