From mboxrd@z Thu Jan 1 00:00:00 1970 Return-Path: Received: from mails.dpdk.org (mails.dpdk.org [217.70.189.124]) by inbox.dpdk.org (Postfix) with ESMTP id 3CDBA46B1F for ; Mon, 7 Jul 2025 12:54:06 +0200 (CEST) Received: from mails.dpdk.org (localhost [127.0.0.1]) by mails.dpdk.org (Postfix) with ESMTP id 26BD84025D; Mon, 7 Jul 2025 12:54:06 +0200 (CEST) Received: from mail-io1-f100.google.com (mail-io1-f100.google.com [209.85.166.100]) by mails.dpdk.org (Postfix) with ESMTP id DAEDF4025D for ; Mon, 7 Jul 2025 12:54:04 +0200 (CEST) Received: by mail-io1-f100.google.com with SMTP id ca18e2360f4ac-875b52a09d1so87315239f.0 for ; Mon, 07 Jul 2025 03:54:04 -0700 (PDT) DKIM-Signature: v=1; a=rsa-sha256; c=relaxed/relaxed; d=iol.unh.edu; s=unh-iol; t=1751885644; x=1752490444; darn=dpdk.org; h=references:in-reply-to:cc:to:from:subject:message-id:date:from:to :cc:subject:date:message-id:reply-to; bh=iVj98X9WvX330dowqtfRoRx/0u24KV8B8kH0KJB0858=; b=ebjS2iTCTeVDCv4vK507ue9PxKy2+Cfus2Xjgsl39RCZU8aVH1HsX2XyCjFXn16x1e NUvvdBNnmFWbikTqtuG5yO/5pZBuu1lwcZhRfTKlwiJfnRcVfhDAQiz8zEvQGhV24Yto yRsGtdR9fzBOJNE2hqCmKBLWQ3lZMnm9r0mrk= X-Google-DKIM-Signature: v=1; a=rsa-sha256; c=relaxed/relaxed; d=1e100.net; s=20230601; t=1751885644; x=1752490444; h=references:in-reply-to:cc:to:from:subject:message-id:date :x-gm-message-state:from:to:cc:subject:date:message-id:reply-to; bh=iVj98X9WvX330dowqtfRoRx/0u24KV8B8kH0KJB0858=; b=oGEN/wlRmx9c3KD7lzb3tTYCp6YCRECFggurZpKrhHtLYdCypYDl5RHip2Wa0xHuzo pZvqBCu/LzF9mvf+KjyCyOK2k+Jg6Tarm7KS4Q4tXrKZCgeqxxrOuhPLwCWlIUJypQm/ z8oHx4njJBmOoDpJ8FXmgeENime+ZfsAty2IxvbK/EyktcuBQnCTE9P5+TRW4Gb9Mkbx n9ZIB8exiLLetDg+BIGBbS/5ff66AZaBXdH2VEjQUNZzqHr/6n4RBvwHC4p4KpKL7J5p 7p3xtbsUjPoA6xRiKdMzaYljT8E1W2pg8kRtneNhlnqHwfmA2IKoheWmPy2EVCWqjlfd tN9A== X-Gm-Message-State: AOJu0YwXuUWX9aiIVv5YduOweVRuWckeS/HSDPPLZgOKKMX5RXH3Hws/ JzpU8ZH5C0SAkXgV1qgiUX/UcP951hT64ZB9RfP2YbgIT23ytw1My+3qhEPK1aCQAK4SkbmriGr b0/6O0RRcpkFkppNVrB1ApR+WGIetg6vxURExOBaYMYkkZM4g9oV/KJDIFOhe X-Gm-Gg: ASbGncs5tpyiAxq8duOK7vcVWouvRE++gjIGc5W0pMRq2dP4/cfzqnvi+kkQ7PqAzV5 Ki1MxT43Xs+OzYd2tcZuFInO8RG1bTJWes7i2niLhqMz2FJ6CE5Kch1ldc33u98UVyThJreCUyU zvSBtOvl5MSTiLh/HdO+1s+tb6n4SoRjZxjDmBMzwrIEUBnE7Ha6XUeryUTCc+q704NbLCRfkBS Z2vCH6il53YUSpq+PikzwUo26JORqCex4UMv9ZF3ig6GlSTj6t/Q2jT47OyQ3KuSv193/N5AhPy sDKU7B6cWmTPeM2HtqCjP87xOHx4KzyrE02cYoaEO3K6x+k= X-Google-Smtp-Source: AGHT+IFRC6TDogD8VSJvzdx66mynXAhvGn9qsqIaiwpPVo8Hj0yMq23X9pCznXdPvYY4TN1YnSPVvfFnzNvo X-Received: by 2002:a05:6602:1503:b0:861:7237:9021 with SMTP id ca18e2360f4ac-876e4768f0amr1032388939f.3.1751885643259; Mon, 07 Jul 2025 03:54:03 -0700 (PDT) Received: from postal.iol.unh.edu (postal.iol.unh.edu. [2606:4100:3880:1234::84]) by smtp-relay.gmail.com with ESMTPS id 8926c6da1cb9f-503b5b7782fsm264031173.34.2025.07.07.03.54.03 (version=TLS1_2 cipher=ECDHE-ECDSA-AES128-GCM-SHA256 bits=128/128); Mon, 07 Jul 2025 03:54:03 -0700 (PDT) X-Relaying-Domain: iol.unh.edu Date: Mon, 07 Jul 2025 03:54:03 -0700 (PDT) Message-ID: <686ba74b.050a0220.2bc625.d721SMTPIN_ADDED_MISSING@mx.google.com> Received: from [172.21.0.5] (unknown [172.18.0.240]) by postal.iol.unh.edu (Postfix) with ESMTP id B79F66051830; Mon, 7 Jul 2025 06:54:02 -0400 (EDT) Subject: |SUCCESS| pw155021-155026 [PATCH] [v1,6/6] net/zxdh: add support I51 From: dpdklab@iol.unh.edu To: Test Report Cc: dpdk-test-reports@iol.unh.edu In-Reply-To: <20250707055621.357606-6-wang.junlong1@zte.com.cn> References: <20250707055621.357606-6-wang.junlong1@zte.com.cn> Content-Type: text/plain X-BeenThere: test-report@dpdk.org X-Mailman-Version: 2.1.29 Precedence: list List-Id: automatic DPDK test reports List-Unsubscribe: , List-Archive: List-Post: List-Help: List-Subscribe: , Errors-To: test-report-bounces@dpdk.org Test-Label: iol-compile-arm64-testing Test-Status: SUCCESS http://dpdk.org/patch/155026 _Testing PASS_ Submitter: Junlong Wang Date: Monday, July 07 2025 05:56:21 DPDK git baseline: Repo:dpdk Branch: master CommitID:a288c0dee9221fd2acf4f079ef1b1ff04135aedd 155021-155026 --> testing pass Upstream job id: Generic-DPDK-Compile-Meson#406156 Test environment and result as below: +------------------------------+--------------------+ | Environment | dpdk_meson_compile | +==============================+====================+ | Red Hat Enterprise Linux 9.5 | PASS | +------------------------------+--------------------+ | Ubuntu 20.04 | PASS | +------------------------------+--------------------+ | Debian GNU/Linux 12 | PASS | +------------------------------+--------------------+ | Fedora Linux 40 | PASS | +------------------------------+--------------------+ | Fedora Linux 41 | PASS | +------------------------------+--------------------+ | Ubuntu 22.04 | PASS | +------------------------------+--------------------+ | Ubuntu 24.04 | PASS | +------------------------------+--------------------+ | CentOS Stream 9 | PASS | +------------------------------+--------------------+ | CentOS Stream 10 | PASS | +------------------------------+--------------------+ Red Hat Enterprise Linux 9.5 Kernel: 5.4 Compiler: gcc gcc (GCC) 11.5.0 20240719 (Red Hat 11.5.0-2) Ubuntu 20.04 Kernel: 5.15 Compiler: aarch64-linux-gnu-gcc gcc (Ubuntu 9.4.0-1ubuntu1~20.04.2) 9.4.0 Debian GNU/Linux 12 Kernel: 5.4 Compiler: gcc gcc (Debian 12.2.0-14+deb12u1) 12.2.0 Fedora Linux 40 Kernel: 5.4 Compiler: clang gcc (GCC) 14.2.1 20240912 (Red Hat 14.2.1-3) Fedora Linux 41 Kernel: 5.4 Compiler: gcc gcc (GCC) 14.3.1 20250523 (Red Hat 14.3.1-1) Ubuntu 22.04 Kernel: 5.4 Compiler: gcc gcc (Ubuntu 11.4.0-1ubuntu1~22.04) 11.4.0 Ubuntu 24.04 Kernel: 5.4 Compiler: gcc gcc (Ubuntu 13.3.0-6ubuntu2~24.04) 13.3.0 CentOS Stream 9 Kernel: 5.4 Compiler: gcc gcc (GCC) 11.5.0 20240719 (Red Hat 11.5.0-7) CentOS Stream 10 Kernel: 5.4 Compiler: gcc gcc (GCC) 14.2.1 20250110 (Red Hat 14.2.1-8) To view detailed results, visit: https://lab.dpdk.org/results/dashboard/patchsets/33601/ UNH-IOL DPDK Community Lab To manage your email subscriptions, visit: https://lab.dpdk.org/results/dashboard/preferences/subscriptions/