From mboxrd@z Thu Jan 1 00:00:00 1970 Return-Path: Received: from mails.dpdk.org (mails.dpdk.org [217.70.189.124]) by inbox.dpdk.org (Postfix) with ESMTP id A43D346B1F for ; Mon, 7 Jul 2025 13:31:51 +0200 (CEST) Received: from mails.dpdk.org (localhost [127.0.0.1]) by mails.dpdk.org (Postfix) with ESMTP id 86C704025D; Mon, 7 Jul 2025 13:31:51 +0200 (CEST) Received: from mail-pl1-f225.google.com (mail-pl1-f225.google.com [209.85.214.225]) by mails.dpdk.org (Postfix) with ESMTP id D8D5A4025D for ; Mon, 7 Jul 2025 13:31:49 +0200 (CEST) Received: by mail-pl1-f225.google.com with SMTP id d9443c01a7336-235e1d710d8so38922135ad.1 for ; Mon, 07 Jul 2025 04:31:49 -0700 (PDT) DKIM-Signature: v=1; a=rsa-sha256; c=relaxed/relaxed; d=iol.unh.edu; s=unh-iol; t=1751887909; x=1752492709; darn=dpdk.org; h=references:in-reply-to:cc:to:from:subject:message-id:date:from:to :cc:subject:date:message-id:reply-to; bh=9XQSq724Pfk+Nj3ZEHVKrcJXT1jYoATaEkWAOZv6zNA=; b=cieDi/vMZ9kFB42goGHrzRjkir2R0CEDjWiBLCTpdfpPu6TZdS9HCijlG/8QUHx3t/ 3z//za43UuYPtiC+GDptkAZzMvxTWFNZ5LyMgYJPsKWccb3c/e0LxGYS4jfxpVmY0dZN W9vLm6ULQwbZ7eKkKjT2Efmhr9sAzzipynu4s= X-Google-DKIM-Signature: v=1; a=rsa-sha256; c=relaxed/relaxed; d=1e100.net; s=20230601; t=1751887909; x=1752492709; h=references:in-reply-to:cc:to:from:subject:message-id:date :x-gm-message-state:from:to:cc:subject:date:message-id:reply-to; bh=9XQSq724Pfk+Nj3ZEHVKrcJXT1jYoATaEkWAOZv6zNA=; b=qFW7F8lSROoQdIbf5sMw+5PGUHYKZT5/rBYB+UdiSyaCM/aeDogh+Q1d3scqoaVvQL xTa6hqkt898MWj8kTPdSa2cx/M1kIIrYMZH64x8bPneTd7lx7QrXxKmitqOWIuWjtaeS U1XDXPL0mcU+STaeUdM+V+z6PqsgKqV1ZlH16oWnQo86aoagAZfgH/Mh0fqNviTBzL9l MFT9yj3CrGaZ2kvmRmfI4gKgfIBr9fO1OA8XambVIzPLxEshNB88w1R9W/C6kzTgC/tE Om2kOobEIDsq4VmB44V3Qz55iOQ7/pcAyyQuXWm5CmfXAyAWF8HKNn/gNS6u1JdGGWxx OyfQ== X-Gm-Message-State: AOJu0Ywo3AfOqGrOW5YU6kRVeds+8wydZuqr4OnA9LCIGDjD4tO4A81g nc9r+1krJDBkrjgr0iAyCtYRuCf6jBglM1Jnxa01sQcZT3fvbWjcMP8lgmNbmb1B1n4JtmM4L2A kYq1y+LmoUFoSd7muNIHBsMrD5ZN6CPq4OvlRgN/Rm1WW X-Gm-Gg: ASbGnctO8SrcEFlUcTzj1F5bdQFiyK39yKTf4GDMNN2wIU6uCFifD67uD4P7XjsTSIb oldyQIZwYZbV7tgP1pL77W5byYd1GEVC5pm3JIqY1e03Usm0pzsWyfeTCsDROe/3W0DZOEqy7Ly jznPZrdDow44TR+VqjUkm+HAV4EAP3GVXrOWjtY9D6dU86Xj1UjOvTnIU1dY3paHgamxjzYvOmG 3xVnvrjlKgai1owg9Fta/uPm+vGltQ4Y5st92lZ5cXKnL8ptxVSt1F5o7PpE1F5nAJui3Lm+tYG qKTz588usKO71UpWd9gk7TzJy2xUbabK8uPWeCKWRiRjNhsiYl9r6cLojgCi1hX9B8NpvQ== X-Google-Smtp-Source: AGHT+IGRdaWkINr5KUiKRhiEL+DmBnNmGU4SfupSJr9iwWyGyhjx7Re4GreCPc/V8f/bgKwUg+uDHGXl6s/U X-Received: by 2002:a17:902:e5cd:b0:23c:863d:2989 with SMTP id d9443c01a7336-23c90f376d3mr111824995ad.3.1751887908848; Mon, 07 Jul 2025 04:31:48 -0700 (PDT) Received: from postal.iol.unh.edu (postal.iol.unh.edu. [132.177.123.84]) by smtp-relay.gmail.com with ESMTPS id d9443c01a7336-23c84508bbesm4064135ad.95.2025.07.07.04.31.48 (version=TLS1_2 cipher=ECDHE-ECDSA-AES128-GCM-SHA256 bits=128/128); Mon, 07 Jul 2025 04:31:48 -0700 (PDT) X-Relaying-Domain: iol.unh.edu Date: Mon, 07 Jul 2025 04:31:48 -0700 (PDT) Message-ID: <686bb024.170a0220.1b6e31.4b44SMTPIN_ADDED_MISSING@mx.google.com> Received: from [172.21.0.7] (unknown [172.18.0.240]) by postal.iol.unh.edu (Postfix) with ESMTP id 070BA6051830; Mon, 7 Jul 2025 07:31:48 -0400 (EDT) Subject: |WARNING| pw155027 [PATCH] [v2] mbuf: add new ptype for slow protoco From: dpdklab@iol.unh.edu To: Test Report Cc: dpdk-test-reports@iol.unh.edu In-Reply-To: <20250707075100.15034-1-kuka@cesnet.cz> References: <20250707075100.15034-1-kuka@cesnet.cz> Content-Type: text/plain X-BeenThere: test-report@dpdk.org X-Mailman-Version: 2.1.29 Precedence: list List-Id: automatic DPDK test reports List-Unsubscribe: , List-Archive: List-Post: List-Help: List-Subscribe: , Errors-To: test-report-bounces@dpdk.org Test-Label: iol-compile-amd64-testing Test-Status: WARNING http://dpdk.org/patch/155027 _Testing issues_ Submitter: Mario Kuka Date: Monday, July 07 2025 07:51:00 DPDK git baseline: Repo:dpdk Branch: master CommitID:70c2297528e7c7789af452f78de1932e9a20c8a2 155027 --> testing issues Upstream job id: Generic-DPDK-Compile-Meson#406171 Test environment and result as below: +-------------------------------+--------------------+-------------------+------------------+-------------------------+-------------------+----------------------+ | Environment | dpdk_meson_compile | dpdk_compile_spdk | dpdk_compile_ovs | dpdk_llvm_clang_compile | dpdk_msvc_compile | dpdk_mingw64_compile | +===============================+====================+===================+==================+=========================+===================+======================+ | CentOS Stream 10 | PASS | SKIPPED | SKIPPED | SKIPPED | SKIPPED | SKIPPED | +-------------------------------+--------------------+-------------------+------------------+-------------------------+-------------------+----------------------+ | Debian GNU/Linux 12 | PASS | PASS | SKIPPED | SKIPPED | SKIPPED | SKIPPED | +-------------------------------+--------------------+-------------------+------------------+-------------------------+-------------------+----------------------+ | Fedora Linux 41 | PASS | WARN | PASS | SKIPPED | SKIPPED | SKIPPED | +-------------------------------+--------------------+-------------------+------------------+-------------------------+-------------------+----------------------+ | openSUSE Leap 15.6 | PASS | SKIPPED | SKIPPED | SKIPPED | SKIPPED | SKIPPED | +-------------------------------+--------------------+-------------------+------------------+-------------------------+-------------------+----------------------+ | Fedora Linux 40 | PASS | WARN | SKIPPED | SKIPPED | SKIPPED | SKIPPED | +-------------------------------+--------------------+-------------------+------------------+-------------------------+-------------------+----------------------+ | Ubuntu 20.04 | PASS | SKIPPED | SKIPPED | SKIPPED | SKIPPED | SKIPPED | +-------------------------------+--------------------+-------------------+------------------+-------------------------+-------------------+----------------------+ | Red Hat Enterprise Linux 8.10 | PASS | SKIPPED | SKIPPED | SKIPPED | SKIPPED | SKIPPED | +-------------------------------+--------------------+-------------------+------------------+-------------------------+-------------------+----------------------+ | Alpine Linux 3.22.0 | PASS | SKIPPED | SKIPPED | SKIPPED | SKIPPED | SKIPPED | +-------------------------------+--------------------+-------------------+------------------+-------------------------+-------------------+----------------------+ | Red Hat Enterprise Linux 9.5 | PASS | SKIPPED | SKIPPED | SKIPPED | SKIPPED | SKIPPED | +-------------------------------+--------------------+-------------------+------------------+-------------------------+-------------------+----------------------+ | Ubuntu 24.04 | PASS | PASS | PASS | SKIPPED | SKIPPED | SKIPPED | +-------------------------------+--------------------+-------------------+------------------+-------------------------+-------------------+----------------------+ | Ubuntu 22.04 | PASS | PASS | SKIPPED | SKIPPED | SKIPPED | SKIPPED | +-------------------------------+--------------------+-------------------+------------------+-------------------------+-------------------+----------------------+ | CentOS Stream 9 | PASS | PASS | SKIPPED | SKIPPED | SKIPPED | SKIPPED | +-------------------------------+--------------------+-------------------+------------------+-------------------------+-------------------+----------------------+ | Windows Server 2022 | SKIPPED | SKIPPED | SKIPPED | PASS | PASS | PASS | +-------------------------------+--------------------+-------------------+------------------+-------------------------+-------------------+----------------------+ ==== 20 line log output for Fedora Linux 40 (dpdk_compile_spdk): ==== --- Failed to get log output --- ==== End log output ==== CentOS Stream 10 Kernel: 5.15 Compiler: gcc gcc (GCC) 14.2.1 20250110 (Red Hat 14.2.1-8) Debian GNU/Linux 12 Kernel: 5.15 Compiler: gcc gcc (Debian 12.2.0-14+deb12u1) 12.2.0 Fedora Linux 41 Kernel: 5.15 Compiler: gcc gcc (GCC) 14.3.1 20250523 (Red Hat 14.3.1-1) openSUSE Leap 15.6 Kernel: 5.15 Compiler: gcc gcc (SUSE Linux) 7.5.0 Fedora Linux 40 Kernel: 5.15 Compiler: gcc gcc (GCC) 14.2.1 20240912 (Red Hat 14.2.1-3) Ubuntu 20.04 Kernel: 5.15 Compiler: gcc gcc (Ubuntu 9.4.0-1ubuntu1~20.04.2) 9.4.0 Red Hat Enterprise Linux 8.10 Kernel: 5.15 Compiler: gcc gcc (GCC) 8.5.0 20210514 (Red Hat 8.5.0-22) Alpine Linux 3.22.0 Kernel: 5.15 Compiler: gcc gcc (Alpine 14.2.0) 14.2.0 Red Hat Enterprise Linux 9.5 Kernel: 5.15 Compiler: gcc gcc (GCC) 11.5.0 20240719 (Red Hat 11.5.0-2) Ubuntu 24.04 Kernel: 5.15 Compiler: gcc gcc (Ubuntu 13.3.0-6ubuntu2~24.04) 13.3.0 Ubuntu 22.04 Kernel: 5.15 Compiler: gcc gcc (Ubuntu 11.4.0-1ubuntu1~22.04) 11.4.0 CentOS Stream 9 Kernel: 5.15 Compiler: gcc gcc (GCC) 11.5.0 20240719 (Red Hat 11.5.0-7) Windows Server 2022 Kernel: 10.0.20348.2031 Compiler: clang 15.0.7, gcc 14.1.0 (MinGW), and MSVC VS 19.39.33521 To view detailed results, visit: https://lab.dpdk.org/results/dashboard/patchsets/33602/ UNH-IOL DPDK Community Lab To manage your email subscriptions, visit: https://lab.dpdk.org/results/dashboard/preferences/subscriptions/