From mboxrd@z Thu Jan 1 00:00:00 1970 Return-Path: Received: from mails.dpdk.org (mails.dpdk.org [217.70.189.124]) by inbox.dpdk.org (Postfix) with ESMTP id D536846B1B for ; Mon, 7 Jul 2025 14:24:01 +0200 (CEST) Received: from mails.dpdk.org (localhost [127.0.0.1]) by mails.dpdk.org (Postfix) with ESMTP id CF7204025D; Mon, 7 Jul 2025 14:24:01 +0200 (CEST) Received: from mail-pl1-f227.google.com (mail-pl1-f227.google.com [209.85.214.227]) by mails.dpdk.org (Postfix) with ESMTP id 6D5704025D for ; Mon, 7 Jul 2025 14:24:01 +0200 (CEST) Received: by mail-pl1-f227.google.com with SMTP id d9443c01a7336-234b440afa7so29374995ad.0 for ; Mon, 07 Jul 2025 05:24:01 -0700 (PDT) DKIM-Signature: v=1; a=rsa-sha256; c=relaxed/relaxed; d=iol.unh.edu; s=unh-iol; t=1751891040; x=1752495840; darn=dpdk.org; h=references:in-reply-to:cc:to:from:subject:message-id:date:from:to :cc:subject:date:message-id:reply-to; bh=kcwwn34y+Tmb4+73EODCgc9a6gluBTb2oBuUrOOE5No=; b=hZQZv1xFRCCl/cQ71P6iUuPOW5Mwv1H0uQzQ1MHlbXiFtQJ8nUmLmXaRr7sRxvqZPe UhRyt6B6jeRP4RkUvchVwRtBwileJEdugbR5fvJ7y6+cTO0g+bS6uTnMmMacUJichwfx GsI1KM0oLZxmN9pweiI/vt7ZMXtJspTk+nTAU= X-Google-DKIM-Signature: v=1; a=rsa-sha256; c=relaxed/relaxed; d=1e100.net; s=20230601; t=1751891040; x=1752495840; h=references:in-reply-to:cc:to:from:subject:message-id:date :x-gm-message-state:from:to:cc:subject:date:message-id:reply-to; bh=kcwwn34y+Tmb4+73EODCgc9a6gluBTb2oBuUrOOE5No=; b=rq4xwhrx82sZz6nr1BHcZHIVW3xewnOotPUskJ7lz4xEdNmGHF1jj8vrXD1VmKs3n2 zELygYVxfMf35HPPM7Z01dSauMfa60S09iD/JPMGqyWD5zmmEE/hDakOtaxAa9aU36It IH+HfKzpafzFNjZ3K2pRps+Ew9W5iGpE2aDHbph6VMg7OG2vLKHM62olJc7NynJ9kJfp ELCsS0mMG0kMWAfDbCld38koX1L9/YbDbh7JDzjZD5YtG+G185X/0E5kK1tX31r6SgE/ nu8QPRJNk+CD+AwrAfIlcGvwXfN83GZPYKUKvxi/PQychkT2CO/BGl47ABCj7SxkValL YHMg== X-Gm-Message-State: AOJu0Yw6lwFZ/lfdG645XMM+JGNOgH81OrmGRqlP51gZHj+W2rB8pJO3 ra9pnYFu4tl6rHSW5HK3W5ddc3YERlmnwmESlm/qb/jTDPhxA1itKrMFqBNnb6zHlxvQNdKQ7rC /o2SaB8SCMQKn4ta3C66CtxIHlKOvkU1mBpPsgVaZCDSxIT9EcA/gntQDeA3Q X-Gm-Gg: ASbGncvB/onjYeYVtk25wZYMvqA8fbQRchoJnfA+JAeUTMgbuJi9SJySjTlbr4AtR7v GOTnDZbVtPLQda8rAshCb9yBKyrQA85xOinL2N2GhU6MO27DkEXnNv5ocXxu9lc3sYk/6NXXbUC c1Hc8+RLY2SXwgMIHNKXth/6Ae/eY5EbtLyYHyRpK1ASsHqsXJop5bzpvV7Z1J/WC79J///IPe2 rd+WYR/uXaaJxPXx3wFCA0aq6ZpGGrIYZraOQIppKUt/GtuzERsJ5/cnKoqs8DLv8BWqkv/FEv0 +URN4GpNuoA9hXmbhhrGaAZ0xJRoHhkugr6tuqaGRecTyh8= X-Google-Smtp-Source: AGHT+IG+oXhv1ocKEVv69zitnwfE31v/xcxb9fPoZyGTcCv+L20Ddq1yrY7Eq/bLjDbKveNXzuSvfPLXxUf8 X-Received: by 2002:a17:902:e54a:b0:238:f2a:8893 with SMTP id d9443c01a7336-23c90fdb5acmr124951335ad.42.1751891040491; Mon, 07 Jul 2025 05:24:00 -0700 (PDT) Received: from postal.iol.unh.edu (postal.iol.unh.edu. [2606:4100:3880:1234::84]) by smtp-relay.gmail.com with ESMTPS id 41be03b00d2f7-b38ee51e3f4sm443162a12.27.2025.07.07.05.24.00 (version=TLS1_2 cipher=ECDHE-ECDSA-AES128-GCM-SHA256 bits=128/128); Mon, 07 Jul 2025 05:24:00 -0700 (PDT) X-Relaying-Domain: iol.unh.edu Date: Mon, 07 Jul 2025 05:24:00 -0700 (PDT) Message-ID: <686bbc60.630a0220.2be77e.777bSMTPIN_ADDED_MISSING@mx.google.com> Received: from [172.21.0.5] (unknown [172.18.0.240]) by postal.iol.unh.edu (Postfix) with ESMTP id B68206050A61; Mon, 7 Jul 2025 08:23:59 -0400 (EDT) Subject: |SUCCESS| pw155028 [PATCH] bus/auxiliary: fix auxiliary device port From: dpdklab@iol.unh.edu To: Test Report Cc: dpdk-test-reports@iol.unh.edu In-Reply-To: <20250707100648.354190-1-getelson@nvidia.com> References: <20250707100648.354190-1-getelson@nvidia.com> Content-Type: text/plain X-BeenThere: test-report@dpdk.org X-Mailman-Version: 2.1.29 Precedence: list List-Id: automatic DPDK test reports List-Unsubscribe: , List-Archive: List-Post: List-Help: List-Subscribe: , Errors-To: test-report-bounces@dpdk.org Test-Label: iol-abi-testing Test-Status: SUCCESS http://dpdk.org/patch/155028 _Testing PASS_ Submitter: Gregory Etelson Date: Monday, July 07 2025 10:06:48 DPDK git baseline: Repo:dpdk Branch: master CommitID:70c2297528e7c7789af452f78de1932e9a20c8a2 155028 --> testing pass Upstream job id: Generic-DPDK-Compile-ABI#133373 Test environment and result as below: +-------------------------------+----------+ | Environment | abi_test | +===============================+==========+ | CentOS Stream 9 | PASS | +-------------------------------+----------+ | CentOS Stream 10 | PASS | +-------------------------------+----------+ | Fedora Linux 41 | PASS | +-------------------------------+----------+ | Fedora Linux 40 | PASS | +-------------------------------+----------+ | openSUSE Leap 15.6 | PASS | +-------------------------------+----------+ | Red Hat Enterprise Linux 8.10 | PASS | +-------------------------------+----------+ | Red Hat Enterprise Linux 9.5 | PASS | +-------------------------------+----------+ | Ubuntu 22.04 | PASS | +-------------------------------+----------+ | Ubuntu 24.04 | PASS | +-------------------------------+----------+ | Debian GNU/Linux 12 | PASS | +-------------------------------+----------+ CentOS Stream 9 Kernel: 5.15 Compiler: gcc gcc (GCC) 11.5.0 20240719 (Red Hat 11.5.0-7) CentOS Stream 10 Kernel: 5.15 Compiler: gcc gcc (GCC) 14.2.1 20250110 (Red Hat 14.2.1-8) Fedora Linux 41 Kernel: 5.15 Compiler: gcc gcc (GCC) 14.3.1 20250523 (Red Hat 14.3.1-1) Fedora Linux 40 Kernel: 5.15 Compiler: gcc gcc (GCC) 14.2.1 20240912 (Red Hat 14.2.1-3) openSUSE Leap 15.6 Kernel: 5.15 Compiler: gcc gcc (SUSE Linux) 7.5.0 Red Hat Enterprise Linux 8.10 Kernel: 5.15 Compiler: gcc gcc (GCC) 8.5.0 20210514 (Red Hat 8.5.0-22) Red Hat Enterprise Linux 9.5 Kernel: 5.15 Compiler: gcc gcc (GCC) 11.5.0 20240719 (Red Hat 11.5.0-2) Ubuntu 22.04 Kernel: 5.15 Compiler: gcc gcc (Ubuntu 11.4.0-1ubuntu1~22.04) 11.4.0 Ubuntu 24.04 Kernel: 5.15 Compiler: gcc gcc (Ubuntu 13.3.0-6ubuntu2~24.04) 13.3.0 Debian GNU/Linux 12 Kernel: 5.15 Compiler: gcc gcc (Debian 12.2.0-14+deb12u1) 12.2.0 To view detailed results, visit: https://lab.dpdk.org/results/dashboard/patchsets/33603/ UNH-IOL DPDK Community Lab To manage your email subscriptions, visit: https://lab.dpdk.org/results/dashboard/preferences/subscriptions/