From mboxrd@z Thu Jan 1 00:00:00 1970 Return-Path: Received: from mails.dpdk.org (mails.dpdk.org [217.70.189.124]) by inbox.dpdk.org (Postfix) with ESMTP id 02F4346B1B for ; Mon, 7 Jul 2025 14:47:31 +0200 (CEST) Received: from mails.dpdk.org (localhost [127.0.0.1]) by mails.dpdk.org (Postfix) with ESMTP id F208D4025D; Mon, 7 Jul 2025 14:47:30 +0200 (CEST) Received: from mail-qt1-f226.google.com (mail-qt1-f226.google.com [209.85.160.226]) by mails.dpdk.org (Postfix) with ESMTP id 6D41B4025D for ; Mon, 7 Jul 2025 14:47:29 +0200 (CEST) Received: by mail-qt1-f226.google.com with SMTP id d75a77b69052e-4a9b09ba106so16711751cf.2 for ; Mon, 07 Jul 2025 05:47:29 -0700 (PDT) DKIM-Signature: v=1; a=rsa-sha256; c=relaxed/relaxed; d=iol.unh.edu; s=unh-iol; t=1751892449; x=1752497249; darn=dpdk.org; h=references:in-reply-to:cc:to:from:subject:message-id:date:from:to :cc:subject:date:message-id:reply-to; bh=MQM0WFKj9hcYA3R8M7iP5K9OQWK3ldWSSDO1rurtjkI=; b=I+Fonv+Xp7XiEp6CBd0aSMrcPgGbqil6PsPMVRaYqwMS/UD97cijNXOjUIPQb3I4vq nK0y8eMLiEB5yR2Qn5v3v1SucHyUnwpgHgcYkaw8Nf4oCCAQEduao+QtClH1F3vYUw2j DfNE9vA1aAI7Uh0B45UOJyeSH/Uplo6+L8t+0= X-Google-DKIM-Signature: v=1; a=rsa-sha256; c=relaxed/relaxed; d=1e100.net; s=20230601; t=1751892449; x=1752497249; h=references:in-reply-to:cc:to:from:subject:message-id:date :x-gm-message-state:from:to:cc:subject:date:message-id:reply-to; bh=MQM0WFKj9hcYA3R8M7iP5K9OQWK3ldWSSDO1rurtjkI=; b=vcPNu3VQ3yym5qyQ7kRVOSQRhBFT+WEPq6mZzE2py/2HDa434VsaZIWnSfTdfwofuG sKxfjni+n4grFWEyKO5x0+MEuO5PBcfdeJYW5QCaLvs9a7tRlDX9M6h+Oygxfi9A4tCN 2HsVbukowAOVj5tTBqw5WmLwxxvV7vVAE6qhrpLsUiNT8FFAwa7ZjyIM6HlHr43BAXjg cy7V3SJA27/eF1lyKeaJgsCpuX6vyIVFJECRSrrnaJx/B3d9nXC9NJd0vNg9afCSLhO3 J0/eEW/iTkDxDEJFtwuQK8YpzTxK05y6QZsSa8WbW1Ov5wfsYLYfv8XMKn+tmFNtbzCR HXSw== X-Gm-Message-State: AOJu0Yy0wq35/WPhFkkisaQzz/geBFh/BIzHlcpMSzTQkg1gd7AJ13Ih 1S2552tTOt48l27GFVls+wdaoSUE5tukzzIrVN7+azBNOIsvQHClOuJsdVYaxYWjkXSXqLA8CUQ OCr4io8UIJwXu+4YJijrCbUsCmh0hXzotNyDvbkygzvw2 X-Gm-Gg: ASbGncv75b0JyS8WjCqrT5Fh1QAzWazCNBfLHE4G95JKLQEdDT9fIK9orAzvRJcJ82M TMGe5DbhELVaCj6/xzTpgGIqBwfqbFbspn/nriUqx0kZAk5HdslLbwpwhyrLi8xSe/evERwn3Za +WjZEoIcv5JTZq94IXtXCaF67obHHd89McoucwTU1d37eqZmblln9u+lNUXWhDXN04VWKe5P7sV 1o8pV6LFmCtxYF+xgDpcZ8GV6kPeLAToJAas1wHIufnfKqIiHuJdV22SlvUEsYizthhGXtJ58DF MiAuSTWorIde3VN65pGl6QOS5qA+CnC3JhIxXjekI8Tcs5W5nkJBVN1DObSa05zE7B5wug== X-Google-Smtp-Source: AGHT+IE9F/FANspCAscbS9WmpU0JzO7Nsy7WAA/Mbk4qMGUG5iUfOQPj0ttDiZvJ10Zw+UXb9Rq/npo/bfSh X-Received: by 2002:a05:622a:5792:b0:4a7:693a:6ae4 with SMTP id d75a77b69052e-4a99650266fmr224412801cf.28.1751892448770; Mon, 07 Jul 2025 05:47:28 -0700 (PDT) Received: from postal.iol.unh.edu (postal.iol.unh.edu. [132.177.123.84]) by smtp-relay.gmail.com with ESMTPS id d75a77b69052e-4a9949e6935sm3693111cf.3.2025.07.07.05.47.28 (version=TLS1_2 cipher=ECDHE-ECDSA-AES128-GCM-SHA256 bits=128/128); Mon, 07 Jul 2025 05:47:28 -0700 (PDT) X-Relaying-Domain: iol.unh.edu Date: Mon, 07 Jul 2025 05:47:28 -0700 (PDT) Message-ID: <686bc1e0.050a0220.e91cd.2d59SMTPIN_ADDED_MISSING@mx.google.com> Received: from [172.21.0.5] (unknown [172.18.0.240]) by postal.iol.unh.edu (Postfix) with ESMTP id 7B480604D420; Mon, 7 Jul 2025 08:47:28 -0400 (EDT) Subject: |SUCCESS| pw155028 [PATCH] bus/auxiliary: fix auxiliary device port From: dpdklab@iol.unh.edu To: Test Report Cc: dpdk-test-reports@iol.unh.edu In-Reply-To: <20250707100648.354190-1-getelson@nvidia.com> References: <20250707100648.354190-1-getelson@nvidia.com> Content-Type: text/plain X-BeenThere: test-report@dpdk.org X-Mailman-Version: 2.1.29 Precedence: list List-Id: automatic DPDK test reports List-Unsubscribe: , List-Archive: List-Post: List-Help: List-Subscribe: , Errors-To: test-report-bounces@dpdk.org Test-Label: iol-unit-amd64-testing Test-Status: SUCCESS http://dpdk.org/patch/155028 _Testing PASS_ Submitter: Gregory Etelson Date: Monday, July 07 2025 10:06:48 DPDK git baseline: Repo:dpdk Branch: master CommitID:70c2297528e7c7789af452f78de1932e9a20c8a2 155028 --> testing pass Upstream job id: Generic-Unit-Test-DPDK#353273 Test environment and result as below: +-------------------------------+----------------+ | Environment | dpdk_unit_test | +===============================+================+ | CentOS Stream 10 | PASS | +-------------------------------+----------------+ | Debian GNU/Linux 12 | PASS | +-------------------------------+----------------+ | CentOS Stream 9 | PASS | +-------------------------------+----------------+ | Fedora Linux 41 | PASS | +-------------------------------+----------------+ | Fedora Linux 40 | PASS | +-------------------------------+----------------+ | Red Hat Enterprise Linux 8.10 | PASS | +-------------------------------+----------------+ | Ubuntu 22.04 | PASS | +-------------------------------+----------------+ | Red Hat Enterprise Linux 9.5 | PASS | +-------------------------------+----------------+ | Ubuntu 20.04 | PASS | +-------------------------------+----------------+ | Ubuntu 24.04 | PASS | +-------------------------------+----------------+ | Windows Server 2022 | PASS | +-------------------------------+----------------+ CentOS Stream 10 Kernel: 5.15 Compiler: gcc gcc (GCC) 14.2.1 20250110 (Red Hat 14.2.1-8) Debian GNU/Linux 12 Kernel: 5.15 Compiler: gcc gcc (Debian 12.2.0-14+deb12u1) 12.2.0 CentOS Stream 9 Kernel: 5.15 Compiler: gcc gcc (GCC) 11.5.0 20240719 (Red Hat 11.5.0-7) Fedora Linux 41 Kernel: 5.15 Compiler: clang gcc (GCC) 14.3.1 20250523 (Red Hat 14.3.1-1) Fedora Linux 40 Kernel: 5.15 Compiler: gcc gcc (GCC) 14.2.1 20240912 (Red Hat 14.2.1-3) Red Hat Enterprise Linux 8.10 Kernel: 5.15 Compiler: gcc gcc (GCC) 8.5.0 20210514 (Red Hat 8.5.0-22) Ubuntu 22.04 Kernel: 5.15 Compiler: gcc gcc (Ubuntu 11.4.0-1ubuntu1~22.04) 11.4.0 Red Hat Enterprise Linux 9.5 Kernel: 5.15 Compiler: gcc gcc (GCC) 11.5.0 20240719 (Red Hat 11.5.0-2) Ubuntu 20.04 Kernel: 5.15 Compiler: gcc gcc (Ubuntu 9.4.0-1ubuntu1~20.04.2) 9.4.0 Ubuntu 24.04 Kernel: 5.15 Compiler: gcc gcc (Ubuntu 13.3.0-6ubuntu2~24.04) 13.3.0 Windows Server 2022 Kernel: 10.0.20348.2031 Compiler: clang 15.0.7, gcc 14.1.0 (MinGW), and MSVC VS 19.39.33521 To view detailed results, visit: https://lab.dpdk.org/results/dashboard/patchsets/33603/ UNH-IOL DPDK Community Lab To manage your email subscriptions, visit: https://lab.dpdk.org/results/dashboard/preferences/subscriptions/