From mboxrd@z Thu Jan 1 00:00:00 1970 Return-Path: Received: from mails.dpdk.org (mails.dpdk.org [217.70.189.124]) by inbox.dpdk.org (Postfix) with ESMTP id 0CE9F46B1B for ; Mon, 7 Jul 2025 14:58:57 +0200 (CEST) Received: from mails.dpdk.org (localhost [127.0.0.1]) by mails.dpdk.org (Postfix) with ESMTP id DEB474025D; Mon, 7 Jul 2025 14:58:56 +0200 (CEST) Received: from mail-pl1-f227.google.com (mail-pl1-f227.google.com [209.85.214.227]) by mails.dpdk.org (Postfix) with ESMTP id D4BE94025D for ; Mon, 7 Jul 2025 14:58:55 +0200 (CEST) Received: by mail-pl1-f227.google.com with SMTP id d9443c01a7336-23602481460so30108615ad.0 for ; Mon, 07 Jul 2025 05:58:55 -0700 (PDT) DKIM-Signature: v=1; a=rsa-sha256; c=relaxed/relaxed; d=iol.unh.edu; s=unh-iol; t=1751893135; x=1752497935; darn=dpdk.org; h=references:in-reply-to:cc:to:from:subject:message-id:date:from:to :cc:subject:date:message-id:reply-to; bh=hMiLQsBVQ298+phC8F5ezjILqbtvCDxQ8LQlivHTjmg=; b=jkXMJ/dPsbN5ECEpmXIIXsHT2f2G0PjsGXQL7i5GRv5WlkpLXVeJMRlGR2Ax745KLo vUiU+cV5iS/yCnKk2pEEiBbUMl8nfzVUH0rlmQjxvuJBzQZ1cMCkn1E16ZIarA4xV6f1 q+k69ZZFdV0M4Sf0e3rc/wVF0ulqLOuktv8R8= X-Google-DKIM-Signature: v=1; a=rsa-sha256; c=relaxed/relaxed; d=1e100.net; s=20230601; t=1751893135; x=1752497935; h=references:in-reply-to:cc:to:from:subject:message-id:date :x-gm-message-state:from:to:cc:subject:date:message-id:reply-to; bh=hMiLQsBVQ298+phC8F5ezjILqbtvCDxQ8LQlivHTjmg=; b=tRjnOvLKvKZ4zSoUCKeIuPKAyt83OLFOP7HEvOSTg10U7opyOAozV8CIuEpgo194Ed pU0BZk4WN9spLy1zLdmj4aXpols1OteqIBUPh9CNSaRgGVY3emdSGmyT7XMmDTWLClbq rnWocneGciDsunvMCGySFg2jPWTiWbeT8fUpLAMpFtdwvS41P9JqOktSb4+sMGKvEDMU iu3RKTJ8o6bLrUzQQWmg6X3e/WvPtjgF9/Oozl6oMILodeDuMX/uz1mZaLzH+UUy55SL 9FfC3bxfDph7z3MVFZmBKK4eR99zUPreZ5RKA4qmsKgjfgAc+xJEJZNgD6mlsG/Nli7X 3ssQ== X-Gm-Message-State: AOJu0Yx7FeYYCNqjXWAFH0+2aHamqAGdThz5cKcPEZUpM/n2rysKmgA3 PoP1ZYVhvyyK98iuJCYI07gnfyuMxdofgGmBW3lt1Cg1zZDC7JaZMzvafE6zSDscy/OOZ6t3v1b NT61Z5qRigUWaxsW7uyKvqyrg1mjlFk12WpjZk4cXMLGd X-Gm-Gg: ASbGncukFNx9sKPkDXAHbmogYSE3igLX0mNsBj59fpt/NkG9VayNVRlIYgGIhymlAH3 4+EjMWNhuEulPibkWDqNIVlwdfo+UYF6nfNbkf215KV7rT06QTMmNfrgAt9piaM/R09laOkNLsL j/9RNISNpeOSIaGdK6cD/Qt1lm8vk0qRdxxJk5ieDNEz8Kq1I76CzCcnQmJeEpX/3v0v6pdnch+ gs5Xd4jw9z89aacjBsMpjHDJ+sC+Ri3Erh06G9h/+d6BT/lgtDAdhZWDeVX9O6ut+fU6hjwvpHX TO4BiAgJISmjx+xVDmU/IrcDkiu3t03gwJKADDvHAyVOdq4sL1eNtDSDsRoEm8oTkT5lNw== X-Google-Smtp-Source: AGHT+IGDcckk6fVV2m/ayJ4gO041gdBjm4EYviRf/ExHlBaITlQ6UpeRkf8KpGYy3uzi2PcrxxSdiRfp7HQF X-Received: by 2002:a17:903:1107:b0:234:a139:11ee with SMTP id d9443c01a7336-23c9107d2b6mr117303685ad.37.1751893134603; Mon, 07 Jul 2025 05:58:54 -0700 (PDT) Received: from postal.iol.unh.edu (postal.iol.unh.edu. [132.177.123.84]) by smtp-relay.gmail.com with ESMTPS id 98e67ed59e1d1-31a9cc64696sm455957a91.5.2025.07.07.05.58.54 (version=TLS1_2 cipher=ECDHE-ECDSA-AES128-GCM-SHA256 bits=128/128); Mon, 07 Jul 2025 05:58:54 -0700 (PDT) X-Relaying-Domain: iol.unh.edu Date: Mon, 07 Jul 2025 05:58:54 -0700 (PDT) Message-ID: <686bc48e.170a0220.16d436.7f4eSMTPIN_ADDED_MISSING@mx.google.com> Received: from [172.21.0.5] (unknown [172.18.0.240]) by postal.iol.unh.edu (Postfix) with ESMTP id C7018604D420; Mon, 7 Jul 2025 08:58:53 -0400 (EDT) Subject: |WARNING| pw155028 [PATCH] bus/auxiliary: fix auxiliary device port From: dpdklab@iol.unh.edu To: Test Report Cc: dpdk-test-reports@iol.unh.edu In-Reply-To: <20250707100648.354190-1-getelson@nvidia.com> References: <20250707100648.354190-1-getelson@nvidia.com> Content-Type: text/plain X-BeenThere: test-report@dpdk.org X-Mailman-Version: 2.1.29 Precedence: list List-Id: automatic DPDK test reports List-Unsubscribe: , List-Archive: List-Post: List-Help: List-Subscribe: , Errors-To: test-report-bounces@dpdk.org Test-Label: iol-compile-amd64-testing Test-Status: WARNING http://dpdk.org/patch/155028 _Testing issues_ Submitter: Gregory Etelson Date: Monday, July 07 2025 10:06:48 DPDK git baseline: Repo:dpdk Branch: master CommitID:70c2297528e7c7789af452f78de1932e9a20c8a2 155028 --> testing issues Upstream job id: Generic-DPDK-Compile-Meson#406231 Test environment and result as below: +-------------------------------+--------------------+-------------------+------------------+-------------------------+-------------------+----------------------+ | Environment | dpdk_meson_compile | dpdk_compile_spdk | dpdk_compile_ovs | dpdk_llvm_clang_compile | dpdk_msvc_compile | dpdk_mingw64_compile | +===============================+====================+===================+==================+=========================+===================+======================+ | CentOS Stream 10 | PASS | SKIPPED | SKIPPED | SKIPPED | SKIPPED | SKIPPED | +-------------------------------+--------------------+-------------------+------------------+-------------------------+-------------------+----------------------+ | CentOS Stream 9 | PASS | PASS | SKIPPED | SKIPPED | SKIPPED | SKIPPED | +-------------------------------+--------------------+-------------------+------------------+-------------------------+-------------------+----------------------+ | Fedora Linux 40 | PASS | WARN | SKIPPED | SKIPPED | SKIPPED | SKIPPED | +-------------------------------+--------------------+-------------------+------------------+-------------------------+-------------------+----------------------+ | Fedora Linux 41 | PASS | PASS | PASS | SKIPPED | SKIPPED | SKIPPED | +-------------------------------+--------------------+-------------------+------------------+-------------------------+-------------------+----------------------+ | Debian GNU/Linux 12 | PASS | PASS | SKIPPED | SKIPPED | SKIPPED | SKIPPED | +-------------------------------+--------------------+-------------------+------------------+-------------------------+-------------------+----------------------+ | openSUSE Leap 15.6 | PASS | SKIPPED | SKIPPED | SKIPPED | SKIPPED | SKIPPED | +-------------------------------+--------------------+-------------------+------------------+-------------------------+-------------------+----------------------+ | Red Hat Enterprise Linux 8.10 | PASS | SKIPPED | SKIPPED | SKIPPED | SKIPPED | SKIPPED | +-------------------------------+--------------------+-------------------+------------------+-------------------------+-------------------+----------------------+ | Ubuntu 20.04 | PASS | SKIPPED | SKIPPED | SKIPPED | SKIPPED | SKIPPED | +-------------------------------+--------------------+-------------------+------------------+-------------------------+-------------------+----------------------+ | Red Hat Enterprise Linux 9.5 | PASS | SKIPPED | SKIPPED | SKIPPED | SKIPPED | SKIPPED | +-------------------------------+--------------------+-------------------+------------------+-------------------------+-------------------+----------------------+ | Ubuntu 22.04 | PASS | PASS | SKIPPED | SKIPPED | SKIPPED | SKIPPED | +-------------------------------+--------------------+-------------------+------------------+-------------------------+-------------------+----------------------+ | Ubuntu 24.04 | PASS | PASS | PASS | SKIPPED | SKIPPED | SKIPPED | +-------------------------------+--------------------+-------------------+------------------+-------------------------+-------------------+----------------------+ | Alpine Linux 3.22.0 | PASS | SKIPPED | SKIPPED | SKIPPED | SKIPPED | SKIPPED | +-------------------------------+--------------------+-------------------+------------------+-------------------------+-------------------+----------------------+ | Windows Server 2022 | SKIPPED | SKIPPED | SKIPPED | PASS | PASS | PASS | +-------------------------------+--------------------+-------------------+------------------+-------------------------+-------------------+----------------------+ ==== 20 line log output for Fedora Linux 40 (dpdk_compile_spdk): ==== --- Failed to get log output --- ==== End log output ==== CentOS Stream 10 Kernel: 5.15 Compiler: gcc gcc (GCC) 14.2.1 20250110 (Red Hat 14.2.1-8) CentOS Stream 9 Kernel: 5.15 Compiler: gcc gcc (GCC) 11.5.0 20240719 (Red Hat 11.5.0-7) Fedora Linux 40 Kernel: 5.15 Compiler: gcc gcc (GCC) 14.2.1 20240912 (Red Hat 14.2.1-3) Fedora Linux 41 Kernel: 5.15 Compiler: clang gcc (GCC) 14.3.1 20250523 (Red Hat 14.3.1-1) Debian GNU/Linux 12 Kernel: 5.15 Compiler: gcc gcc (Debian 12.2.0-14+deb12u1) 12.2.0 openSUSE Leap 15.6 Kernel: 5.15 Compiler: gcc gcc (SUSE Linux) 7.5.0 Red Hat Enterprise Linux 8.10 Kernel: 5.15 Compiler: gcc gcc (GCC) 8.5.0 20210514 (Red Hat 8.5.0-22) Ubuntu 20.04 Kernel: 5.15 Compiler: gcc gcc (Ubuntu 9.4.0-1ubuntu1~20.04.2) 9.4.0 Red Hat Enterprise Linux 9.5 Kernel: 5.15 Compiler: gcc gcc (GCC) 11.5.0 20240719 (Red Hat 11.5.0-2) Ubuntu 22.04 Kernel: 5.15 Compiler: gcc gcc (Ubuntu 11.4.0-1ubuntu1~22.04) 11.4.0 Ubuntu 24.04 Kernel: 5.15 Compiler: gcc gcc (Ubuntu 13.3.0-6ubuntu2~24.04) 13.3.0 Alpine Linux 3.22.0 Kernel: 5.15 Compiler: gcc gcc (Alpine 14.2.0) 14.2.0 Windows Server 2022 Kernel: 10.0.20348.2031 Compiler: clang 15.0.7, gcc 14.1.0 (MinGW), and MSVC VS 19.39.33521 To view detailed results, visit: https://lab.dpdk.org/results/dashboard/patchsets/33603/ UNH-IOL DPDK Community Lab To manage your email subscriptions, visit: https://lab.dpdk.org/results/dashboard/preferences/subscriptions/