From mboxrd@z Thu Jan 1 00:00:00 1970 Return-Path: Received: from mails.dpdk.org (mails.dpdk.org [217.70.189.124]) by inbox.dpdk.org (Postfix) with ESMTP id 2B97646B1B for ; Mon, 7 Jul 2025 15:36:14 +0200 (CEST) Received: from mails.dpdk.org (localhost [127.0.0.1]) by mails.dpdk.org (Postfix) with ESMTP id 008144025D; Mon, 7 Jul 2025 15:36:14 +0200 (CEST) Received: from mail-yb1-f225.google.com (mail-yb1-f225.google.com [209.85.219.225]) by mails.dpdk.org (Postfix) with ESMTP id AFA984025D for ; Mon, 7 Jul 2025 15:36:12 +0200 (CEST) Received: by mail-yb1-f225.google.com with SMTP id 3f1490d57ef6-e81f8679957so2397488276.2 for ; Mon, 07 Jul 2025 06:36:12 -0700 (PDT) DKIM-Signature: v=1; a=rsa-sha256; c=relaxed/relaxed; d=iol.unh.edu; s=unh-iol; t=1751895372; x=1752500172; darn=dpdk.org; h=references:in-reply-to:cc:to:from:subject:message-id:date:from:to :cc:subject:date:message-id:reply-to; bh=UJzVjG8jRE16kGgpEGolAVrQKnjcSWMDXmK7/+sKRJ4=; b=NodtsfeQklsXdF7wYRp7JOuEd/1ATI69q8u0C8JnIhCHlvw59wo66oFkHWO6DDWYOT +ahNDlGRUKZUyqarCiFQTve0EyyB/tu8sSj025AUH23aJpt6URGbQZmq/Po6bVIdKYpR ZK7NHvS/dsQm3fghyUZHQh/l/ef4yzhCfeo3k= X-Google-DKIM-Signature: v=1; a=rsa-sha256; c=relaxed/relaxed; d=1e100.net; s=20230601; t=1751895372; x=1752500172; h=references:in-reply-to:cc:to:from:subject:message-id:date :x-gm-message-state:from:to:cc:subject:date:message-id:reply-to; bh=UJzVjG8jRE16kGgpEGolAVrQKnjcSWMDXmK7/+sKRJ4=; b=iO6XO3B+ABOXTb1i+KcLv1F0y03rt2/WWK4DcGvZZ8lc1Acbvom1UKRAdiOBfKSiF+ CCk2ka11mZyS3hHIKpo1z3A8slFTpfFm9Yd6+5MaCyoDt3JNmOTY2aN0coXXGXEi/PsG orPJwMTP3KaxeCM4KH9qaD056WLnfpNQcviQgnYy7jExkLgsuTZ9HywKrMO4KK0JlUpO TzLxUVe1NObOlNns2IJv3wBF3KHfdRxNGg17fXJZ0uqYFgl3tnv6tn8naIe6wlJ/XcXl GOG03RLzspmh1wGFrIgb7MR4UcuE6I6vu97prtfYhoesozsOigSo2gQ+jq12ogyS7nfn iWWg== X-Gm-Message-State: AOJu0YzDOfU4PTCzs5h+2dote5DzPT4badByWY9T5gHNxUmL4NK6fVGE mbA74Y2Le1Yn7oInTDV4ADYvm81MS0qhq8CXbvicAGuSn0m/LQUnvWABk/5hBQymyi7IcLRTCJu 4OQF8/gd8bUaCi1QVqtPUxdBEPFawvMbgm6xNh5cVblcB/YLT51NEnosolvCs X-Gm-Gg: ASbGncssrJJgZ1ZMCj8S0YZW7wH+SbK07TxbTp5fBvX0+BNDRtHhEo1393lyXFa6EqC icxpGARSRJ76xqF4QKeFtYSsezkZP2WiJrd/DdeptTBICtm+RgF6KqgALrQpXbBduuFNXWmVmto lNWkOXpMiuQ/emoSM/OlhLVm4MfnxZa0xxl+Xh+YafdPrw3y3aH1BxEbP5fQ+3THKz5WSKYqCmq DFl4iUmpCu1ZrRg+YG320Bq2oHolb3D4qde6Xyok8241I5yL2CpqxlPo3Nx1VQXtlBlNBVbaElP zQeF8D9Qq6lOvmj7ilRMhM5GLREcV+xGBgi2hFqoLBMLgVE= X-Google-Smtp-Source: AGHT+IFwJbOEbif3nO+bvO3rbpewzFG09pHkLq2mI0CG7x6gMVeP9tP9KhieavLT+UsjG9IqFIIQaJkLjUBg X-Received: by 2002:a05:6902:2210:b0:e85:1715:9389 with SMTP id 3f1490d57ef6-e89a0b23d99mr16134159276.18.1751895371929; Mon, 07 Jul 2025 06:36:11 -0700 (PDT) Received: from postal.iol.unh.edu (postal.iol.unh.edu. [2606:4100:3880:1234::84]) by smtp-relay.gmail.com with ESMTPS id 3f1490d57ef6-e899c480c76sm421275276.30.2025.07.07.06.36.11 (version=TLS1_2 cipher=ECDHE-ECDSA-AES128-GCM-SHA256 bits=128/128); Mon, 07 Jul 2025 06:36:11 -0700 (PDT) X-Relaying-Domain: iol.unh.edu Date: Mon, 07 Jul 2025 06:36:11 -0700 (PDT) Message-ID: <686bcd4b.250a0220.e028b.6f50SMTPIN_ADDED_MISSING@mx.google.com> Received: from [172.21.0.5] (unknown [172.18.0.240]) by postal.iol.unh.edu (Postfix) with ESMTP id 94C266050A61; Mon, 7 Jul 2025 09:36:11 -0400 (EDT) Subject: |SUCCESS| pw155028 [PATCH] bus/auxiliary: fix auxiliary device port From: dpdklab@iol.unh.edu To: Test Report Cc: dpdk-test-reports@iol.unh.edu In-Reply-To: <20250707100648.354190-1-getelson@nvidia.com> References: <20250707100648.354190-1-getelson@nvidia.com> Content-Type: text/plain X-BeenThere: test-report@dpdk.org X-Mailman-Version: 2.1.29 Precedence: list List-Id: automatic DPDK test reports List-Unsubscribe: , List-Archive: List-Post: List-Help: List-Subscribe: , Errors-To: test-report-bounces@dpdk.org Test-Label: iol-unit-arm64-testing Test-Status: SUCCESS http://dpdk.org/patch/155028 _Testing PASS_ Submitter: Gregory Etelson Date: Monday, July 07 2025 10:06:48 DPDK git baseline: Repo:dpdk Branch: master CommitID:70c2297528e7c7789af452f78de1932e9a20c8a2 155028 --> testing pass Upstream job id: Generic-Unit-Test-DPDK#353271 Test environment and result as below: +------------------------------+------------------------------+--------------+---------------------------+----------------+ | Environment | cryptodev_sw_snow3g_autotest | lpm_autotest | cryptodev_sw_zuc_autotest | dpdk_unit_test | +==============================+==============================+==============+===========================+================+ | Debian 12 (arm) | PASS | SKIPPED | PASS | SKIPPED | +------------------------------+------------------------------+--------------+---------------------------+----------------+ | Ubuntu 20.04 | SKIPPED | PASS | SKIPPED | PASS | +------------------------------+------------------------------+--------------+---------------------------+----------------+ | CentOS Stream 10 | SKIPPED | SKIPPED | SKIPPED | PASS | +------------------------------+------------------------------+--------------+---------------------------+----------------+ | CentOS Stream 9 | SKIPPED | SKIPPED | SKIPPED | PASS | +------------------------------+------------------------------+--------------+---------------------------+----------------+ | Fedora Linux 40 | SKIPPED | SKIPPED | SKIPPED | PASS | +------------------------------+------------------------------+--------------+---------------------------+----------------+ | Debian GNU/Linux 12 | SKIPPED | SKIPPED | SKIPPED | PASS | +------------------------------+------------------------------+--------------+---------------------------+----------------+ | Fedora Linux 41 | SKIPPED | SKIPPED | SKIPPED | PASS | +------------------------------+------------------------------+--------------+---------------------------+----------------+ | Red Hat Enterprise Linux 9.5 | SKIPPED | SKIPPED | SKIPPED | PASS | +------------------------------+------------------------------+--------------+---------------------------+----------------+ | Ubuntu 22.04 | SKIPPED | SKIPPED | SKIPPED | PASS | +------------------------------+------------------------------+--------------+---------------------------+----------------+ | Ubuntu 24.04 | SKIPPED | SKIPPED | SKIPPED | PASS | +------------------------------+------------------------------+--------------+---------------------------+----------------+ Debian 12 (arm) Kernel: Depends on container host Compiler: gcc (Debian 12.2.0-14) 12.2.0 Ubuntu 20.04 Kernel: 5.4 Compiler: gcc gcc (Ubuntu 9.4.0-1ubuntu1~20.04.2) 9.4.0 CentOS Stream 10 Kernel: 5.4 Compiler: gcc gcc (GCC) 14.2.1 20250110 (Red Hat 14.2.1-8) CentOS Stream 9 Kernel: 5.4 Compiler: gcc gcc (GCC) 11.5.0 20240719 (Red Hat 11.5.0-7) Fedora Linux 40 Kernel: 5.4 Compiler: gcc gcc (GCC) 14.2.1 20240912 (Red Hat 14.2.1-3) Debian GNU/Linux 12 Kernel: 5.4 Compiler: gcc gcc (Debian 12.2.0-14+deb12u1) 12.2.0 Fedora Linux 41 Kernel: 5.4 Compiler: gcc gcc (GCC) 14.3.1 20250523 (Red Hat 14.3.1-1) Red Hat Enterprise Linux 9.5 Kernel: 5.4 Compiler: gcc gcc (GCC) 11.5.0 20240719 (Red Hat 11.5.0-2) Ubuntu 22.04 Kernel: 5.4 Compiler: gcc gcc (Ubuntu 11.4.0-1ubuntu1~22.04) 11.4.0 Ubuntu 24.04 Kernel: 5.4 Compiler: gcc gcc (Ubuntu 13.3.0-6ubuntu2~24.04) 13.3.0 To view detailed results, visit: https://lab.dpdk.org/results/dashboard/patchsets/33603/ UNH-IOL DPDK Community Lab To manage your email subscriptions, visit: https://lab.dpdk.org/results/dashboard/preferences/subscriptions/