From mboxrd@z Thu Jan 1 00:00:00 1970 Return-Path: Received: from mails.dpdk.org (mails.dpdk.org [217.70.189.124]) by inbox.dpdk.org (Postfix) with ESMTP id 49CB546B1F for ; Mon, 7 Jul 2025 17:26:38 +0200 (CEST) Received: from mails.dpdk.org (localhost [127.0.0.1]) by mails.dpdk.org (Postfix) with ESMTP id 1CB7E4025D; Mon, 7 Jul 2025 17:26:38 +0200 (CEST) Received: from mail-yb1-f225.google.com (mail-yb1-f225.google.com [209.85.219.225]) by mails.dpdk.org (Postfix) with ESMTP id E727C4025D for ; Mon, 7 Jul 2025 17:26:36 +0200 (CEST) Received: by mail-yb1-f225.google.com with SMTP id 3f1490d57ef6-e7311e66a8eso2875431276.2 for ; Mon, 07 Jul 2025 08:26:36 -0700 (PDT) DKIM-Signature: v=1; a=rsa-sha256; c=relaxed/relaxed; d=iol.unh.edu; s=unh-iol; t=1751901996; x=1752506796; darn=dpdk.org; h=references:in-reply-to:cc:to:from:subject:message-id:date:from:to :cc:subject:date:message-id:reply-to; bh=gyVvPWgUx4akUZSm/tkPQsjlAk0PSFRbc+Dw8uPhi5I=; b=N7egM6nwzyyNtd9/rhbEQrWCEwvAahC2vtsUcx+xvvVzt25xpKUIGVhzfZAZDtSr2S 1FnGJB6vPXhyVPEUB6oeyhH2shGHm0KJ7sBPzQMFsNXTrwSaFcoW9xYAJ7KGLTZ6o+8u R6uszx/lay/+LTJaYnGainEHeqwItDX+ONA/s= X-Google-DKIM-Signature: v=1; a=rsa-sha256; c=relaxed/relaxed; d=1e100.net; s=20230601; t=1751901996; x=1752506796; h=references:in-reply-to:cc:to:from:subject:message-id:date :x-gm-message-state:from:to:cc:subject:date:message-id:reply-to; bh=gyVvPWgUx4akUZSm/tkPQsjlAk0PSFRbc+Dw8uPhi5I=; b=nEXO0qSySxztKrKoHw2F0G088JPGvMTbekpeRuoXkTtwgCud5YedrLkrNiIJHIvXoh e58/8zAozecJaBstJ2SG2VpJzFZNAYOPjZBO+KblOwMgcXW4j27LZ+XLDpEsppnXuLfZ ewAk1EMkVbYMGoL1lb/sW6X5WSg66jQKbseURSsYDEBxFGuVhffRIiwK8hO9yKlHpMvK 9SXJ/1Lc+zRPcALgBitYWFtw75meIRV1ChNRHrGjK5JO7NvEAgDGxnme51kJlT2gJt5+ Cjlgrt6UuDCcCkBnCVagGPhmAS/vTtRh/A1IJvq3hrUk78MggceWJSAMpgIwAYLhBvuZ g/hA== X-Gm-Message-State: AOJu0YxeGZDklHkMHnfIR9n+IMDkQBcoDBu7ymubdooG0IhDokVm59wv 9n4gS8Vf68yyKTgeGh4eeCutc79IgAfv6Jox0md/Ur9JV4kuYnyeMWmAPxh2gC7cb8XXp3y6Sca z4Xb863Zhc4uYPfXi8CLgWv14DeKeYlluCqhZc4FShc6lzTknUexTq47qH00L X-Gm-Gg: ASbGncu7f8oEqgtFaC7Xq+/M1fWt0d7rideBLpapjOmvI/BkhpNgZumeVXh7n3VKPXR 9lUDgE4kXWzXG6cFVNVxL2/WcWe3Q4a7+n3W1e/Y9L3u+FMBICrU8tvGtC4mnKaM7qwwIqgUp6j JfvGnTp438k1e0v1sa+pUyTwNPvQvrmQFqx6lIWfA99cHtEBOHrxDPy8ejOp6oZHeujIFWc4ogx Gxpuh7ooL/X47n6o6ifro0PQXaQEPTrSBcWaH5g1NYwiH7iTnNZZYYPappmhA+ufmfpKPZud/YI EqwK/tXNly83CgrUlobHRkPGscXe2xUDUGMTCc2hOHhac+A= X-Google-Smtp-Source: AGHT+IF8zF/wSEa7qnH0L+vJOy7oWmXeX16hoKKBwpAgzOWJgmvZU6abeBQo2QoFGDbhtGstbqoyuA36GhVN X-Received: by 2002:a05:6902:2b89:b0:e84:1ae0:daff with SMTP id 3f1490d57ef6-e89a0b1aed7mr14625273276.1.1751901996114; Mon, 07 Jul 2025 08:26:36 -0700 (PDT) Received: from postal.iol.unh.edu (postal.iol.unh.edu. [2606:4100:3880:1234::84]) by smtp-relay.gmail.com with ESMTPS id 3f1490d57ef6-e899c2f0f74sm204047276.9.2025.07.07.08.26.36 (version=TLS1_2 cipher=ECDHE-ECDSA-AES128-GCM-SHA256 bits=128/128); Mon, 07 Jul 2025 08:26:36 -0700 (PDT) X-Relaying-Domain: iol.unh.edu Date: Mon, 07 Jul 2025 08:26:36 -0700 (PDT) Message-ID: <686be72c.050a0220.2b15ad.a0efSMTPIN_ADDED_MISSING@mx.google.com> Received: from [172.21.0.5] (unknown [172.18.0.240]) by postal.iol.unh.edu (Postfix) with ESMTP id D258E604D420; Mon, 7 Jul 2025 11:26:35 -0400 (EDT) Subject: |SUCCESS| pw155027 [PATCH] [v2] mbuf: add new ptype for slow protoco From: dpdklab@iol.unh.edu To: Test Report Cc: dpdk-test-reports@iol.unh.edu In-Reply-To: <20250707075100.15034-1-kuka@cesnet.cz> References: <20250707075100.15034-1-kuka@cesnet.cz> Content-Type: text/plain X-BeenThere: test-report@dpdk.org X-Mailman-Version: 2.1.29 Precedence: list List-Id: automatic DPDK test reports List-Unsubscribe: , List-Archive: List-Post: List-Help: List-Subscribe: , Errors-To: test-report-bounces@dpdk.org Test-Label: iol-compile-arm64-testing Test-Status: SUCCESS http://dpdk.org/patch/155027 _Testing PASS_ Submitter: Mario Kuka Date: Monday, July 07 2025 07:51:00 DPDK git baseline: Repo:dpdk Branch: master CommitID:70c2297528e7c7789af452f78de1932e9a20c8a2 155027 --> testing pass Upstream job id: Generic-DPDK-Compile-Meson#406198 Test environment and result as below: +------------------------------+--------------------+ | Environment | dpdk_meson_compile | +==============================+====================+ | Ubuntu 20.04 | PASS | +------------------------------+--------------------+ | Red Hat Enterprise Linux 9.5 | PASS | +------------------------------+--------------------+ | Fedora Linux 40 | PASS | +------------------------------+--------------------+ | Fedora Linux 41 | PASS | +------------------------------+--------------------+ | Ubuntu 22.04 | PASS | +------------------------------+--------------------+ | CentOS Stream 9 | PASS | +------------------------------+--------------------+ | CentOS Stream 10 | PASS | +------------------------------+--------------------+ | Debian GNU/Linux 12 | PASS | +------------------------------+--------------------+ | Ubuntu 24.04 | PASS | +------------------------------+--------------------+ Ubuntu 20.04 Kernel: 5.15 Compiler: aarch64-linux-gnu-gcc gcc (Ubuntu 9.4.0-1ubuntu1~20.04.2) 9.4.0 Red Hat Enterprise Linux 9.5 Kernel: 5.4 Compiler: gcc gcc (GCC) 11.5.0 20240719 (Red Hat 11.5.0-2) Fedora Linux 40 Kernel: 5.4 Compiler: gcc gcc (GCC) 14.2.1 20240912 (Red Hat 14.2.1-3) Fedora Linux 41 Kernel: 5.4 Compiler: gcc gcc (GCC) 14.3.1 20250523 (Red Hat 14.3.1-1) Ubuntu 22.04 Kernel: 5.4 Compiler: gcc gcc (Ubuntu 11.4.0-1ubuntu1~22.04) 11.4.0 CentOS Stream 9 Kernel: 5.4 Compiler: gcc gcc (GCC) 11.5.0 20240719 (Red Hat 11.5.0-7) CentOS Stream 10 Kernel: 5.4 Compiler: gcc gcc (GCC) 14.2.1 20250110 (Red Hat 14.2.1-8) Debian GNU/Linux 12 Kernel: 5.4 Compiler: gcc gcc (Debian 12.2.0-14+deb12u1) 12.2.0 Ubuntu 24.04 Kernel: 5.4 Compiler: gcc gcc (Ubuntu 13.3.0-6ubuntu2~24.04) 13.3.0 To view detailed results, visit: https://lab.dpdk.org/results/dashboard/patchsets/33602/ UNH-IOL DPDK Community Lab To manage your email subscriptions, visit: https://lab.dpdk.org/results/dashboard/preferences/subscriptions/