From mboxrd@z Thu Jan 1 00:00:00 1970 Return-Path: Received: from mails.dpdk.org (mails.dpdk.org [217.70.189.124]) by inbox.dpdk.org (Postfix) with ESMTP id 5E98846AD4 for ; Mon, 7 Jul 2025 18:57:48 +0200 (CEST) Received: from mails.dpdk.org (localhost [127.0.0.1]) by mails.dpdk.org (Postfix) with ESMTP id 3D9684025D; Mon, 7 Jul 2025 18:57:48 +0200 (CEST) Received: from mail-pl1-f225.google.com (mail-pl1-f225.google.com [209.85.214.225]) by mails.dpdk.org (Postfix) with ESMTP id 1FD004025D for ; Mon, 7 Jul 2025 18:57:47 +0200 (CEST) Received: by mail-pl1-f225.google.com with SMTP id d9443c01a7336-235ea292956so29825285ad.1 for ; Mon, 07 Jul 2025 09:57:47 -0700 (PDT) DKIM-Signature: v=1; a=rsa-sha256; c=relaxed/relaxed; d=iol.unh.edu; s=unh-iol; t=1751907466; x=1752512266; darn=dpdk.org; h=references:in-reply-to:cc:to:from:subject:message-id:date:from:to :cc:subject:date:message-id:reply-to; bh=frQ02lGWYE14nyzicHfltjyXh6tnyDGwf94fDfgjgh0=; b=ViIEq1WR3CvBqbDEM1VTZgZvolDg75yeXzIQboCiIHsOOMaT146A/mqx1radzidFLj USgn6GquMfffNF414vRB1ot9dJkRY1fmK5Nczcb/BjQzxfQxMucCamEC2hBTpxrWl/dQ 2/hEqQ90vKw3NFqiEBck0dy79qY51NYGUd9pM= X-Google-DKIM-Signature: v=1; a=rsa-sha256; c=relaxed/relaxed; d=1e100.net; s=20230601; t=1751907466; x=1752512266; h=references:in-reply-to:cc:to:from:subject:message-id:date :x-gm-message-state:from:to:cc:subject:date:message-id:reply-to; bh=frQ02lGWYE14nyzicHfltjyXh6tnyDGwf94fDfgjgh0=; b=fR7Uc2qqp4fZ5hv2YcErGZedCYbWy6p3tiW+LrjgyDbpxKSLzWL+evbJrbNxuVY4yC 3IwDwPCZhmEY/xPm2jx9wXonh+3/zzyNnCYsNOCCtXZERtuaEXsRMhm3mdkwi2EvyAhf p9cOk1XqwpJ/eCdjjLuVAkYchrbrfTQy5H/qwerevuyIBuNbaVf6v/3DCV78rxXT3b36 gpNDILRkhVsdUcqeAoxGpdqQN+oK8fOnISzWz0X5Luc+gEDP9PurJM4VgCwg+bnICtLR MZLRDA66/CMNj9/iaGP8RCJM4+/vSfAMGtbXfZHnz/iuLn7eepdk3tcOJd4HGA1EtNXX dObA== X-Gm-Message-State: AOJu0YxmSgiBa3T1KE6RznYYKBUUkd19URAY30hpKDeD5jrHft0BMXfA Rc/orEDH3n+wST3f+wIUPuVrren5BY4GROZWVZC8N4+kiZL1NkRMDunZJtgL7kLjw3TYE5cJ5Kj 3FG4Qpl06vtBtABs7HGrk8QZf+VDrsTfBDB2YB6tlp7dzw1p2PRSmee5o016r X-Gm-Gg: ASbGncsgcEoxFvg41IRLwlXKx6dReSTQR4gEBu+L/bLo9ZxqGoUikAU3qwwH2W8u99K fuysxNnheJcIyGD6xu3ZZvCJnTtnTLf8DSw2Y4NNQfaOnuPWClUDQHP+1TK4jVYzDq176Vyzhx/ Ec+aOF7dSaeeLCB3EOgfPd19gkc0LOLa1oyyRpTKlRW7qSIySe17rjb9A1aDiY+Uqr7z0CiU9J/ KdGrkE/rIzN352J4w2KrhWmuUFwZifV76IX6yAyRsJRnGSk3WO7olRHH/Cv39jtCetkWQeAw5Ta N8y8KZ3hETmWz1pPQzwIOScxWM8QmA6dDjeZFmSAjx3709M= X-Google-Smtp-Source: AGHT+IEG0F1gXcTAvpek1shc/TPsOPztkFk/oCF1kar7/BhWmKPOmmj3EKWccrvoxL2sZ4GbBY5c3/n2vdIl X-Received: by 2002:a17:902:cf05:b0:234:b131:15a with SMTP id d9443c01a7336-23c87466027mr224088475ad.4.1751907466205; Mon, 07 Jul 2025 09:57:46 -0700 (PDT) Received: from postal.iol.unh.edu (postal.iol.unh.edu. [2606:4100:3880:1234::84]) by smtp-relay.gmail.com with ESMTPS id d9443c01a7336-23c84519f7dsm4349965ad.122.2025.07.07.09.57.46 (version=TLS1_2 cipher=ECDHE-ECDSA-AES128-GCM-SHA256 bits=128/128); Mon, 07 Jul 2025 09:57:46 -0700 (PDT) X-Relaying-Domain: iol.unh.edu Date: Mon, 07 Jul 2025 09:57:46 -0700 (PDT) Message-ID: <686bfc8a.170a0220.26b579.612dSMTPIN_ADDED_MISSING@mx.google.com> Received: from [172.21.0.5] (unknown [172.18.0.240]) by postal.iol.unh.edu (Postfix) with ESMTP id A8D38604D420; Mon, 7 Jul 2025 12:57:45 -0400 (EDT) Subject: |SUCCESS| pw155028 [PATCH] bus/auxiliary: fix auxiliary device port From: dpdklab@iol.unh.edu To: Test Report Cc: dpdk-test-reports@iol.unh.edu In-Reply-To: <20250707100648.354190-1-getelson@nvidia.com> References: <20250707100648.354190-1-getelson@nvidia.com> Content-Type: text/plain X-BeenThere: test-report@dpdk.org X-Mailman-Version: 2.1.29 Precedence: list List-Id: automatic DPDK test reports List-Unsubscribe: , List-Archive: List-Post: List-Help: List-Subscribe: , Errors-To: test-report-bounces@dpdk.org Test-Label: iol-compile-arm64-testing Test-Status: SUCCESS http://dpdk.org/patch/155028 _Testing PASS_ Submitter: Gregory Etelson Date: Monday, July 07 2025 10:06:48 DPDK git baseline: Repo:dpdk Branch: master CommitID:70c2297528e7c7789af452f78de1932e9a20c8a2 155028 --> testing pass Upstream job id: Generic-DPDK-Compile-Meson#406212 Test environment and result as below: +------------------------------+--------------------+ | Environment | dpdk_meson_compile | +==============================+====================+ | Red Hat Enterprise Linux 9.5 | PASS | +------------------------------+--------------------+ | Ubuntu 20.04 | PASS | +------------------------------+--------------------+ | Fedora Linux 40 | PASS | +------------------------------+--------------------+ | Debian GNU/Linux 12 | PASS | +------------------------------+--------------------+ | Fedora Linux 41 | PASS | +------------------------------+--------------------+ | Ubuntu 22.04 | PASS | +------------------------------+--------------------+ | Ubuntu 24.04 | PASS | +------------------------------+--------------------+ | CentOS Stream 9 | PASS | +------------------------------+--------------------+ | CentOS Stream 10 | PASS | +------------------------------+--------------------+ Red Hat Enterprise Linux 9.5 Kernel: 5.4 Compiler: gcc gcc (GCC) 11.5.0 20240719 (Red Hat 11.5.0-2) Ubuntu 20.04 Kernel: 5.15 Compiler: aarch64-linux-gnu-gcc gcc (Ubuntu 9.4.0-1ubuntu1~20.04.2) 9.4.0 Fedora Linux 40 Kernel: 5.4 Compiler: gcc gcc (GCC) 14.2.1 20240912 (Red Hat 14.2.1-3) Debian GNU/Linux 12 Kernel: 5.4 Compiler: gcc gcc (Debian 12.2.0-14+deb12u1) 12.2.0 Fedora Linux 41 Kernel: 5.4 Compiler: gcc gcc (GCC) 14.3.1 20250523 (Red Hat 14.3.1-1) Ubuntu 22.04 Kernel: 5.4 Compiler: gcc gcc (Ubuntu 11.4.0-1ubuntu1~22.04) 11.4.0 Ubuntu 24.04 Kernel: 5.4 Compiler: gcc gcc (Ubuntu 13.3.0-6ubuntu2~24.04) 13.3.0 CentOS Stream 9 Kernel: 5.4 Compiler: gcc gcc (GCC) 11.5.0 20240719 (Red Hat 11.5.0-7) CentOS Stream 10 Kernel: 5.4 Compiler: gcc gcc (GCC) 14.2.1 20250110 (Red Hat 14.2.1-8) To view detailed results, visit: https://lab.dpdk.org/results/dashboard/patchsets/33603/ UNH-IOL DPDK Community Lab To manage your email subscriptions, visit: https://lab.dpdk.org/results/dashboard/preferences/subscriptions/