From mboxrd@z Thu Jan 1 00:00:00 1970 Return-Path: Received: from mails.dpdk.org (mails.dpdk.org [217.70.189.124]) by inbox.dpdk.org (Postfix) with ESMTP id 1DAD546B1F for ; Tue, 8 Jul 2025 02:35:09 +0200 (CEST) Received: from mails.dpdk.org (localhost [127.0.0.1]) by mails.dpdk.org (Postfix) with ESMTP id EEDA240287; Tue, 8 Jul 2025 02:35:08 +0200 (CEST) Received: from mail-qv1-f98.google.com (mail-qv1-f98.google.com [209.85.219.98]) by mails.dpdk.org (Postfix) with ESMTP id E48A340287 for ; Tue, 8 Jul 2025 02:35:07 +0200 (CEST) Received: by mail-qv1-f98.google.com with SMTP id 6a1803df08f44-6fafb6899c2so41639796d6.0 for ; Mon, 07 Jul 2025 17:35:07 -0700 (PDT) DKIM-Signature: v=1; a=rsa-sha256; c=relaxed/relaxed; d=iol.unh.edu; s=unh-iol; t=1751934907; x=1752539707; darn=dpdk.org; h=references:in-reply-to:cc:to:from:subject:message-id:date:from:to :cc:subject:date:message-id:reply-to; bh=SrA8Yl4x4VTFjRuoRFqusFV2ZtVUcHEdrHqALLVJXMk=; b=jRD8fbuxC2uMnY9/iMR4Sr+Sf7Ur8PA5dOWmDHIHnlgh2L7VbjvH44NVGQGmOEBIyF XUR7wkM8tDbmXSgdLe49hekg9HNd1xW6c5rMAppIw2peMyr3rpeuBze0LxXA0dF9TMgx UJIcXS1WhxKDhRuDFxmJMY/5mDfzbw9YeVTR8= X-Google-DKIM-Signature: v=1; a=rsa-sha256; c=relaxed/relaxed; d=1e100.net; s=20230601; t=1751934907; x=1752539707; h=references:in-reply-to:cc:to:from:subject:message-id:date :x-gm-message-state:from:to:cc:subject:date:message-id:reply-to; bh=SrA8Yl4x4VTFjRuoRFqusFV2ZtVUcHEdrHqALLVJXMk=; b=E0YWsaXQWBUpQPECQGkQe0AsDI+obixJkOL+uaEXU0PmsVgfaJ2dwQKvWll/sBoo/D sKmyHHEQnXByOwATeF3lr/PPQxlPXh4MPVpwmIEaYXrKGrnCbT5/wYixDDp8OJaCxWDe i5EsRpDQFSBNlOmdLU2FZ4yMwb5Ai5YjZUybE1w+0BD5T6RUauvrCAwxsxf7XV/aJJYo m1mM8hfyOM7mMfhRxweK/O8B06ETNHA3NKuS/SDHz4ShT7JxWcUwt7Jn+3uOyky/8TKO ffXppebQGykKg5tfGu+W2G8ChUzqxIK9Pie5D5uKhcpPYGnqK5Ma83u9ZF+8ek/BYPD8 XBRg== X-Gm-Message-State: AOJu0YwmQHCSXM/0W/1oVY/NGn8KD+860Un28PPKK6TlUnSPs57HdIRA t3cYBbhQXoAyfjNAl3hEShva5mWW5i4ZrNWjSr0DKOMa6uztSOk8c4ub9uPBxJbP2s+tRt90Nlp omfWtOEXB5hBvNoU1+y9gO7SfDZI28g1oWrwV3peT968XDIHjsWbpB6f83U/w X-Gm-Gg: ASbGnct7BNrJFGsvFJVwxvwAGgCuzdzVMFVBTb6mW+GQGugs3ki5j1OMBVHxuPT+bty WbWTmvZNYGfEtWoSfTKbrBqoW2hWsuRk5NJN1MULmbSkvF1aj5YoTU/hCDJmPEeOe4G0dmiXGWD I5auUvjIXFZNMA5epzQG74DIsa4y/wjLzFDrqLrZkbTUDdlZP5st2qwpuIBEfgeFoLphjE1Ym2D dzgO1BQkeHmsrzxpw8YXiZ2Be17cRHkIogO4i6mw6+MGtjUv51yg5rwsqkCIrNPkQVdzIHVs1XQ uFUfi4A7SPq4SO0pb8jNt1iHpoYFJrO9f6HZdALYrkNLLFE= X-Google-Smtp-Source: AGHT+IFeeToX1pMdNeVJbZ3NnLNCIIG0Gj5ASTUYdiHLVXfgAAJKxoqsmM6XB8fBjwSjwTC8eMwpEGHcqLIm X-Received: by 2002:a05:6214:2b8b:b0:704:7ff4:f8d7 with SMTP id 6a1803df08f44-7047ff4fb8amr1619326d6.13.1751934907173; Mon, 07 Jul 2025 17:35:07 -0700 (PDT) Received: from postal.iol.unh.edu (postal.iol.unh.edu. [2606:4100:3880:1234::84]) by smtp-relay.gmail.com with ESMTPS id 6a1803df08f44-702c4d33a64sm5017586d6.33.2025.07.07.17.35.07 (version=TLS1_2 cipher=ECDHE-ECDSA-AES128-GCM-SHA256 bits=128/128); Mon, 07 Jul 2025 17:35:07 -0700 (PDT) X-Relaying-Domain: iol.unh.edu Date: Mon, 07 Jul 2025 17:35:07 -0700 (PDT) Message-ID: <686c67bb.050a0220.17b52a.96ebSMTPIN_ADDED_MISSING@mx.google.com> Received: from [172.21.0.5] (unknown [172.18.0.240]) by postal.iol.unh.edu (Postfix) with ESMTP id E0A696051830; Mon, 7 Jul 2025 20:35:06 -0400 (EDT) Subject: |SUCCESS| pw155046-155052 [PATCH] [7/7] net/gve: clear DQO Tx descri From: dpdklab@iol.unh.edu To: Test Report Cc: dpdk-test-reports@iol.unh.edu In-Reply-To: <20250707231812.1937260-8-joshwash@google.com> References: <20250707231812.1937260-8-joshwash@google.com> Content-Type: text/plain X-BeenThere: test-report@dpdk.org X-Mailman-Version: 2.1.29 Precedence: list List-Id: automatic DPDK test reports List-Unsubscribe: , List-Archive: List-Post: List-Help: List-Subscribe: , Errors-To: test-report-bounces@dpdk.org Test-Label: iol-unit-amd64-testing Test-Status: SUCCESS http://dpdk.org/patch/155052 _Testing PASS_ Submitter: Joshua Washington Date: Monday, July 07 2025 23:18:11 DPDK git baseline: Repo:dpdk Branch: master CommitID:ba982f9a1ca9b96ed0394b764f1523d482e963a2 155046-155052 --> testing pass Upstream job id: Generic-VM-Unit-Test-DPDK#29777 Test environment and result as below: +-------------------------------+----------------+ | Environment | dpdk_unit_test | +===============================+================+ | CentOS Stream 9 | PASS | +-------------------------------+----------------+ | CentOS Stream 10 | PASS | +-------------------------------+----------------+ | Debian GNU/Linux 12 | PASS | +-------------------------------+----------------+ | Red Hat Enterprise Linux 9.5 | PASS | +-------------------------------+----------------+ | Fedora Linux 40 | PASS | +-------------------------------+----------------+ | Red Hat Enterprise Linux 8.10 | PASS | +-------------------------------+----------------+ | Fedora Linux 41 | PASS | +-------------------------------+----------------+ | Ubuntu 24.04 | PASS | +-------------------------------+----------------+ | Ubuntu 20.04 | PASS | +-------------------------------+----------------+ | Ubuntu 22.04 | PASS | +-------------------------------+----------------+ | Windows Server 2022 | PASS | +-------------------------------+----------------+ CentOS Stream 9 Kernel: 5.15 Compiler: gcc gcc (GCC) 11.5.0 20240719 (Red Hat 11.5.0-7) CentOS Stream 10 Kernel: 5.15 Compiler: gcc gcc (GCC) 14.2.1 20250110 (Red Hat 14.2.1-8) Debian GNU/Linux 12 Kernel: 5.15 Compiler: gcc gcc (Debian 12.2.0-14+deb12u1) 12.2.0 Red Hat Enterprise Linux 9.5 Kernel: 5.15 Compiler: gcc gcc (GCC) 11.5.0 20240719 (Red Hat 11.5.0-2) Fedora Linux 40 Kernel: 5.15 Compiler: gcc gcc (GCC) 14.2.1 20240912 (Red Hat 14.2.1-3) Red Hat Enterprise Linux 8.10 Kernel: 5.15 Compiler: gcc gcc (GCC) 8.5.0 20210514 (Red Hat 8.5.0-22) Fedora Linux 41 Kernel: 5.15 Compiler: gcc gcc (GCC) 14.3.1 20250523 (Red Hat 14.3.1-1) Ubuntu 24.04 Kernel: 5.15 Compiler: gcc gcc (Ubuntu 13.3.0-6ubuntu2~24.04) 13.3.0 Ubuntu 20.04 Kernel: 5.15 Compiler: gcc gcc (Ubuntu 9.4.0-1ubuntu1~20.04.2) 9.4.0 Ubuntu 22.04 Kernel: 5.15 Compiler: gcc gcc (Ubuntu 11.4.0-1ubuntu1~22.04) 11.4.0 Windows Server 2022 Kernel: 10.0.20348.2031 Compiler: clang 15.0.7, gcc 14.1.0 (MinGW), and MSVC VS 19.39.33521 To view detailed results, visit: https://lab.dpdk.org/results/dashboard/patchsets/33606/ UNH-IOL DPDK Community Lab To manage your email subscriptions, visit: https://lab.dpdk.org/results/dashboard/preferences/subscriptions/