From mboxrd@z Thu Jan 1 00:00:00 1970 Return-Path: Received: from mails.dpdk.org (mails.dpdk.org [217.70.189.124]) by inbox.dpdk.org (Postfix) with ESMTP id EAB8046A8B for ; Tue, 8 Jul 2025 03:02:12 +0200 (CEST) Received: from mails.dpdk.org (localhost [127.0.0.1]) by mails.dpdk.org (Postfix) with ESMTP id BC46740287; Tue, 8 Jul 2025 03:02:12 +0200 (CEST) Received: from mail-qv1-f100.google.com (mail-qv1-f100.google.com [209.85.219.100]) by mails.dpdk.org (Postfix) with ESMTP id 5B60240287 for ; Tue, 8 Jul 2025 03:02:11 +0200 (CEST) Received: by mail-qv1-f100.google.com with SMTP id 6a1803df08f44-6fadd3ad18eso40849266d6.2 for ; Mon, 07 Jul 2025 18:02:11 -0700 (PDT) DKIM-Signature: v=1; a=rsa-sha256; c=relaxed/relaxed; d=iol.unh.edu; s=unh-iol; t=1751936530; x=1752541330; darn=dpdk.org; h=references:in-reply-to:cc:to:from:subject:message-id:date:from:to :cc:subject:date:message-id:reply-to; bh=jqMWf2gUyF819+JHi5750SMssZe0166X7DLbLxeyDuE=; b=OaaFSyKD23BrNNUX0abqhYbhXIYhsb83RUTMQU6HvIwLsJx+dw8TZU0f6NJBUejr2f CbZebsmxTpZyUXJGijPshuFVuGYmafCyW3okTL+LD/uE8LeKTaIVh4GlHy3lok7ewg0t 7olAY2J/JTp5J7eRHJ+SKB1pf0DGBSasprGBk= X-Google-DKIM-Signature: v=1; a=rsa-sha256; c=relaxed/relaxed; d=1e100.net; s=20230601; t=1751936530; x=1752541330; h=references:in-reply-to:cc:to:from:subject:message-id:date :x-gm-message-state:from:to:cc:subject:date:message-id:reply-to; bh=jqMWf2gUyF819+JHi5750SMssZe0166X7DLbLxeyDuE=; b=RQAjTffDPE5vsyLTOn94lvKECN2OrF4VACxSdfTSt07IB4S8mc8BqocosUVHVrI16N Tb4puT3Bel4tS7eaFfOrGCvdpaT2jKVypKdOpRpq4P8ZUPAqJVplu6bQainjdodjZ3Ab 0Rt2GlKNCOOODKr5Hk6+Zst3s11MckOBPRR6VHgfnv2woZ/kD9vB43JcR5oUJkGqiuhe pCXNJlll1rbkkJXCb3eABbQYdTV4z8Pw2JssGgmptcffkCXq6R89X0i8wY1fhnnEnFbd PLkdk0vXxxk8q0DSSWalm8ccnxX2x/wg96W6teXkNMt5HcotBdrDgtHNrW48NwwkihKd zqaA== X-Gm-Message-State: AOJu0Yy2eaeRqgKJulbSHVADBSQRjTgkl0TXjyqS7Z3vSfh4UsnLjz8g Z2qc2rBSxqKgaB4mHypqtq4ZAnBeWOxkAaB8e2v9NV/VaFNoYFFjC8DlzhMODXFDl5YvSyffcEn ifSptkHyQj0KYLISSuBQ4OMdpiqgryCUsT+50xMHNtOKA X-Gm-Gg: ASbGncv7w0NZmWYGkrAtCjI1W4/7SrGzY6riSY+OtiholIfrVjpGTC5oA1tLwA3+RiF e/2nivmWyCi0u9UqO3QjLbpKijbRsToHHRIggF3ub65+DKtXzl90IDcecZRDXo9SXQ3TLstA9M6 sPc8Gm0pclA3GMTZPcKJuGoOlm8MDh8Jx7AJBHsyqxV8TkS0MQbIdPEKt2Otfi0CzyGw6PMui+E EDlpkIoQS4WbnTpNzcxmupLtirwZHFHX73Z9YWdO/jYyp5hLLDnu4Ta4k6e9Dwdfh+Rj27YGf8L PEK369gfWIboCE5JAuJ9LtzKeDEhlECqi4lUm0qaGVxsgvMRd/UtL5lVvjqwR4psVnwB/Q== X-Google-Smtp-Source: AGHT+IGfCzmP3k47tWtGggiMu3cXl/uHJ0LbjeC5cbUZ6oTxww0Y/ItEvHRGq1th6ReVSLDx747+kSrea1PE X-Received: by 2002:a05:6214:5d88:b0:700:c7e4:cac6 with SMTP id 6a1803df08f44-7047d92dd16mr15253966d6.8.1751936530444; Mon, 07 Jul 2025 18:02:10 -0700 (PDT) Received: from postal.iol.unh.edu (postal.iol.unh.edu. [132.177.123.84]) by smtp-relay.gmail.com with ESMTPS id 6a1803df08f44-702c4d5b5eesm4879776d6.66.2025.07.07.18.02.10 (version=TLS1_2 cipher=ECDHE-ECDSA-AES128-GCM-SHA256 bits=128/128); Mon, 07 Jul 2025 18:02:10 -0700 (PDT) X-Relaying-Domain: iol.unh.edu Date: Mon, 07 Jul 2025 18:02:10 -0700 (PDT) Message-ID: <686c6e12.050a0220.33cd87.8e18SMTPIN_ADDED_MISSING@mx.google.com> Received: from [172.21.0.8] (unknown [172.18.0.240]) by postal.iol.unh.edu (Postfix) with ESMTP id 1D9296051830; Mon, 7 Jul 2025 21:02:10 -0400 (EDT) Subject: |SUCCESS| pw155046-155052 [PATCH] [7/7] net/gve: clear DQO Tx descri From: dpdklab@iol.unh.edu To: Test Report Cc: dpdk-test-reports@iol.unh.edu In-Reply-To: <20250707231812.1937260-8-joshwash@google.com> References: <20250707231812.1937260-8-joshwash@google.com> Content-Type: text/plain X-BeenThere: test-report@dpdk.org X-Mailman-Version: 2.1.29 Precedence: list List-Id: automatic DPDK test reports List-Unsubscribe: , List-Archive: List-Post: List-Help: List-Subscribe: , Errors-To: test-report-bounces@dpdk.org Test-Label: iol-unit-arm64-testing Test-Status: SUCCESS http://dpdk.org/patch/155052 _Testing PASS_ Submitter: Joshua Washington Date: Monday, July 07 2025 23:18:11 DPDK git baseline: Repo:dpdk Branch: master CommitID:ba982f9a1ca9b96ed0394b764f1523d482e963a2 155046-155052 --> testing pass Upstream job id: Generic-Unit-Test-DPDK#353297 Test environment and result as below: +------------------------------+---------------------------+------------------------------+--------------+----------------+ | Environment | cryptodev_sw_zuc_autotest | cryptodev_sw_snow3g_autotest | lpm_autotest | dpdk_unit_test | +==============================+===========================+==============================+==============+================+ | Debian 12 (arm) | PASS | PASS | SKIPPED | SKIPPED | +------------------------------+---------------------------+------------------------------+--------------+----------------+ | Ubuntu 20.04 | SKIPPED | SKIPPED | PASS | PASS | +------------------------------+---------------------------+------------------------------+--------------+----------------+ | CentOS Stream 9 | SKIPPED | SKIPPED | SKIPPED | PASS | +------------------------------+---------------------------+------------------------------+--------------+----------------+ | Fedora Linux 40 | SKIPPED | SKIPPED | SKIPPED | PASS | +------------------------------+---------------------------+------------------------------+--------------+----------------+ | CentOS Stream 10 | SKIPPED | SKIPPED | SKIPPED | PASS | +------------------------------+---------------------------+------------------------------+--------------+----------------+ | Debian GNU/Linux 12 | SKIPPED | SKIPPED | SKIPPED | PASS | +------------------------------+---------------------------+------------------------------+--------------+----------------+ | Fedora Linux 41 | SKIPPED | SKIPPED | SKIPPED | PASS | +------------------------------+---------------------------+------------------------------+--------------+----------------+ | Red Hat Enterprise Linux 9.5 | SKIPPED | SKIPPED | SKIPPED | PASS | +------------------------------+---------------------------+------------------------------+--------------+----------------+ | Ubuntu 22.04 | SKIPPED | SKIPPED | SKIPPED | PASS | +------------------------------+---------------------------+------------------------------+--------------+----------------+ | Ubuntu 24.04 | SKIPPED | SKIPPED | SKIPPED | PASS | +------------------------------+---------------------------+------------------------------+--------------+----------------+ Debian 12 (arm) Kernel: Depends on container host Compiler: gcc (Debian 12.2.0-14) 12.2.0 Ubuntu 20.04 Kernel: 5.4 Compiler: gcc gcc (Ubuntu 9.4.0-1ubuntu1~20.04.2) 9.4.0 CentOS Stream 9 Kernel: 5.4 Compiler: gcc gcc (GCC) 11.5.0 20240719 (Red Hat 11.5.0-7) Fedora Linux 40 Kernel: 5.4 Compiler: gcc gcc (GCC) 14.2.1 20240912 (Red Hat 14.2.1-3) CentOS Stream 10 Kernel: 5.4 Compiler: gcc gcc (GCC) 14.2.1 20250110 (Red Hat 14.2.1-8) Debian GNU/Linux 12 Kernel: 5.4 Compiler: gcc gcc (Debian 12.2.0-14+deb12u1) 12.2.0 Fedora Linux 41 Kernel: 5.4 Compiler: clang gcc (GCC) 14.3.1 20250523 (Red Hat 14.3.1-1) Red Hat Enterprise Linux 9.5 Kernel: 5.4 Compiler: gcc gcc (GCC) 11.5.0 20240719 (Red Hat 11.5.0-2) Ubuntu 22.04 Kernel: 5.4 Compiler: gcc gcc (Ubuntu 11.4.0-1ubuntu1~22.04) 11.4.0 Ubuntu 24.04 Kernel: 5.4 Compiler: gcc gcc (Ubuntu 13.3.0-6ubuntu2~24.04) 13.3.0 To view detailed results, visit: https://lab.dpdk.org/results/dashboard/patchsets/33606/ UNH-IOL DPDK Community Lab To manage your email subscriptions, visit: https://lab.dpdk.org/results/dashboard/preferences/subscriptions/