From mboxrd@z Thu Jan 1 00:00:00 1970 Return-Path: Received: from mails.dpdk.org (mails.dpdk.org [217.70.189.124]) by inbox.dpdk.org (Postfix) with ESMTP id E84F746A8B for ; Tue, 8 Jul 2025 03:03:34 +0200 (CEST) Received: from mails.dpdk.org (localhost [127.0.0.1]) by mails.dpdk.org (Postfix) with ESMTP id E21A040287; Tue, 8 Jul 2025 03:03:34 +0200 (CEST) Received: from mail-il1-f225.google.com (mail-il1-f225.google.com [209.85.166.225]) by mails.dpdk.org (Postfix) with ESMTP id 5A0E640287 for ; Tue, 8 Jul 2025 03:03:33 +0200 (CEST) Received: by mail-il1-f225.google.com with SMTP id e9e14a558f8ab-3e058c64a76so22343565ab.0 for ; Mon, 07 Jul 2025 18:03:33 -0700 (PDT) DKIM-Signature: v=1; a=rsa-sha256; c=relaxed/relaxed; d=iol.unh.edu; s=unh-iol; t=1751936612; x=1752541412; darn=dpdk.org; h=references:in-reply-to:cc:to:from:subject:message-id:date:from:to :cc:subject:date:message-id:reply-to; bh=F4+9ZZQmuX4WPU3kK/Vtiw0TliojprBZFvgJYC+S0Ss=; b=AQBxMJcujKOlC3s9dilIk6bnSuYqohximXWs3o2Q6j2HE5j6cFEuG4K7u4+Nfidqng 7WNEGAxP2pl7SPTMUy9r8ErCkiGmTOTXs2KLgHayxbolkpRVMjFj5e7TSMeZTAQdVXgp E8Qvp6df8WnyDvJS1yzqCVl0bCxDQOHirNqrM= X-Google-DKIM-Signature: v=1; a=rsa-sha256; c=relaxed/relaxed; d=1e100.net; s=20230601; t=1751936612; x=1752541412; h=references:in-reply-to:cc:to:from:subject:message-id:date :x-gm-message-state:from:to:cc:subject:date:message-id:reply-to; bh=F4+9ZZQmuX4WPU3kK/Vtiw0TliojprBZFvgJYC+S0Ss=; b=iaXqG7Zd/buGZrd4D/qTVK0Y+4ozSdpcG2kew7WuawyZFIt62Y70zZcD8r+BTpF4/Z dydYB1AwkBiLGp3h6xcVfaIFYeNZIgVupfXV437vVJk/DA9nSbXKGXOcll8jVPhHzMCc +nlDeFNNC/vIeBentcavmO5X4SSbahZgMGvPDjtdjLJsjAoFTUZHnmgDB5DI/Aekp6y/ 9FYhJL6rBpuOI6qP1GYdPq6UDZi1F2CoF5cfMT1Ih1bMYi9HHyB4fQ6Q9pCFCoOC0/yJ POKoDxTPU5Vsj3mBOGVGqNvfzjI/D3vP62HuSc8OddJKXs5DPd7/LwOhsiC9fVQqN6lZ JnbQ== X-Gm-Message-State: AOJu0YwIoeBqicRBOTItGcOIVlqF794g5FeX/Rywdw8tausWHAns4Xbm id0y2y8VkWrQJ6/x5guasyVjGMy7IPIF/ZTy14YDhNwRlB9MnEuNPq11Ns4CgyhOMQ4FC1XEPN0 A1h3dir6w1/hhGMIGQhAFE7Qc6H61XPL1M0lk435l9LC5Gk1hNKoA7y98Q9F8 X-Gm-Gg: ASbGncuy7o3iUim9bctWvANR4IYtP+pyZeTGeRjc5a5KMIYylHYcEVl1vkm2wArkZql JZRpfN6RRBoIFTuhb3A6XvCRPHsSoc0aHZPzck9nbrtQExyHIZXwhcNbwLW2yW6otwViqy4MA75 VIyOmujZY2T0hcU5I0k2JC0PIezrou9RdPoS6vwz7V5VTZi3U8lBfBZXkmFC/6wwgXeHLQcq4oi CjOyOi7Ofy4wsvFESy4BtRljHxomVqHhc5XVVCM6k0K7gO+Jk7tlZUutSNfjIY7M3h6tbrTH5Qr LqFJHH4K+C0namzQq0pPy6Nj/zDW4VT/pcX6+rW2YIgD+tY= X-Google-Smtp-Source: AGHT+IHKQD/5uvt5m91Mn5AsilKzFslK/+BE+ZOi7dYVEI+Jr55w071fQUzXkKETlN0qmXLbFggOeXWdcQD2 X-Received: by 2002:a05:6e02:2591:b0:3de:119f:5261 with SMTP id e9e14a558f8ab-3e136ea06f0mr116325375ab.3.1751936612581; Mon, 07 Jul 2025 18:03:32 -0700 (PDT) Received: from postal.iol.unh.edu (postal.iol.unh.edu. [2606:4100:3880:1234::84]) by smtp-relay.gmail.com with ESMTPS id 8926c6da1cb9f-503b5a4df86sm311090173.33.2025.07.07.18.03.32 (version=TLS1_2 cipher=ECDHE-ECDSA-AES128-GCM-SHA256 bits=128/128); Mon, 07 Jul 2025 18:03:32 -0700 (PDT) X-Relaying-Domain: iol.unh.edu Date: Mon, 07 Jul 2025 18:03:32 -0700 (PDT) Message-ID: <686c6e64.050a0220.172a37.fd8fSMTPIN_ADDED_MISSING@mx.google.com> Received: from [172.21.0.5] (unknown [172.18.0.240]) by postal.iol.unh.edu (Postfix) with ESMTP id 17C236051830; Mon, 7 Jul 2025 21:03:32 -0400 (EDT) Subject: |WARNING| pw155046-155052 [PATCH] [7/7] net/gve: clear DQO Tx descri From: dpdklab@iol.unh.edu To: Test Report Cc: dpdk-test-reports@iol.unh.edu In-Reply-To: <20250707231812.1937260-8-joshwash@google.com> References: <20250707231812.1937260-8-joshwash@google.com> Content-Type: text/plain X-BeenThere: test-report@dpdk.org X-Mailman-Version: 2.1.29 Precedence: list List-Id: automatic DPDK test reports List-Unsubscribe: , List-Archive: List-Post: List-Help: List-Subscribe: , Errors-To: test-report-bounces@dpdk.org Test-Label: iol-compile-amd64-testing Test-Status: WARNING http://dpdk.org/patch/155052 _Testing issues_ Submitter: Joshua Washington Date: Monday, July 07 2025 23:18:11 DPDK git baseline: Repo:dpdk Branch: master CommitID:ba982f9a1ca9b96ed0394b764f1523d482e963a2 155046-155052 --> testing issues Upstream job id: Generic-DPDK-Compile-Meson#406254 Test environment and result as below: +-------------------------------+--------------------+-------------------+------------------+-------------------------+-------------------+----------------------+ | Environment | dpdk_meson_compile | dpdk_compile_spdk | dpdk_compile_ovs | dpdk_llvm_clang_compile | dpdk_msvc_compile | dpdk_mingw64_compile | +===============================+====================+===================+==================+=========================+===================+======================+ | CentOS Stream 9 | PASS | PASS | SKIPPED | SKIPPED | SKIPPED | SKIPPED | +-------------------------------+--------------------+-------------------+------------------+-------------------------+-------------------+----------------------+ | CentOS Stream 10 | PASS | SKIPPED | SKIPPED | SKIPPED | SKIPPED | SKIPPED | +-------------------------------+--------------------+-------------------+------------------+-------------------------+-------------------+----------------------+ | Debian GNU/Linux 12 | PASS | PASS | SKIPPED | SKIPPED | SKIPPED | SKIPPED | +-------------------------------+--------------------+-------------------+------------------+-------------------------+-------------------+----------------------+ | Fedora Linux 40 | PEND | PEND | SKIPPED | SKIPPED | SKIPPED | SKIPPED | +-------------------------------+--------------------+-------------------+------------------+-------------------------+-------------------+----------------------+ | Fedora Linux 41 | PEND | PEND | PEND | SKIPPED | SKIPPED | SKIPPED | +-------------------------------+--------------------+-------------------+------------------+-------------------------+-------------------+----------------------+ | openSUSE Leap 15.6 | PEND | SKIPPED | SKIPPED | SKIPPED | SKIPPED | SKIPPED | +-------------------------------+--------------------+-------------------+------------------+-------------------------+-------------------+----------------------+ | Red Hat Enterprise Linux 8.10 | PASS | SKIPPED | SKIPPED | SKIPPED | SKIPPED | SKIPPED | +-------------------------------+--------------------+-------------------+------------------+-------------------------+-------------------+----------------------+ | Red Hat Enterprise Linux 9.5 | PASS | SKIPPED | SKIPPED | SKIPPED | SKIPPED | SKIPPED | +-------------------------------+--------------------+-------------------+------------------+-------------------------+-------------------+----------------------+ | Ubuntu 22.04 | PEND | PEND | SKIPPED | SKIPPED | SKIPPED | SKIPPED | +-------------------------------+--------------------+-------------------+------------------+-------------------------+-------------------+----------------------+ | Ubuntu 20.04 | PASS | SKIPPED | SKIPPED | SKIPPED | SKIPPED | SKIPPED | +-------------------------------+--------------------+-------------------+------------------+-------------------------+-------------------+----------------------+ | Ubuntu 24.04 | PEND | PASS | PASS | SKIPPED | SKIPPED | SKIPPED | +-------------------------------+--------------------+-------------------+------------------+-------------------------+-------------------+----------------------+ | Alpine Linux 3.22.0 | PEND | SKIPPED | SKIPPED | SKIPPED | SKIPPED | SKIPPED | +-------------------------------+--------------------+-------------------+------------------+-------------------------+-------------------+----------------------+ | Windows Server 2022 | SKIPPED | SKIPPED | SKIPPED | PASS | PASS | PASS | +-------------------------------+--------------------+-------------------+------------------+-------------------------+-------------------+----------------------+ CentOS Stream 9 Kernel: 5.15 Compiler: gcc gcc (GCC) 11.5.0 20240719 (Red Hat 11.5.0-7) CentOS Stream 10 Kernel: 5.15 Compiler: gcc gcc (GCC) 14.2.1 20250110 (Red Hat 14.2.1-8) Debian GNU/Linux 12 Kernel: 5.15 Compiler: gcc gcc (Debian 12.2.0-14+deb12u1) 12.2.0 Fedora Linux 40 Kernel: 5.15 Compiler: gcc gcc (GCC) 14.2.1 20240912 (Red Hat 14.2.1-3) Fedora Linux 41 Kernel: 5.15 Compiler: clang gcc (GCC) 14.3.1 20250523 (Red Hat 14.3.1-1) openSUSE Leap 15.6 Kernel: 5.15 Compiler: gcc gcc (SUSE Linux) 7.5.0 Red Hat Enterprise Linux 8.10 Kernel: 5.15 Compiler: gcc gcc (GCC) 8.5.0 20210514 (Red Hat 8.5.0-22) Red Hat Enterprise Linux 9.5 Kernel: 5.15 Compiler: gcc gcc (GCC) 11.5.0 20240719 (Red Hat 11.5.0-2) Ubuntu 22.04 Kernel: 5.15 Compiler: gcc gcc (Ubuntu 11.4.0-1ubuntu1~22.04) 11.4.0 Ubuntu 20.04 Kernel: 5.15 Compiler: gcc gcc (Ubuntu 9.4.0-1ubuntu1~20.04.2) 9.4.0 Ubuntu 24.04 Kernel: 5.15 Compiler: gcc gcc (Ubuntu 13.3.0-6ubuntu2~24.04) 13.3.0 Alpine Linux 3.22.0 Kernel: 5.15 Compiler: gcc gcc (Alpine 14.2.0) 14.2.0 Windows Server 2022 Kernel: 10.0.20348.2031 Compiler: clang 15.0.7, gcc 14.1.0 (MinGW), and MSVC VS 19.39.33521 To view detailed results, visit: https://lab.dpdk.org/results/dashboard/patchsets/33606/ UNH-IOL DPDK Community Lab To manage your email subscriptions, visit: https://lab.dpdk.org/results/dashboard/preferences/subscriptions/