From mboxrd@z Thu Jan 1 00:00:00 1970 Return-Path: Received: from mails.dpdk.org (mails.dpdk.org [217.70.189.124]) by inbox.dpdk.org (Postfix) with ESMTP id 2764F46B1F for ; Tue, 8 Jul 2025 03:31:12 +0200 (CEST) Received: from mails.dpdk.org (localhost [127.0.0.1]) by mails.dpdk.org (Postfix) with ESMTP id F328040287; Tue, 8 Jul 2025 03:31:11 +0200 (CEST) Received: from mail-qk1-f227.google.com (mail-qk1-f227.google.com [209.85.222.227]) by mails.dpdk.org (Postfix) with ESMTP id 78AAC40287 for ; Tue, 8 Jul 2025 03:31:10 +0200 (CEST) Received: by mail-qk1-f227.google.com with SMTP id af79cd13be357-7d5bf3300e0so399579785a.0 for ; Mon, 07 Jul 2025 18:31:10 -0700 (PDT) DKIM-Signature: v=1; a=rsa-sha256; c=relaxed/relaxed; d=iol.unh.edu; s=unh-iol; t=1751938270; x=1752543070; darn=dpdk.org; h=references:in-reply-to:cc:to:from:subject:message-id:date:from:to :cc:subject:date:message-id:reply-to; bh=ifcpFOtAyGl3Lte2d7eAxaWoghgxJQiSwA3kHH+aKFg=; b=clWKHrGKEoRNTVVz4FGsyXZDKFmOtpJNfaKzSkXwkzIWDVF4IeTDmspHXwe7ZVfJ4e +giDgysk+hElwIai4cfoq8yy4891dbNDHsyWQBdoEEdNI8WqI9LQGJ8zRDnI72RUKpCk 7pDIWQYF3FV6cBB9iWNvgU+RPwmpYJJ0gAM7I= X-Google-DKIM-Signature: v=1; a=rsa-sha256; c=relaxed/relaxed; d=1e100.net; s=20230601; t=1751938270; x=1752543070; h=references:in-reply-to:cc:to:from:subject:message-id:date :x-gm-message-state:from:to:cc:subject:date:message-id:reply-to; bh=ifcpFOtAyGl3Lte2d7eAxaWoghgxJQiSwA3kHH+aKFg=; b=DQSQ7Dhgeg9bKwQgmP+QynVlwwuvEMXekAeBGYGBN7u2KNCyfUY++JVfmvo5MatxMC XzvF2Y0o+T5AT0VSAtzT8uuPkqsowIWrhPS5G3iWBqQh1aRMbk32mJ1RHVzZlGCr749o FvHNjMww3XcDhxMdobufiZeCHYrdlSA3Wxn2kEqPf7fCrFAKyi+MLU7jlqCefWXXt6td ZiqXuRmAm3Eulg2/z+FSQJXAXSnZ8snlBg8I2xs3xS6aGuMVyjByTT0vC9Dz624/8PGw AaE8bO7tXoFFuBRi5yxDxv/z5kGF2zpyglbRVQU5ZOjeJguo1KKOLwnDfNLkXoh/Wmrx LkUQ== X-Gm-Message-State: AOJu0YxRCjAibyMlJ2nmiIGS6qrOaopB/0Jw9wGF0VfQiM3eZ3LL1WQs SLZRQNQ5l6PRxe/LxjwTi57bOFhkUtY41XI31yk57XSuKvbFMzs3r/wBhnYRNhj89hePfgWkRPb r6K4H8oe7MFJt562Q3X7oA13vNKdXmG/mxYnfO483bUyh X-Gm-Gg: ASbGnctxlXkM4f5+C19/C9QpGyY+s+FISz95SgIgewM7zZl8zYrwh7jjMDY1a0AqbAj fL2n8EjBv3wnMjfqp2Vu42AXD0w+mQOYPpYujjf9zvGygvUfbKzxII8pt7pd5jDjv3iiudbqOFb HDoPWtYdPU5v6VICQScGZvica3Z1TnQ1KquIUXgy7TbklxISYYJ3dVkiiiAE6WBa/Lpkt0R9I8x 8cBsLwG7tM2azV7o7XwFyJd8TLHosNCIl9c6IZMoehbGi3O6YTLES+I8CPUPp+fxsM8024r6e8k vNqds0/at3FFgihL+3S9KdBArFoOXWGwihZPauIqbXvfKWX+kBnjX/EpNjhelr1dVhd42Q== X-Google-Smtp-Source: AGHT+IFuCcEN4O+WNcB0Qtf/o91muwRpYydX+F790uX2XBMCbrZjm1lcCu63OteAI0PKsdxw+QoyoTJdfMwD X-Received: by 2002:a05:620a:4403:b0:7d4:2515:6aa8 with SMTP id af79cd13be357-7d5dcd248c2mr1769396185a.43.1751938269586; Mon, 07 Jul 2025 18:31:09 -0700 (PDT) Received: from postal.iol.unh.edu (postal.iol.unh.edu. [132.177.123.84]) by smtp-relay.gmail.com with ESMTPS id 6a1803df08f44-702c4d53e57sm4792626d6.51.2025.07.07.18.31.09 (version=TLS1_2 cipher=ECDHE-ECDSA-AES128-GCM-SHA256 bits=128/128); Mon, 07 Jul 2025 18:31:09 -0700 (PDT) X-Relaying-Domain: iol.unh.edu Date: Mon, 07 Jul 2025 18:31:09 -0700 (PDT) Message-ID: <686c74dd.d40a0220.36723f.7e98SMTPIN_ADDED_MISSING@mx.google.com> Received: from [172.21.0.5] (unknown [172.18.0.240]) by postal.iol.unh.edu (Postfix) with ESMTP id 4E02B6051830; Mon, 7 Jul 2025 21:31:09 -0400 (EDT) Subject: |SUCCESS| pw155046-155052 [PATCH] [7/7] net/gve: clear DQO Tx descri From: dpdklab@iol.unh.edu To: Test Report Cc: dpdk-test-reports@iol.unh.edu In-Reply-To: <20250707231812.1937260-8-joshwash@google.com> References: <20250707231812.1937260-8-joshwash@google.com> Content-Type: text/plain X-BeenThere: test-report@dpdk.org X-Mailman-Version: 2.1.29 Precedence: list List-Id: automatic DPDK test reports List-Unsubscribe: , List-Archive: List-Post: List-Help: List-Subscribe: , Errors-To: test-report-bounces@dpdk.org Test-Label: iol-abi-testing Test-Status: SUCCESS http://dpdk.org/patch/155052 _Testing PASS_ Submitter: Joshua Washington Date: Monday, July 07 2025 23:18:11 DPDK git baseline: Repo:dpdk Branch: master CommitID:ba982f9a1ca9b96ed0394b764f1523d482e963a2 155046-155052 --> testing pass Upstream job id: Generic-DPDK-Compile-ABI#133387 Test environment and result as below: +-------------------------------+----------+ | Environment | abi_test | +===============================+==========+ | CentOS Stream 9 | PASS | +-------------------------------+----------+ | CentOS Stream 10 | PASS | +-------------------------------+----------+ | Debian GNU/Linux 12 | PASS | +-------------------------------+----------+ | Fedora Linux 40 | PASS | +-------------------------------+----------+ | Red Hat Enterprise Linux 9.5 | PASS | +-------------------------------+----------+ | Fedora Linux 41 | PASS | +-------------------------------+----------+ | Ubuntu 22.04 | PASS | +-------------------------------+----------+ | openSUSE Leap 15.6 | PASS | +-------------------------------+----------+ | Red Hat Enterprise Linux 8.10 | PASS | +-------------------------------+----------+ | Ubuntu 24.04 | PASS | +-------------------------------+----------+ CentOS Stream 9 Kernel: 5.15 Compiler: gcc gcc (GCC) 11.5.0 20240719 (Red Hat 11.5.0-7) CentOS Stream 10 Kernel: 5.15 Compiler: gcc gcc (GCC) 14.2.1 20250110 (Red Hat 14.2.1-8) Debian GNU/Linux 12 Kernel: 5.15 Compiler: gcc gcc (Debian 12.2.0-14+deb12u1) 12.2.0 Fedora Linux 40 Kernel: 5.15 Compiler: clang gcc (GCC) 14.2.1 20240912 (Red Hat 14.2.1-3) Red Hat Enterprise Linux 9.5 Kernel: 5.15 Compiler: gcc gcc (GCC) 11.5.0 20240719 (Red Hat 11.5.0-2) Fedora Linux 41 Kernel: 5.15 Compiler: clang gcc (GCC) 14.3.1 20250523 (Red Hat 14.3.1-1) Ubuntu 22.04 Kernel: 5.15 Compiler: gcc gcc (Ubuntu 11.4.0-1ubuntu1~22.04) 11.4.0 openSUSE Leap 15.6 Kernel: 5.15 Compiler: gcc gcc (SUSE Linux) 7.5.0 Red Hat Enterprise Linux 8.10 Kernel: 5.15 Compiler: gcc gcc (GCC) 8.5.0 20210514 (Red Hat 8.5.0-22) Ubuntu 24.04 Kernel: 5.15 Compiler: gcc gcc (Ubuntu 13.3.0-6ubuntu2~24.04) 13.3.0 To view detailed results, visit: https://lab.dpdk.org/results/dashboard/patchsets/33606/ UNH-IOL DPDK Community Lab To manage your email subscriptions, visit: https://lab.dpdk.org/results/dashboard/preferences/subscriptions/