From mboxrd@z Thu Jan 1 00:00:00 1970 Return-Path: Received: from mails.dpdk.org (mails.dpdk.org [217.70.189.124]) by inbox.dpdk.org (Postfix) with ESMTP id 9311846B1F for ; Tue, 8 Jul 2025 03:35:51 +0200 (CEST) Received: from mails.dpdk.org (localhost [127.0.0.1]) by mails.dpdk.org (Postfix) with ESMTP id 719B240287; Tue, 8 Jul 2025 03:35:51 +0200 (CEST) Received: from mail-yw1-f228.google.com (mail-yw1-f228.google.com [209.85.128.228]) by mails.dpdk.org (Postfix) with ESMTP id 56E3E40287 for ; Tue, 8 Jul 2025 03:35:50 +0200 (CEST) Received: by mail-yw1-f228.google.com with SMTP id 00721157ae682-70e5d953c0bso40110577b3.1 for ; Mon, 07 Jul 2025 18:35:50 -0700 (PDT) DKIM-Signature: v=1; a=rsa-sha256; c=relaxed/relaxed; d=iol.unh.edu; s=unh-iol; t=1751938549; x=1752543349; darn=dpdk.org; h=references:in-reply-to:cc:to:from:subject:message-id:date:from:to :cc:subject:date:message-id:reply-to; bh=CeOCQq3KEePFxhD64zO/TSn8vUZQMzRUv0sWSRkECKQ=; b=FZ+4p9scVVhSijzCl4ZyWhCFaSnStFcOyCqDzgppsO+hh4f6OuyOA/4yTg70u1Y+vv dM+osP135jxOCxH7aDL2R1GLwICFjFH5RCh+sA61iILAQIWsU26RJf/8slHid72YQJd1 zWLbWGXCEvvHQcnsdl7C3pBB1wGn7VKW9pRSk= X-Google-DKIM-Signature: v=1; a=rsa-sha256; c=relaxed/relaxed; d=1e100.net; s=20230601; t=1751938549; x=1752543349; h=references:in-reply-to:cc:to:from:subject:message-id:date :x-gm-message-state:from:to:cc:subject:date:message-id:reply-to; bh=CeOCQq3KEePFxhD64zO/TSn8vUZQMzRUv0sWSRkECKQ=; b=TQqtT+c4yCx+NDhSab6tUOC+RPydV79Fs4SLAdFvDbottscVuIUDbjhv1Tdlx+0T0x 1wR9b5F2GPQMhOE9/81KkKDllyKyweGc+o5sCEMbznTT3GP7aMKVkB/bQw9WjAZvWqnq dMOC1WTEroMB2US2AHIimcSsO9uIHw+9ZY35UgGYDI/nhWLh9KMSXF317b2KcWqCSBRJ LcFgrYz6bzChspNggG36CBEFmkx81g4oKNMu3XswsRZsu0RkcJowFa2S9tc4CrAi4XTq pNWpcd71Jp5xZ5mXuda2QzWi2C2xtb04MpbCXpsimGR6BcZZkIubFtzdHIEJ5tAKXBbP 1lsQ== X-Gm-Message-State: AOJu0YwxOxMrXKIUdgWueta60tdaGL210T/HYd4inMoQzMNqLqD2pOvh e8ZRdHoQuLb8DVrZUwn3THBQZbkUxRdTYZiGo+LDy7D05O+4uiOi8OnI/sAsF7+WWQ0LAdDsTWA VXOBNgeqU/myvRVu7WO8yHXCjTPq/1FFBh+F1COM+02y5 X-Gm-Gg: ASbGncvUlzj3smAtVwMItl7pU/OXhv4ZNERJySHgqzVFd86Zp+BfFavLdQzX2jl8UUv L5Bcox7uhUvM6R9wcI8Rwo/lmFN9PEZysC/gUOpSdeYQ8tnmuVXuT62h3p/mlbC9eXkj3/7eObr kfdgFb4w/pDgx7gtUfKhyoGcsm90eTp3Vr6tg7wXQyiIjRyNn5OgV2vnWvLUwUpy0musv2uQNts BcmisQPZde0Z7X9m1VDSXWNSoJ5qANZDZc0b/FQyCCcnLduQbQ/OYT78nlt8zRuWKQVNGM+5e0q LjYc5BFjz04PfiOi7+DpPk1Jb3C/rUz2VZnJEP1KxNVTj6qFhCu+CV6EocSLjTEHfuGHkg== X-Google-Smtp-Source: AGHT+IHeLTP2B7LLtCf2LhA22yFtCc8XMjycEWl2LIzqStTut8I4Ewj3BpL5ZUhPG4d4dbLcvir3jQRs3zPR X-Received: by 2002:a05:690c:102:b0:714:691:6d1d with SMTP id 00721157ae682-7179e421894mr28320067b3.24.1751938549486; Mon, 07 Jul 2025 18:35:49 -0700 (PDT) Received: from postal.iol.unh.edu (postal.iol.unh.edu. [132.177.123.84]) by smtp-relay.gmail.com with ESMTPS id 00721157ae682-716659cfbedsm2812947b3.22.2025.07.07.18.35.49 (version=TLS1_2 cipher=ECDHE-ECDSA-AES128-GCM-SHA256 bits=128/128); Mon, 07 Jul 2025 18:35:49 -0700 (PDT) X-Relaying-Domain: iol.unh.edu Date: Mon, 07 Jul 2025 18:35:49 -0700 (PDT) Message-ID: <686c75f5.050a0220.3c766f.e821SMTPIN_ADDED_MISSING@mx.google.com> Received: from [172.21.0.6] (unknown [172.18.0.240]) by postal.iol.unh.edu (Postfix) with ESMTP id 21C016051830; Mon, 7 Jul 2025 21:35:49 -0400 (EDT) Subject: |WARNING| pw155046-155052 [PATCH] [7/7] net/gve: clear DQO Tx descri From: dpdklab@iol.unh.edu To: Test Report Cc: dpdk-test-reports@iol.unh.edu In-Reply-To: <20250707231812.1937260-8-joshwash@google.com> References: <20250707231812.1937260-8-joshwash@google.com> Content-Type: text/plain X-BeenThere: test-report@dpdk.org X-Mailman-Version: 2.1.29 Precedence: list List-Id: automatic DPDK test reports List-Unsubscribe: , List-Archive: List-Post: List-Help: List-Subscribe: , Errors-To: test-report-bounces@dpdk.org Test-Label: iol-compile-amd64-testing Test-Status: WARNING http://dpdk.org/patch/155052 _Testing issues_ Submitter: Joshua Washington Date: Monday, July 07 2025 23:18:11 DPDK git baseline: Repo:dpdk Branch: master CommitID:ba982f9a1ca9b96ed0394b764f1523d482e963a2 155046-155052 --> testing issues Upstream job id: Generic-DPDK-Compile-Meson#406263 Test environment and result as below: +-------------------------------+--------------------+-------------------+------------------+-------------------------+-------------------+----------------------+ | Environment | dpdk_meson_compile | dpdk_compile_spdk | dpdk_compile_ovs | dpdk_llvm_clang_compile | dpdk_msvc_compile | dpdk_mingw64_compile | +===============================+====================+===================+==================+=========================+===================+======================+ | CentOS Stream 9 | PASS | PASS | SKIPPED | SKIPPED | SKIPPED | SKIPPED | +-------------------------------+--------------------+-------------------+------------------+-------------------------+-------------------+----------------------+ | CentOS Stream 10 | PASS | SKIPPED | SKIPPED | SKIPPED | SKIPPED | SKIPPED | +-------------------------------+--------------------+-------------------+------------------+-------------------------+-------------------+----------------------+ | Debian GNU/Linux 12 | PASS | PASS | SKIPPED | SKIPPED | SKIPPED | SKIPPED | +-------------------------------+--------------------+-------------------+------------------+-------------------------+-------------------+----------------------+ | Fedora Linux 40 | PASS | WARN | SKIPPED | SKIPPED | SKIPPED | SKIPPED | +-------------------------------+--------------------+-------------------+------------------+-------------------------+-------------------+----------------------+ | Fedora Linux 41 | PASS | PASS | PASS | SKIPPED | SKIPPED | SKIPPED | +-------------------------------+--------------------+-------------------+------------------+-------------------------+-------------------+----------------------+ | openSUSE Leap 15.6 | PASS | SKIPPED | SKIPPED | SKIPPED | SKIPPED | SKIPPED | +-------------------------------+--------------------+-------------------+------------------+-------------------------+-------------------+----------------------+ | Red Hat Enterprise Linux 8.10 | PASS | SKIPPED | SKIPPED | SKIPPED | SKIPPED | SKIPPED | +-------------------------------+--------------------+-------------------+------------------+-------------------------+-------------------+----------------------+ | Red Hat Enterprise Linux 9.5 | PASS | SKIPPED | SKIPPED | SKIPPED | SKIPPED | SKIPPED | +-------------------------------+--------------------+-------------------+------------------+-------------------------+-------------------+----------------------+ | Ubuntu 22.04 | PASS | PASS | SKIPPED | SKIPPED | SKIPPED | SKIPPED | +-------------------------------+--------------------+-------------------+------------------+-------------------------+-------------------+----------------------+ | Ubuntu 20.04 | PASS | SKIPPED | SKIPPED | SKIPPED | SKIPPED | SKIPPED | +-------------------------------+--------------------+-------------------+------------------+-------------------------+-------------------+----------------------+ | Ubuntu 24.04 | PASS | PASS | PASS | SKIPPED | SKIPPED | SKIPPED | +-------------------------------+--------------------+-------------------+------------------+-------------------------+-------------------+----------------------+ | Alpine Linux 3.22.0 | PASS | SKIPPED | SKIPPED | SKIPPED | SKIPPED | SKIPPED | +-------------------------------+--------------------+-------------------+------------------+-------------------------+-------------------+----------------------+ | Windows Server 2022 | SKIPPED | SKIPPED | SKIPPED | PASS | PASS | PASS | +-------------------------------+--------------------+-------------------+------------------+-------------------------+-------------------+----------------------+ ==== 20 line log output for Fedora Linux 40 (dpdk_compile_spdk): ==== --- Failed to get log output --- ==== End log output ==== CentOS Stream 9 Kernel: 5.15 Compiler: gcc gcc (GCC) 11.5.0 20240719 (Red Hat 11.5.0-7) CentOS Stream 10 Kernel: 5.15 Compiler: gcc gcc (GCC) 14.2.1 20250110 (Red Hat 14.2.1-8) Debian GNU/Linux 12 Kernel: 5.15 Compiler: gcc gcc (Debian 12.2.0-14+deb12u1) 12.2.0 Fedora Linux 40 Kernel: 5.15 Compiler: gcc gcc (GCC) 14.2.1 20240912 (Red Hat 14.2.1-3) Fedora Linux 41 Kernel: 5.15 Compiler: clang gcc (GCC) 14.3.1 20250523 (Red Hat 14.3.1-1) openSUSE Leap 15.6 Kernel: 5.15 Compiler: gcc gcc (SUSE Linux) 7.5.0 Red Hat Enterprise Linux 8.10 Kernel: 5.15 Compiler: gcc gcc (GCC) 8.5.0 20210514 (Red Hat 8.5.0-22) Red Hat Enterprise Linux 9.5 Kernel: 5.15 Compiler: gcc gcc (GCC) 11.5.0 20240719 (Red Hat 11.5.0-2) Ubuntu 22.04 Kernel: 5.15 Compiler: gcc gcc (Ubuntu 11.4.0-1ubuntu1~22.04) 11.4.0 Ubuntu 20.04 Kernel: 5.15 Compiler: gcc gcc (Ubuntu 9.4.0-1ubuntu1~20.04.2) 9.4.0 Ubuntu 24.04 Kernel: 5.15 Compiler: gcc gcc (Ubuntu 13.3.0-6ubuntu2~24.04) 13.3.0 Alpine Linux 3.22.0 Kernel: 5.15 Compiler: gcc gcc (Alpine 14.2.0) 14.2.0 Windows Server 2022 Kernel: 10.0.20348.2031 Compiler: clang 15.0.7, gcc 14.1.0 (MinGW), and MSVC VS 19.39.33521 To view detailed results, visit: https://lab.dpdk.org/results/dashboard/patchsets/33606/ UNH-IOL DPDK Community Lab To manage your email subscriptions, visit: https://lab.dpdk.org/results/dashboard/preferences/subscriptions/