From mboxrd@z Thu Jan 1 00:00:00 1970 Return-Path: Received: from mails.dpdk.org (mails.dpdk.org [217.70.189.124]) by inbox.dpdk.org (Postfix) with ESMTP id AA6C646B1F for ; Tue, 8 Jul 2025 03:37:16 +0200 (CEST) Received: from mails.dpdk.org (localhost [127.0.0.1]) by mails.dpdk.org (Postfix) with ESMTP id 9D3DB40287; Tue, 8 Jul 2025 03:37:16 +0200 (CEST) Received: from mail-yw1-f226.google.com (mail-yw1-f226.google.com [209.85.128.226]) by mails.dpdk.org (Postfix) with ESMTP id 4FBA540287 for ; Tue, 8 Jul 2025 03:37:15 +0200 (CEST) Received: by mail-yw1-f226.google.com with SMTP id 00721157ae682-70b4e497d96so34093517b3.2 for ; Mon, 07 Jul 2025 18:37:15 -0700 (PDT) DKIM-Signature: v=1; a=rsa-sha256; c=relaxed/relaxed; d=iol.unh.edu; s=unh-iol; t=1751938634; x=1752543434; darn=dpdk.org; h=references:in-reply-to:cc:to:from:subject:message-id:date:from:to :cc:subject:date:message-id:reply-to; bh=j6zZc7nDf1c+c6djCYmsL7hA4b0xlyR07OMR0N2U6fk=; b=PON2stV2NushZ6QgtWTikfTDDqeOHKePREI4W+6UcnPK4ayiUgCOhXLzPhUfGawKk/ uio6KT0YiXweZ34bv1TiFAPSYU7RcCj+2+9+d4SsvP4oo6AB842hAVuEcIZkB75aJ8Pf Dx55ddk5uWJB0Qf24tTAHqs8jHEWAHv5iQ1M4= X-Google-DKIM-Signature: v=1; a=rsa-sha256; c=relaxed/relaxed; d=1e100.net; s=20230601; t=1751938634; x=1752543434; h=references:in-reply-to:cc:to:from:subject:message-id:date :x-gm-message-state:from:to:cc:subject:date:message-id:reply-to; bh=j6zZc7nDf1c+c6djCYmsL7hA4b0xlyR07OMR0N2U6fk=; b=qcRPRZQF7uLvZ5OzXq9HhhOU6fyV2X4FN+emilymdulokwCMkqSdsY9Br35qzqgsM8 lNlPM8DJKNyWJ1st4EosySmKagdOEqXuNmqBeChEfP9Zlx8Q3t0Z7hnfafkLPKFxZdEA mqr2zP9Ab6duyqbuF2kKyUuLiKQr/aPYMEe7ZJ0X1sK1xA63LOP59PfAMGF434CdTh8J gGZN4Rs8aY+iWz/wEYwrpZHqe/lbNcvAdgZJNRYZc8UFED6iTB4boVxNOgBIhzaYNjY/ rgFzBubrJ+dIcjAxuEgysMMqobzpyMUf1DZr/TRX9WJq0lmxqGydLpcuN9FGszpD7q2a hClw== X-Gm-Message-State: AOJu0Yy6SdcrXX2Tc2roGNX+QIRAQ8yGbGd0WF/p+bmndTcuvI/vAvZE 4TYmXirSw9KNIgaU/jIC89W4r5HRM2wFXLL91fWGNLYF5et4SrljWY1rk0uJTWiFLBPtYbmBa0F 2YtXeitne9sGGnYzpAr3I87gbs1+Qj5XsCb3AZUB4uAqW X-Gm-Gg: ASbGncva4mo7GGIRQ2Z9tPUcGR6teQy7y2gC4zdcegJ/NrzAV9t1jytUHDaLDJ2g7A4 JDqm4XWOVlAn4h+srx64QTkomO6s3atOxeHCShterND24C1iXpkgp16LxKyp/hqlh7ccAcaF3eS SUWwROPoOlv3YjNvhqx7BqKBVahyaK2NDifunRFjpQrhzAmRi9YWf3KDbexVP9//RkpfgwZjEh1 P3M1FzoX2j2GsJo7S9rNONPF/FakAVC43LI9YAjcRnTlzMtAFdDEHN1v4zPd09L7SvDb1fGYN/v gcDX3pv3jeTUaHZ2c8oSZ66603CHTGKDmeuboMUzggIoIf7Em5yeisRqeKXjgzcfWvRWSA== X-Google-Smtp-Source: AGHT+IGtqIwopV2fLdbjARITcgiB6s3tMkpE/VrLNiJL09KbCCrD6OgJ38heX9Ho18lDccY3T8ILWc3mt+jB X-Received: by 2002:a05:690c:4b91:b0:70e:923:2173 with SMTP id 00721157ae682-7166b5d4c58mr181629517b3.5.1751938634690; Mon, 07 Jul 2025 18:37:14 -0700 (PDT) Received: from postal.iol.unh.edu (postal.iol.unh.edu. [132.177.123.84]) by smtp-relay.gmail.com with ESMTPS id 00721157ae682-716659b626csm4065727b3.11.2025.07.07.18.37.14 (version=TLS1_2 cipher=ECDHE-ECDSA-AES128-GCM-SHA256 bits=128/128); Mon, 07 Jul 2025 18:37:14 -0700 (PDT) X-Relaying-Domain: iol.unh.edu Date: Mon, 07 Jul 2025 18:37:14 -0700 (PDT) Message-ID: <686c764a.0d0a0220.1087a0.58b5SMTPIN_ADDED_MISSING@mx.google.com> Received: from [172.21.0.8] (unknown [172.18.0.240]) by postal.iol.unh.edu (Postfix) with ESMTP id 588CC6051830; Mon, 7 Jul 2025 21:37:14 -0400 (EDT) Subject: |WARNING| pw155046-155052 [PATCH] [7/7] net/gve: clear DQO Tx descri From: dpdklab@iol.unh.edu To: Test Report Cc: dpdk-test-reports@iol.unh.edu In-Reply-To: <20250707231812.1937260-8-joshwash@google.com> References: <20250707231812.1937260-8-joshwash@google.com> Content-Type: text/plain X-BeenThere: test-report@dpdk.org X-Mailman-Version: 2.1.29 Precedence: list List-Id: automatic DPDK test reports List-Unsubscribe: , List-Archive: List-Post: List-Help: List-Subscribe: , Errors-To: test-report-bounces@dpdk.org Test-Label: iol-compile-amd64-testing Test-Status: WARNING http://dpdk.org/patch/155052 _Testing issues_ Submitter: Joshua Washington Date: Monday, July 07 2025 23:18:11 DPDK git baseline: Repo:dpdk Branch: master CommitID:ba982f9a1ca9b96ed0394b764f1523d482e963a2 155046-155052 --> testing issues Upstream job id: Generic-DPDK-Compile-Meson#406262 Test environment and result as below: +-------------------------------+--------------------+-------------------+------------------+-------------------------+-------------------+----------------------+ | Environment | dpdk_meson_compile | dpdk_compile_spdk | dpdk_compile_ovs | dpdk_llvm_clang_compile | dpdk_msvc_compile | dpdk_mingw64_compile | +===============================+====================+===================+==================+=========================+===================+======================+ | CentOS Stream 9 | PASS | PASS | SKIPPED | SKIPPED | SKIPPED | SKIPPED | +-------------------------------+--------------------+-------------------+------------------+-------------------------+-------------------+----------------------+ | CentOS Stream 10 | PASS | SKIPPED | SKIPPED | SKIPPED | SKIPPED | SKIPPED | +-------------------------------+--------------------+-------------------+------------------+-------------------------+-------------------+----------------------+ | Debian GNU/Linux 12 | PASS | PASS | SKIPPED | SKIPPED | SKIPPED | SKIPPED | +-------------------------------+--------------------+-------------------+------------------+-------------------------+-------------------+----------------------+ | Fedora Linux 40 | PASS | WARN | SKIPPED | SKIPPED | SKIPPED | SKIPPED | +-------------------------------+--------------------+-------------------+------------------+-------------------------+-------------------+----------------------+ | Fedora Linux 41 | PASS | PASS | PASS | SKIPPED | SKIPPED | SKIPPED | +-------------------------------+--------------------+-------------------+------------------+-------------------------+-------------------+----------------------+ | openSUSE Leap 15.6 | PASS | SKIPPED | SKIPPED | SKIPPED | SKIPPED | SKIPPED | +-------------------------------+--------------------+-------------------+------------------+-------------------------+-------------------+----------------------+ | Red Hat Enterprise Linux 8.10 | PASS | SKIPPED | SKIPPED | SKIPPED | SKIPPED | SKIPPED | +-------------------------------+--------------------+-------------------+------------------+-------------------------+-------------------+----------------------+ | Red Hat Enterprise Linux 9.5 | PASS | SKIPPED | SKIPPED | SKIPPED | SKIPPED | SKIPPED | +-------------------------------+--------------------+-------------------+------------------+-------------------------+-------------------+----------------------+ | Ubuntu 22.04 | PASS | PASS | SKIPPED | SKIPPED | SKIPPED | SKIPPED | +-------------------------------+--------------------+-------------------+------------------+-------------------------+-------------------+----------------------+ | Ubuntu 20.04 | PASS | SKIPPED | SKIPPED | SKIPPED | SKIPPED | SKIPPED | +-------------------------------+--------------------+-------------------+------------------+-------------------------+-------------------+----------------------+ | Ubuntu 24.04 | PASS | PASS | PASS | SKIPPED | SKIPPED | SKIPPED | +-------------------------------+--------------------+-------------------+------------------+-------------------------+-------------------+----------------------+ | Alpine Linux 3.22.0 | PASS | SKIPPED | SKIPPED | SKIPPED | SKIPPED | SKIPPED | +-------------------------------+--------------------+-------------------+------------------+-------------------------+-------------------+----------------------+ | Windows Server 2022 | SKIPPED | SKIPPED | SKIPPED | PASS | PASS | PASS | +-------------------------------+--------------------+-------------------+------------------+-------------------------+-------------------+----------------------+ ==== 20 line log output for Fedora Linux 40 (dpdk_compile_spdk): ==== --- Failed to get log output --- ==== End log output ==== CentOS Stream 9 Kernel: 5.15 Compiler: gcc gcc (GCC) 11.5.0 20240719 (Red Hat 11.5.0-7) CentOS Stream 10 Kernel: 5.15 Compiler: gcc gcc (GCC) 14.2.1 20250110 (Red Hat 14.2.1-8) Debian GNU/Linux 12 Kernel: 5.15 Compiler: gcc gcc (Debian 12.2.0-14+deb12u1) 12.2.0 Fedora Linux 40 Kernel: 5.15 Compiler: gcc gcc (GCC) 14.2.1 20240912 (Red Hat 14.2.1-3) Fedora Linux 41 Kernel: 5.15 Compiler: clang gcc (GCC) 14.3.1 20250523 (Red Hat 14.3.1-1) openSUSE Leap 15.6 Kernel: 5.15 Compiler: gcc gcc (SUSE Linux) 7.5.0 Red Hat Enterprise Linux 8.10 Kernel: 5.15 Compiler: gcc gcc (GCC) 8.5.0 20210514 (Red Hat 8.5.0-22) Red Hat Enterprise Linux 9.5 Kernel: 5.15 Compiler: gcc gcc (GCC) 11.5.0 20240719 (Red Hat 11.5.0-2) Ubuntu 22.04 Kernel: 5.15 Compiler: gcc gcc (Ubuntu 11.4.0-1ubuntu1~22.04) 11.4.0 Ubuntu 20.04 Kernel: 5.15 Compiler: gcc gcc (Ubuntu 9.4.0-1ubuntu1~20.04.2) 9.4.0 Ubuntu 24.04 Kernel: 5.15 Compiler: gcc gcc (Ubuntu 13.3.0-6ubuntu2~24.04) 13.3.0 Alpine Linux 3.22.0 Kernel: 5.15 Compiler: gcc gcc (Alpine 14.2.0) 14.2.0 Windows Server 2022 Kernel: 10.0.20348.2031 Compiler: clang 15.0.7, gcc 14.1.0 (MinGW), and MSVC VS 19.39.33521 To view detailed results, visit: https://lab.dpdk.org/results/dashboard/patchsets/33606/ UNH-IOL DPDK Community Lab To manage your email subscriptions, visit: https://lab.dpdk.org/results/dashboard/preferences/subscriptions/