From mboxrd@z Thu Jan 1 00:00:00 1970 Return-Path: Received: from mails.dpdk.org (mails.dpdk.org [217.70.189.124]) by inbox.dpdk.org (Postfix) with ESMTP id E320746B1F for ; Tue, 8 Jul 2025 04:03:20 +0200 (CEST) Received: from mails.dpdk.org (localhost [127.0.0.1]) by mails.dpdk.org (Postfix) with ESMTP id C6C4340287; Tue, 8 Jul 2025 04:03:20 +0200 (CEST) Received: from mail-qt1-f227.google.com (mail-qt1-f227.google.com [209.85.160.227]) by mails.dpdk.org (Postfix) with ESMTP id 233B540287 for ; Tue, 8 Jul 2025 04:03:18 +0200 (CEST) Received: by mail-qt1-f227.google.com with SMTP id d75a77b69052e-4a4bb155edeso47725451cf.2 for ; Mon, 07 Jul 2025 19:03:18 -0700 (PDT) DKIM-Signature: v=1; a=rsa-sha256; c=relaxed/relaxed; d=iol.unh.edu; s=unh-iol; t=1751940198; x=1752544998; darn=dpdk.org; h=cc:to:from:subject:message-id:date:from:to:cc:subject:date :message-id:reply-to; bh=YzQYlmaYWmQ/czBMfs8dmvNhQm8liX6ZFXMGdyXmtbg=; b=jCBQu/GhV8uesK1If6+KDM7nGFV0WhgtA1V97R8xmGQrUj+4dBIdQbnvvHREM5wZ0C nRnBr/M+yIIJto/N6hUhbju6r5fxKc3jT1uxjJOWVK053pKDaBq9S99VOR5MnAlhz65t v0G7pIa7oT6CZCiB18l3h/bIy14w5vmTprZlM= X-Google-DKIM-Signature: v=1; a=rsa-sha256; c=relaxed/relaxed; d=1e100.net; s=20230601; t=1751940198; x=1752544998; h=cc:to:from:subject:message-id:date:x-gm-message-state:from:to:cc :subject:date:message-id:reply-to; bh=YzQYlmaYWmQ/czBMfs8dmvNhQm8liX6ZFXMGdyXmtbg=; b=FORByR/QeIxFhyokpGJS4GU6EabftR41fRuVZHnO7sP++ST35ZreKhXfPtZdMRvyQD T5FSnk/2Es2ZAkvQTCkVQrNJERtaNf+ctdeRNRZW6+V311ogZ0IN2rSf5wVRea3x1d6p Udz3dHG6dtORaNp9CNB7W+pLy/3a8sHY28a6iHkyuETU7bv9n7gVgt6zNr64J6/Q9Onf /fLJz96TMIrqNfhy+aR7YmImw5BR5a+O7wbnZWBsf5Tx9nBHR6vrTm439OeLTLmj1nop UdOBBfn00/aE3Sf7EvVrpD/+XdXE1+03MEB31SHrSpUGEfSAQfQ9Kpaj4yn8HqvYO/bb xxRQ== X-Gm-Message-State: AOJu0YzsA5y4m8trQYX3rF+/kxASOp3DWdySgvN+RZ/QulsJ5NaTvrdo WJSVHYxRAQXth4FgQzzwFWLuhgYqmLyTk/xY3DnwC9Lm39x7elf2VshwvF1MlfykiT/N1TV7T4J lllKO8hp4Y80eaSGJ+b6unlB3BUUoWdLwxcJQQ3ZsqQooI4yBXJerzifSDnBw X-Gm-Gg: ASbGnctMRoZmjy6ObGQmR9Hfd2uzGqXcJt1FlO+2ECPekJ+4+q0IwRNoxFM/Gs3W4Im ex8tww9B9UfhZrG4l8aC9NKRYY1BDbGM3bJMJtCT/VcY6Mno1S/9Itseu8JzSo2hDeIo+AyBqAJ 46w68+0W1x9Wrz7NgM4DuEJwXvu0lHKwMYsdecwr8Pfvj9P3nFN2maz2wm4nUxm+EMqcw9U5E7z xhAPHJ7u6r4Yto1M3O/Ni+Ap5BRSyzMDEW9AxPSCOIsFq/nxB0j3N/R2xHlNe+z3Flyw3nS4njw CHFcRl2S6GKMXmpbTxGobthW7sjQ+5eMo5ET28cxsM9ygcA= X-Google-Smtp-Source: AGHT+IFM3GpN21ch6xcVMFc2l6ZLHkspHAYCD1BbbfoE1VCGnmOm6HCMkR/mL2Ea432poHNRG2nYRG36DTqf X-Received: by 2002:a05:622a:207:b0:4a5:9825:d6fe with SMTP id d75a77b69052e-4a9ccd9eb57mr18171801cf.26.1751940198147; Mon, 07 Jul 2025 19:03:18 -0700 (PDT) Received: from postal.iol.unh.edu (postal.iol.unh.edu. [2606:4100:3880:1234::84]) by smtp-relay.gmail.com with ESMTPS id d75a77b69052e-4a994a869b2sm2741591cf.19.2025.07.07.19.03.18 (version=TLS1_2 cipher=ECDHE-ECDSA-AES128-GCM-SHA256 bits=128/128); Mon, 07 Jul 2025 19:03:18 -0700 (PDT) X-Relaying-Domain: iol.unh.edu Date: Mon, 07 Jul 2025 19:03:18 -0700 (PDT) Message-ID: <686c7c66.050a0220.2c3dad.d62bSMTPIN_ADDED_MISSING@mx.google.com> Received: from [172.21.0.5] (unknown [172.18.0.240]) by postal.iol.unh.edu (Postfix) with ESMTP id D91916051830; Mon, 7 Jul 2025 22:03:17 -0400 (EDT) Subject: |SUCCESS| [GIT MASTER] 70c2297528e7c7789af452f78de1932e9a20c8a2 From: dpdklab@iol.unh.edu To: Test Report Cc: dpdk-test-reports@iol.unh.edu Content-Type: text/plain X-BeenThere: test-report@dpdk.org X-Mailman-Version: 2.1.29 Precedence: list List-Id: automatic DPDK test reports List-Unsubscribe: , List-Archive: List-Post: List-Help: List-Subscribe: , Errors-To: test-report-bounces@dpdk.org _Testing PASS_ Branch: dpdk 70c2297528e7c7789af452f78de1932e9a20c8a2 --> testing pass Upstream job id: Generic-Unit-Test-DPDK#353319 Test environment and result as below: +-------------------------------+----------------+ | Environment | dpdk_unit_test | +===============================+================+ | Arch Linux 20250613.0.365270 | PASS | +-------------------------------+----------------+ | Debian GNU/Linux 12 | PASS | +-------------------------------+----------------+ | CentOS Stream 10 | PASS | +-------------------------------+----------------+ | CentOS Stream 9 | PASS | +-------------------------------+----------------+ | Fedora Linux 41 | PASS | +-------------------------------+----------------+ | Fedora Linux 40 | PASS | +-------------------------------+----------------+ | Ubuntu 22.04 | PASS | +-------------------------------+----------------+ | Red Hat Enterprise Linux 9.5 | PASS | +-------------------------------+----------------+ | Red Hat Enterprise Linux 8.10 | PASS | +-------------------------------+----------------+ | Ubuntu 20.04 | PASS | +-------------------------------+----------------+ | Ubuntu 24.04 | PASS | +-------------------------------+----------------+ | Windows Server 2022 | PASS | +-------------------------------+----------------+ Arch Linux 20250613.0.365270 Kernel: 5.15 Compiler: gcc gcc (GCC) 15.1.1 20250425 Debian GNU/Linux 12 Kernel: 5.15 Compiler: gcc gcc (Debian 12.2.0-14+deb12u1) 12.2.0 CentOS Stream 10 Kernel: 5.15 Compiler: gcc gcc (GCC) 14.2.1 20250110 (Red Hat 14.2.1-8) CentOS Stream 9 Kernel: 5.15 Compiler: gcc gcc (GCC) 11.5.0 20240719 (Red Hat 11.5.0-7) Fedora Linux 41 Kernel: 5.15 Compiler: gcc gcc (GCC) 14.3.1 20250523 (Red Hat 14.3.1-1) Fedora Linux 40 Kernel: 5.15 Compiler: gcc gcc (GCC) 14.2.1 20240912 (Red Hat 14.2.1-3) Ubuntu 22.04 Kernel: 5.15 Compiler: gcc gcc (Ubuntu 11.4.0-1ubuntu1~22.04) 11.4.0 Red Hat Enterprise Linux 9.5 Kernel: 5.15 Compiler: gcc gcc (GCC) 11.5.0 20240719 (Red Hat 11.5.0-2) Red Hat Enterprise Linux 8.10 Kernel: 5.15 Compiler: gcc gcc (GCC) 8.5.0 20210514 (Red Hat 8.5.0-22) Ubuntu 20.04 Kernel: 5.15 Compiler: gcc gcc (Ubuntu 9.4.0-1ubuntu1~20.04.2) 9.4.0 Ubuntu 24.04 Kernel: 5.15 Compiler: gcc gcc (Ubuntu 13.3.0-6ubuntu2~24.04) 13.3.0 Windows Server 2022 Kernel: 10.0.20348.2031 Compiler: clang 15.0.7, gcc 14.1.0 (MinGW), and MSVC VS 19.39.33521 To view detailed results, visit: https://lab.dpdk.org/results/dashboard/tarballs/34174/ UNH-IOL DPDK Community Lab To manage your email subscriptions, visit: https://lab.dpdk.org/results/dashboard/preferences/subscriptions/