From mboxrd@z Thu Jan 1 00:00:00 1970 Return-Path: Received: from mails.dpdk.org (mails.dpdk.org [217.70.189.124]) by inbox.dpdk.org (Postfix) with ESMTP id DE2F446B1F for ; Tue, 8 Jul 2025 04:03:23 +0200 (CEST) Received: from mails.dpdk.org (localhost [127.0.0.1]) by mails.dpdk.org (Postfix) with ESMTP id D8CE940287; Tue, 8 Jul 2025 04:03:23 +0200 (CEST) Received: from mail-pl1-f227.google.com (mail-pl1-f227.google.com [209.85.214.227]) by mails.dpdk.org (Postfix) with ESMTP id D8ACC40287 for ; Tue, 8 Jul 2025 04:03:22 +0200 (CEST) Received: by mail-pl1-f227.google.com with SMTP id d9443c01a7336-235e1d710d8so50650965ad.1 for ; Mon, 07 Jul 2025 19:03:22 -0700 (PDT) DKIM-Signature: v=1; a=rsa-sha256; c=relaxed/relaxed; d=iol.unh.edu; s=unh-iol; t=1751940202; x=1752545002; darn=dpdk.org; h=cc:to:from:subject:message-id:date:from:to:cc:subject:date :message-id:reply-to; bh=YLLrj1baxKW0lxy/fexu3lnCt1W8CD3EU/qEuQr1bm8=; b=gzHUg1MFWflb/7TGVhFmqE8Q0L/X8Fyv9agz30lEGjxFcv7doI5SJuVi3crrE6BKrq x7c0iyEESeV/Pue0TNGCln3wgwJDFZrfyMSxB3X2HFBR7IcSHYeRr8x+j2OReNP2PSfj Jj5fKls05AxyF+mfMJNqwAJunWoz2zsJLdXzg= X-Google-DKIM-Signature: v=1; a=rsa-sha256; c=relaxed/relaxed; d=1e100.net; s=20230601; t=1751940202; x=1752545002; h=cc:to:from:subject:message-id:date:x-gm-message-state:from:to:cc :subject:date:message-id:reply-to; bh=YLLrj1baxKW0lxy/fexu3lnCt1W8CD3EU/qEuQr1bm8=; b=WKwldZ3g2wJGQMb3TPaVhzFiol7VluedQwEFe0THiIEu+LW8NQdq1RfwZ5Vuotz6U8 EqFAwkMEgKWV5KLcKdlppd7PKI15csF4JzHO3QzaTteR2sV6gYbvHCHj8jCZu4dmf9bU +doEwoNHgAT/kMJ3o5XIqfo97XXaSMwYgjv4y0T+DrtA8exBXl0dENhAhaMUwQhG5FXZ wY37Pi3CJdlmaF/zCilHcBOXdF5nLx6/Uh9xT4r/xX8O9PTLkhyDhPBLlVT/JgSkJmps JKpMq/bfxoeXIm4t4iu5tus2HX4QOEfLLqKvdMhmjx6L2EB+gXg9sqRj6uQmbUBwz7Li 1ZtQ== X-Gm-Message-State: AOJu0YwaneSrZQRSdeodh6FeEUNchmJvf99kf5e8CqDkxj0LK6K+p74Y ehofZlYbnyo7LgUweDWn6akYQVZ09BnZxg1NZYI+mrU+yK+a2W6341CSka9bvNLGRwqiUnJorFi mc5zNdwRfYDMmM6lFTTxPs+wtrPrU3c2p+8eYssNckaTW X-Gm-Gg: ASbGnctpbaVET2R4VlQqVCHvBnfayCFYesrfoxdOcz96Gcq2VzfIp1KtJ3a9DIU2IVP USyUtaqxb647Kl9TzXKoTblL4KARd9/Nli9hHtIU1aO/39v6Jo6SLZGLBANUQ0GV+KY3kp94tUZ 7JW7u00cgr9tsTJiy2KYi70chr+U0fVl3B4C6eDGa1shnloU1yF/Jghfd8F0NaKLRinLIsJlh1X t4BXISvyahp+op+vvtdmmNw4Tpne5AzuF5hd+0/kgsf2hhkFM9A7Uy3ZF12LTHcBUyVpClLnCuz gNGz7yDJEoY07CnqAev9W32Rv7xKKsmtaYkeLmSdq8eAVtN3OSXQ4DfEcaKB+iX4HmQb+g== X-Google-Smtp-Source: AGHT+IEpuvZm2VWLK8YZNLIGD2IOSuHrgBsttgXuo8jDzoaTbTMNi/aUqnTWhEThaEjXYFVYshiaLjBDcwFo X-Received: by 2002:a17:90a:e704:b0:311:e8cc:4253 with SMTP id 98e67ed59e1d1-31c21c8b098mr1555612a91.2.1751940201847; Mon, 07 Jul 2025 19:03:21 -0700 (PDT) Received: from postal.iol.unh.edu (postal.iol.unh.edu. [132.177.123.84]) by smtp-relay.gmail.com with ESMTPS id 98e67ed59e1d1-31c21e84546sm49219a91.10.2025.07.07.19.03.21 (version=TLS1_2 cipher=ECDHE-ECDSA-AES128-GCM-SHA256 bits=128/128); Mon, 07 Jul 2025 19:03:21 -0700 (PDT) X-Relaying-Domain: iol.unh.edu Date: Mon, 07 Jul 2025 19:03:21 -0700 (PDT) Message-ID: <686c7c69.170a0220.2a541d.29b6SMTPIN_ADDED_MISSING@mx.google.com> Received: from [172.21.0.6] (unknown [172.18.0.240]) by postal.iol.unh.edu (Postfix) with ESMTP id 157CC6051830; Mon, 7 Jul 2025 22:03:21 -0400 (EDT) Subject: |SUCCESS| [GIT MASTER] 70c2297528e7c7789af452f78de1932e9a20c8a2 From: dpdklab@iol.unh.edu To: Test Report Cc: dpdk-test-reports@iol.unh.edu Content-Type: text/plain X-BeenThere: test-report@dpdk.org X-Mailman-Version: 2.1.29 Precedence: list List-Id: automatic DPDK test reports List-Unsubscribe: , List-Archive: List-Post: List-Help: List-Subscribe: , Errors-To: test-report-bounces@dpdk.org _Testing PASS_ Branch: dpdk 70c2297528e7c7789af452f78de1932e9a20c8a2 --> testing pass Upstream job id: Generic-Unit-Test-DPDK#353324 Test environment and result as below: +------------------------------+---------------------------+------------------------------+--------------+----------------+ | Environment | cryptodev_sw_zuc_autotest | cryptodev_sw_snow3g_autotest | lpm_autotest | dpdk_unit_test | +==============================+===========================+==============================+==============+================+ | Debian 12 (arm) | PASS | PASS | SKIPPED | SKIPPED | +------------------------------+---------------------------+------------------------------+--------------+----------------+ | Ubuntu 20.04 | SKIPPED | SKIPPED | PASS | PASS | +------------------------------+---------------------------+------------------------------+--------------+----------------+ | CentOS Stream 10 | SKIPPED | SKIPPED | SKIPPED | PASS | +------------------------------+---------------------------+------------------------------+--------------+----------------+ | CentOS Stream 9 | SKIPPED | SKIPPED | SKIPPED | PASS | +------------------------------+---------------------------+------------------------------+--------------+----------------+ | Debian GNU/Linux 12 | SKIPPED | SKIPPED | SKIPPED | PASS | +------------------------------+---------------------------+------------------------------+--------------+----------------+ | Fedora Linux 40 | SKIPPED | SKIPPED | SKIPPED | PASS | +------------------------------+---------------------------+------------------------------+--------------+----------------+ | Ubuntu 22.04 | SKIPPED | SKIPPED | SKIPPED | PASS | +------------------------------+---------------------------+------------------------------+--------------+----------------+ | Fedora Linux 41 | SKIPPED | SKIPPED | SKIPPED | PASS | +------------------------------+---------------------------+------------------------------+--------------+----------------+ | Ubuntu 24.04 | SKIPPED | SKIPPED | SKIPPED | PASS | +------------------------------+---------------------------+------------------------------+--------------+----------------+ | Red Hat Enterprise Linux 9.5 | SKIPPED | SKIPPED | SKIPPED | PASS | +------------------------------+---------------------------+------------------------------+--------------+----------------+ Debian 12 (arm) Kernel: Depends on container host Compiler: gcc (Debian 12.2.0-14) 12.2.0 Ubuntu 20.04 Kernel: 5.4 Compiler: gcc gcc (Ubuntu 9.4.0-1ubuntu1~20.04.2) 9.4.0 CentOS Stream 10 Kernel: 5.4 Compiler: gcc gcc (GCC) 14.2.1 20250110 (Red Hat 14.2.1-8) CentOS Stream 9 Kernel: 5.4 Compiler: gcc gcc (GCC) 11.5.0 20240719 (Red Hat 11.5.0-7) Debian GNU/Linux 12 Kernel: 5.4 Compiler: gcc gcc (Debian 12.2.0-14+deb12u1) 12.2.0 Fedora Linux 40 Kernel: 5.4 Compiler: clang gcc (GCC) 14.2.1 20240912 (Red Hat 14.2.1-3) Ubuntu 22.04 Kernel: 5.4 Compiler: gcc gcc (Ubuntu 11.4.0-1ubuntu1~22.04) 11.4.0 Fedora Linux 41 Kernel: 5.4 Compiler: gcc gcc (GCC) 14.3.1 20250523 (Red Hat 14.3.1-1) Ubuntu 24.04 Kernel: 5.4 Compiler: gcc gcc (Ubuntu 13.3.0-6ubuntu2~24.04) 13.3.0 Red Hat Enterprise Linux 9.5 Kernel: 5.4 Compiler: gcc gcc (GCC) 11.5.0 20240719 (Red Hat 11.5.0-2) To view detailed results, visit: https://lab.dpdk.org/results/dashboard/tarballs/34174/ UNH-IOL DPDK Community Lab To manage your email subscriptions, visit: https://lab.dpdk.org/results/dashboard/preferences/subscriptions/