From mboxrd@z Thu Jan 1 00:00:00 1970 Return-Path: Received: from mails.dpdk.org (mails.dpdk.org [217.70.189.124]) by inbox.dpdk.org (Postfix) with ESMTP id 2EC3F46B1F for ; Tue, 8 Jul 2025 04:05:13 +0200 (CEST) Received: from mails.dpdk.org (localhost [127.0.0.1]) by mails.dpdk.org (Postfix) with ESMTP id 1111540287; Tue, 8 Jul 2025 04:05:13 +0200 (CEST) Received: from mail-oo1-f97.google.com (mail-oo1-f97.google.com [209.85.161.97]) by mails.dpdk.org (Postfix) with ESMTP id DA9A440287 for ; Tue, 8 Jul 2025 04:05:11 +0200 (CEST) Received: by mail-oo1-f97.google.com with SMTP id 006d021491bc7-60d63174f05so1084862eaf.0 for ; Mon, 07 Jul 2025 19:05:11 -0700 (PDT) DKIM-Signature: v=1; a=rsa-sha256; c=relaxed/relaxed; d=iol.unh.edu; s=unh-iol; t=1751940311; x=1752545111; darn=dpdk.org; h=cc:to:from:subject:message-id:date:from:to:cc:subject:date :message-id:reply-to; bh=pfYvB9g1gmTZFOk5XG3gU7CQKapvYcibBwu/EqQoWxI=; b=JgXOULkKioO1cw3rLmPYVC8CLxjYH5N3gbG+euFRpBv1B/wG+4b9oL7+v6orHeL8CG Bdh6eOajnd57zAfmvPOxUyNepi+rXyBRWTRVGDAghM7MvXO9lfLOEorxGUy1qvAT/pof 7PfMj30WWoZg4KLpXOhSfgv7Lw/gL9U+VtEkM= X-Google-DKIM-Signature: v=1; a=rsa-sha256; c=relaxed/relaxed; d=1e100.net; s=20230601; t=1751940311; x=1752545111; h=cc:to:from:subject:message-id:date:x-gm-message-state:from:to:cc :subject:date:message-id:reply-to; bh=pfYvB9g1gmTZFOk5XG3gU7CQKapvYcibBwu/EqQoWxI=; b=Yn++ntm3Z4SA+42+Ortslck+bSunBK2nKTIWD75CkaWXdkjH00JceX6Hi95Kave2pA 2kp2zHXK5PYgF3JqL/+TOf5yesYoViTJ8YT+kqRGFyVwJapE413rlzwBJyrlvDwmNUC1 hNspikPOSYIDQ8WGEyy4638eEgTisGbJ95ZXn4KFS5oinuLyPdDyitifrPrHVTaegYM5 oAl+bJitog73Rf+5l/EINTAfzPZ3XZVvDvlk9nUlfoU0oNVCYhGDiEDYUlIT3d4rMlnc myrqQ13VvMqctIueOkeSEajpJOiY6YI7Jnl8cnzYxGea6hf6QBpCQOeRnRgFqJ3fJnnF 2o1w== X-Gm-Message-State: AOJu0YzjmLA2m7OwLSsaSCUOwt8n1kiSXAQrS6Z1yQetWxFhxaurNZgs CvbG6NtpvQAQg7jq6LjCRAdShnIaXJR/YVU1N3z0Kllrq2uOUP4Czn0UISUDkO9RZEghygjCHEr AVwnYE10uWfyhmzXsMChHzekRRpeXIkW0msdv62jze6ho X-Gm-Gg: ASbGncvz5g6nVIrNfICJD679DVkkTBipuyZglbAmziyoCWVikOc+vaGQBTcoxWGqAMB vsuAH7a1YsK4OxTD8fw7Z3Qa7emfwpzClcchkq2m9daU41iS6515x5C3CQgLldesBZl5RmCO3+i q1kFRaD3kc6HmYNlguposudSWxSlVBi2BAPX/23eKuAB3TxJGXmLiDRwaEz19em3u/LgVZNpeMe P6DTmRteH1quBG1FhjePavzGnW38CmGSb83zPyD4H0DflxDaM8uoWlAT9X1Pub4+YbnAlGlt9UY XHUOnzN3x4UBNYuHoFTRcQXoL5yW/37MTA1eSUnFiZ2Te9NadakkJ26CxZgJIlxfVDnJyQ== X-Google-Smtp-Source: AGHT+IGFl6hHJE2lBE6Ui9/HkmHfp+WudugcJFTDNECo529kL3t9TUWZRNlIlkU2ex3OSYXO41KSx00mYZ/s X-Received: by 2002:a05:6870:649f:b0:2ea:6f56:5c1d with SMTP id 586e51a60fabf-2f791a8b8dbmr10792538fac.0.1751940310947; Mon, 07 Jul 2025 19:05:10 -0700 (PDT) Received: from postal.iol.unh.edu (postal.iol.unh.edu. [132.177.123.84]) by smtp-relay.gmail.com with ESMTPS id 586e51a60fabf-2f7900b8062sm602802fac.28.2025.07.07.19.05.10 (version=TLS1_2 cipher=ECDHE-ECDSA-AES128-GCM-SHA256 bits=128/128); Mon, 07 Jul 2025 19:05:10 -0700 (PDT) X-Relaying-Domain: iol.unh.edu Date: Mon, 07 Jul 2025 19:05:10 -0700 (PDT) Message-ID: <686c7cd6.050a0220.140d94.eaf4SMTPIN_ADDED_MISSING@mx.google.com> Received: from [172.21.0.5] (unknown [172.18.0.240]) by postal.iol.unh.edu (Postfix) with ESMTP id 05E266051830; Mon, 7 Jul 2025 22:05:10 -0400 (EDT) Subject: |WARNING| [GIT MASTER] 70c2297528e7c7789af452f78de1932e9a20c8a2 From: dpdklab@iol.unh.edu To: Test Report Cc: dpdk-test-reports@iol.unh.edu Content-Type: text/plain X-BeenThere: test-report@dpdk.org X-Mailman-Version: 2.1.29 Precedence: list List-Id: automatic DPDK test reports List-Unsubscribe: , List-Archive: List-Post: List-Help: List-Subscribe: , Errors-To: test-report-bounces@dpdk.org _Testing issues_ Branch: dpdk 70c2297528e7c7789af452f78de1932e9a20c8a2 --> testing issues Upstream job id: Generic-DPDK-Compile-Meson#406294 Test environment and result as below: +-------------------------------+--------------------+-------------------+------------------+-------------------+-------------------------+----------------------+ | Environment | dpdk_meson_compile | dpdk_compile_spdk | dpdk_compile_ovs | dpdk_msvc_compile | dpdk_llvm_clang_compile | dpdk_mingw64_compile | +===============================+====================+===================+==================+===================+=========================+======================+ | CentOS Stream 9 | PASS | PASS | SKIPPED | SKIPPED | SKIPPED | SKIPPED | +-------------------------------+--------------------+-------------------+------------------+-------------------+-------------------------+----------------------+ | CentOS Stream 10 | PASS | SKIPPED | SKIPPED | SKIPPED | SKIPPED | SKIPPED | +-------------------------------+--------------------+-------------------+------------------+-------------------+-------------------------+----------------------+ | Debian GNU/Linux 12 | PASS | PASS | SKIPPED | SKIPPED | SKIPPED | SKIPPED | +-------------------------------+--------------------+-------------------+------------------+-------------------+-------------------------+----------------------+ | Fedora Linux 40 | PASS | PASS | SKIPPED | SKIPPED | SKIPPED | SKIPPED | +-------------------------------+--------------------+-------------------+------------------+-------------------+-------------------------+----------------------+ | Fedora Linux 41 | PASS | PASS | PASS | SKIPPED | SKIPPED | SKIPPED | +-------------------------------+--------------------+-------------------+------------------+-------------------+-------------------------+----------------------+ | Red Hat Enterprise Linux 8.10 | PASS | SKIPPED | SKIPPED | SKIPPED | SKIPPED | SKIPPED | +-------------------------------+--------------------+-------------------+------------------+-------------------+-------------------------+----------------------+ | openSUSE Leap 15.6 | PASS | SKIPPED | SKIPPED | SKIPPED | SKIPPED | SKIPPED | +-------------------------------+--------------------+-------------------+------------------+-------------------+-------------------------+----------------------+ | Red Hat Enterprise Linux 9.5 | PASS | SKIPPED | SKIPPED | SKIPPED | SKIPPED | SKIPPED | +-------------------------------+--------------------+-------------------+------------------+-------------------+-------------------------+----------------------+ | Ubuntu 20.04 | PASS | SKIPPED | SKIPPED | SKIPPED | SKIPPED | SKIPPED | +-------------------------------+--------------------+-------------------+------------------+-------------------+-------------------------+----------------------+ | Ubuntu 24.04 | PASS | PASS | PASS | SKIPPED | SKIPPED | SKIPPED | +-------------------------------+--------------------+-------------------+------------------+-------------------+-------------------------+----------------------+ | Alpine Linux 3.22.0 | PASS | SKIPPED | SKIPPED | SKIPPED | SKIPPED | SKIPPED | +-------------------------------+--------------------+-------------------+------------------+-------------------+-------------------------+----------------------+ | Arch Linux 20250613.0.365270 | PASS | SKIPPED | SKIPPED | SKIPPED | SKIPPED | SKIPPED | +-------------------------------+--------------------+-------------------+------------------+-------------------+-------------------------+----------------------+ | Ubuntu 22.04 | PASS | PASS | SKIPPED | SKIPPED | SKIPPED | SKIPPED | +-------------------------------+--------------------+-------------------+------------------+-------------------+-------------------------+----------------------+ | Windows Server 2022 | SKIPPED | SKIPPED | SKIPPED | PASS | PASS | PASS | +-------------------------------+--------------------+-------------------+------------------+-------------------+-------------------------+----------------------+ CentOS Stream 9 Kernel: 5.15 Compiler: gcc gcc (GCC) 11.5.0 20240719 (Red Hat 11.5.0-7) CentOS Stream 10 Kernel: 5.15 Compiler: gcc gcc (GCC) 14.2.1 20250110 (Red Hat 14.2.1-8) Debian GNU/Linux 12 Kernel: 5.15 Compiler: gcc gcc (Debian 12.2.0-14+deb12u1) 12.2.0 Fedora Linux 40 Kernel: 5.15 Compiler: clang gcc (GCC) 14.2.1 20240912 (Red Hat 14.2.1-3) Fedora Linux 41 Kernel: 5.15 Compiler: clang gcc (GCC) 14.3.1 20250523 (Red Hat 14.3.1-1) Red Hat Enterprise Linux 8.10 Kernel: 5.15 Compiler: gcc gcc (GCC) 8.5.0 20210514 (Red Hat 8.5.0-22) openSUSE Leap 15.6 Kernel: 5.15 Compiler: gcc gcc (SUSE Linux) 7.5.0 Red Hat Enterprise Linux 9.5 Kernel: 5.15 Compiler: gcc gcc (GCC) 11.5.0 20240719 (Red Hat 11.5.0-2) Ubuntu 20.04 Kernel: 5.15 Compiler: gcc gcc (Ubuntu 9.4.0-1ubuntu1~20.04.2) 9.4.0 Ubuntu 24.04 Kernel: 5.15 Compiler: gcc gcc (Ubuntu 13.3.0-6ubuntu2~24.04) 13.3.0 Alpine Linux 3.22.0 Kernel: 5.15 Compiler: gcc gcc (Alpine 14.2.0) 14.2.0 Arch Linux 20250613.0.365270 Kernel: 5.15 Compiler: gcc gcc (GCC) 15.1.1 20250425 Ubuntu 22.04 Kernel: 5.15 Compiler: gcc gcc (Ubuntu 11.4.0-1ubuntu1~22.04) 11.4.0 Windows Server 2022 Kernel: 10.0.20348.2031 Compiler: clang 15.0.7, gcc 14.1.0 (MinGW), and MSVC VS 19.39.33521 To view detailed results, visit: https://lab.dpdk.org/results/dashboard/tarballs/34174/ UNH-IOL DPDK Community Lab To manage your email subscriptions, visit: https://lab.dpdk.org/results/dashboard/preferences/subscriptions/