From mboxrd@z Thu Jan 1 00:00:00 1970 Return-Path: Received: from mails.dpdk.org (mails.dpdk.org [217.70.189.124]) by inbox.dpdk.org (Postfix) with ESMTP id 74EE746B1F for ; Tue, 8 Jul 2025 04:07:54 +0200 (CEST) Received: from mails.dpdk.org (localhost [127.0.0.1]) by mails.dpdk.org (Postfix) with ESMTP id 5662140287; Tue, 8 Jul 2025 04:07:54 +0200 (CEST) Received: from mail-qv1-f97.google.com (mail-qv1-f97.google.com [209.85.219.97]) by mails.dpdk.org (Postfix) with ESMTP id DC07740287 for ; Tue, 8 Jul 2025 04:07:52 +0200 (CEST) Received: by mail-qv1-f97.google.com with SMTP id 6a1803df08f44-70478ba562aso14688646d6.1 for ; Mon, 07 Jul 2025 19:07:52 -0700 (PDT) DKIM-Signature: v=1; a=rsa-sha256; c=relaxed/relaxed; d=iol.unh.edu; s=unh-iol; t=1751940472; x=1752545272; darn=dpdk.org; h=cc:to:from:subject:message-id:date:from:to:cc:subject:date :message-id:reply-to; bh=9vQrrKg8IRxltHK2yOSzPNGN/jO+SAQz/Tjvg3BYLQ8=; b=LOIZUXHkweilfmxVBddDIH+xoTc1BxseKrsJynsz/Ob1/fQH94I/B6QSUBUsO0xDft jaBPJqXj8DFN+eETwY+iMd5CV6dVYwAJxXrlKOJrBOA7YXWDxP92aoc21DzwscVBPe/C n8qNlBrW79piIFuG8TaH1+DRkDthYTKzztgcU= X-Google-DKIM-Signature: v=1; a=rsa-sha256; c=relaxed/relaxed; d=1e100.net; s=20230601; t=1751940472; x=1752545272; h=cc:to:from:subject:message-id:date:x-gm-message-state:from:to:cc :subject:date:message-id:reply-to; bh=9vQrrKg8IRxltHK2yOSzPNGN/jO+SAQz/Tjvg3BYLQ8=; b=VU3JC4codEDAc8pqpPrift9O/dVn2O7rTk41lTQfKkAhcpMqBfY/h/RhyYi5fLoNzz UOzJ3r6qjyehzs/RsKWeQql+9mxcNkSKMjgmGatKeOhYIiBLwt1TMAGMoTcSjjBdj1vD 3WYTdrK6f1rYEfxnoceJRLmaEChUlc2+9USTGpW6nrA3VJPU4FRVuk6RpbJiRdFuznaM 7G2uuP7GItzGGheVAJTECjR+c5nR2kqBI4H5AZYrjoimdJh0tasdFvQEiA3aKvAZIzZD 6iC6Co4ZYSyT6mTcQAt89SF5ZHCALnUM6ur/VIkvWKU5D2O6HB+d0vNxnobO5VvcF4PC ZiQA== X-Gm-Message-State: AOJu0YwmP4FMizTJ4hct1LL+c8uIJudaet8TJt8r48hCSbYg4U2uWAyJ wb6vAHCuVkNBzLlUlFjlYQPGVGmrN1+efJA71R32xKKfpdDbpcGVyhyac1+gDje49in5YEg651w tpOAoDuZdBJXPpT/pinVxImq7ZyMNdj/YVuPh71xWtwk42zZhtSQwxQLX2BLW X-Gm-Gg: ASbGncu2qmY/agbUxxIIeHLFy5/cYtO3sPUHK0a28i5k5x5lCdvbja/Ox69RRzaPrzz SNDnz8c1N3QSPxXMvAbEAl/j9yNuVLs5d0BFuwGDv1OUG3iXj6AA5V7ABHxGIgxM1Enb3Bsyo5T 1Y/7Td8Ay+sb75lkoc/+5cuJzMYahRo3a2e4LHBl0gQrBxLS6djsmjm1/mPMz3GbVVJKdX/yC9Z 1tcABm0MtrCJTiwaEnOLfovz26f6FoGAVVDDt2yw0fZNWd+FQt5XLO4/9DdwybOCODUEqZBSyv0 7k+DfCPNvbf6JsLhd9URuHObMMaZUXBMn7+8uQKSqRJdry8= X-Google-Smtp-Source: AGHT+IHfH2v2m5QffpcLuulaFmcKbY4ykQZuxIyG88Cgmnjvy1NExL8t7kWehW2IyF/31GHMSZvAWV+BsLyr X-Received: by 2002:a05:6214:3387:b0:6fd:74d7:bf7e with SMTP id 6a1803df08f44-7047de2a4f9mr15041536d6.6.1751940472127; Mon, 07 Jul 2025 19:07:52 -0700 (PDT) Received: from postal.iol.unh.edu (postal.iol.unh.edu. [2606:4100:3880:1234::84]) by smtp-relay.gmail.com with ESMTPS id 6a1803df08f44-702c4d5b5eesm4924666d6.66.2025.07.07.19.07.52 (version=TLS1_2 cipher=ECDHE-ECDSA-AES128-GCM-SHA256 bits=128/128); Mon, 07 Jul 2025 19:07:52 -0700 (PDT) X-Relaying-Domain: iol.unh.edu Date: Mon, 07 Jul 2025 19:07:52 -0700 (PDT) Message-ID: <686c7d78.050a0220.33cd87.939aSMTPIN_ADDED_MISSING@mx.google.com> Received: from [172.21.0.5] (unknown [172.18.0.240]) by postal.iol.unh.edu (Postfix) with ESMTP id C9F5D6051830; Mon, 7 Jul 2025 22:07:51 -0400 (EDT) Subject: |SUCCESS| [GIT MASTER] 70c2297528e7c7789af452f78de1932e9a20c8a2 From: dpdklab@iol.unh.edu To: Test Report Cc: dpdk-test-reports@iol.unh.edu Content-Type: text/plain X-BeenThere: test-report@dpdk.org X-Mailman-Version: 2.1.29 Precedence: list List-Id: automatic DPDK test reports List-Unsubscribe: , List-Archive: List-Post: List-Help: List-Subscribe: , Errors-To: test-report-bounces@dpdk.org _Testing PASS_ Branch: dpdk 70c2297528e7c7789af452f78de1932e9a20c8a2 --> testing pass Upstream job id: Generic-DPDK-Compile-ABI#133407 Test environment and result as below: +-------------------------------+----------+ | Environment | abi_test | +===============================+==========+ | CentOS Stream 9 | PASS | +-------------------------------+----------+ | CentOS Stream 10 | PASS | +-------------------------------+----------+ | Fedora Linux 40 | PASS | +-------------------------------+----------+ | Fedora Linux 41 | PASS | +-------------------------------+----------+ | Ubuntu 22.04 | PASS | +-------------------------------+----------+ | openSUSE Leap 15.6 | PASS | +-------------------------------+----------+ | Red Hat Enterprise Linux 8.10 | PASS | +-------------------------------+----------+ | Red Hat Enterprise Linux 9.5 | PASS | +-------------------------------+----------+ | Ubuntu 24.04 | PASS | +-------------------------------+----------+ | Debian GNU/Linux 12 | PASS | +-------------------------------+----------+ | Arch Linux 20250613.0.365270 | PASS | +-------------------------------+----------+ CentOS Stream 9 Kernel: 5.15 Compiler: gcc gcc (GCC) 11.5.0 20240719 (Red Hat 11.5.0-7) CentOS Stream 10 Kernel: 5.15 Compiler: gcc gcc (GCC) 14.2.1 20250110 (Red Hat 14.2.1-8) Fedora Linux 40 Kernel: 5.15 Compiler: clang gcc (GCC) 14.2.1 20240912 (Red Hat 14.2.1-3) Fedora Linux 41 Kernel: 5.15 Compiler: gcc gcc (GCC) 14.3.1 20250523 (Red Hat 14.3.1-1) Ubuntu 22.04 Kernel: 5.15 Compiler: gcc gcc (Ubuntu 11.4.0-1ubuntu1~22.04) 11.4.0 openSUSE Leap 15.6 Kernel: 5.15 Compiler: gcc gcc (SUSE Linux) 7.5.0 Red Hat Enterprise Linux 8.10 Kernel: 5.15 Compiler: gcc gcc (GCC) 8.5.0 20210514 (Red Hat 8.5.0-22) Red Hat Enterprise Linux 9.5 Kernel: 5.15 Compiler: gcc gcc (GCC) 11.5.0 20240719 (Red Hat 11.5.0-2) Ubuntu 24.04 Kernel: 5.15 Compiler: gcc gcc (Ubuntu 13.3.0-6ubuntu2~24.04) 13.3.0 Debian GNU/Linux 12 Kernel: 5.15 Compiler: gcc gcc (Debian 12.2.0-14+deb12u1) 12.2.0 Arch Linux 20250613.0.365270 Kernel: 5.15 Compiler: gcc gcc (GCC) 15.1.1 20250425 To view detailed results, visit: https://lab.dpdk.org/results/dashboard/tarballs/34174/ UNH-IOL DPDK Community Lab To manage your email subscriptions, visit: https://lab.dpdk.org/results/dashboard/preferences/subscriptions/