From: dpdklab@iol.unh.edu
To: Test Report <test-report@dpdk.org>
Cc: dpdk-test-reports@iol.unh.edu
Subject: |SUCCESS| pw155046-155052 [PATCH] [7/7] net/gve: clear DQO Tx descri
Date: Mon, 07 Jul 2025 20:05:31 -0700 (PDT) [thread overview]
Message-ID: <686c8afb.050a0220.b6a06.0717SMTPIN_ADDED_MISSING@mx.google.com> (raw)
In-Reply-To: <20250707231812.1937260-8-joshwash@google.com>
Test-Label: iol-compile-arm64-testing
Test-Status: SUCCESS
http://dpdk.org/patch/155052
_Testing PASS_
Submitter: Joshua Washington <joshwash@google.com>
Date: Monday, July 07 2025 23:18:11
DPDK git baseline: Repo:dpdk
Branch: master
CommitID:ba982f9a1ca9b96ed0394b764f1523d482e963a2
155046-155052 --> testing pass
Upstream job id: Generic-DPDK-Compile-Meson#406240
Test environment and result as below:
+------------------------------+--------------------+
| Environment | dpdk_meson_compile |
+==============================+====================+
| Red Hat Enterprise Linux 9.5 | PASS |
+------------------------------+--------------------+
| Ubuntu 20.04 | PASS |
+------------------------------+--------------------+
| Fedora Linux 40 | PASS |
+------------------------------+--------------------+
| Debian GNU/Linux 12 | PASS |
+------------------------------+--------------------+
| Fedora Linux 41 | PASS |
+------------------------------+--------------------+
| Ubuntu 22.04 | PASS |
+------------------------------+--------------------+
| Ubuntu 24.04 | PASS |
+------------------------------+--------------------+
| CentOS Stream 10 | PASS |
+------------------------------+--------------------+
| CentOS Stream 9 | PASS |
+------------------------------+--------------------+
Red Hat Enterprise Linux 9.5
Kernel: 5.4
Compiler: gcc gcc (GCC) 11.5.0 20240719 (Red Hat 11.5.0-2)
Ubuntu 20.04
Kernel: 5.15
Compiler: aarch64-linux-gnu-gcc gcc (Ubuntu 9.4.0-1ubuntu1~20.04.2) 9.4.0
Fedora Linux 40
Kernel: 5.4
Compiler: clang gcc (GCC) 14.2.1 20240912 (Red Hat 14.2.1-3)
Debian GNU/Linux 12
Kernel: 5.4
Compiler: gcc gcc (Debian 12.2.0-14+deb12u1) 12.2.0
Fedora Linux 41
Kernel: 5.4
Compiler: clang gcc (GCC) 14.3.1 20250523 (Red Hat 14.3.1-1)
Ubuntu 22.04
Kernel: 5.4
Compiler: gcc gcc (Ubuntu 11.4.0-1ubuntu1~22.04) 11.4.0
Ubuntu 24.04
Kernel: 5.4
Compiler: gcc gcc (Ubuntu 13.3.0-6ubuntu2~24.04) 13.3.0
CentOS Stream 10
Kernel: 5.4
Compiler: gcc gcc (GCC) 14.2.1 20250110 (Red Hat 14.2.1-8)
CentOS Stream 9
Kernel: 5.4
Compiler: gcc gcc (GCC) 11.5.0 20240719 (Red Hat 11.5.0-7)
To view detailed results, visit:
https://lab.dpdk.org/results/dashboard/patchsets/33606/
UNH-IOL DPDK Community Lab
To manage your email subscriptions, visit:
https://lab.dpdk.org/results/dashboard/preferences/subscriptions/
prev parent reply other threads:[~2025-07-08 3:05 UTC|newest]
Thread overview: 20+ messages / expand[flat|nested] mbox.gz Atom feed top
[not found] <20250707231812.1937260-8-joshwash@google.com>
2025-07-07 22:53 ` |SUCCESS| pw155046-155052 [PATCH 7/7] net/gve: clear DQO Tx descriptors before writing qemudev
2025-07-07 22:58 ` qemudev
2025-07-07 23:17 ` |SUCCESS| pw155052 " checkpatch
2025-07-07 23:52 ` |PENDING| pw155046-155052 [PATCH] [7/7] net/gve: clear DQO Tx descri dpdklab
2025-07-07 23:53 ` dpdklab
2025-07-07 23:55 ` dpdklab
2025-07-08 0:01 ` dpdklab
2025-07-08 0:05 ` |SUCCESS| " dpdklab
2025-07-08 0:08 ` dpdklab
2025-07-08 0:14 ` dpdklab
2025-07-08 0:22 ` |SUCCESS| pw155052 [PATCH 7/7] net/gve: clear DQO Tx descriptors before writing 0-day Robot
2025-07-08 0:35 ` |SUCCESS| pw155046-155052 [PATCH] [7/7] net/gve: clear DQO Tx descri dpdklab
2025-07-08 0:51 ` dpdklab
2025-07-08 1:02 ` dpdklab
2025-07-08 1:03 ` |WARNING| " dpdklab
2025-07-08 1:31 ` |SUCCESS| " dpdklab
2025-07-08 1:33 ` dpdklab
2025-07-08 1:35 ` |WARNING| " dpdklab
2025-07-08 1:37 ` dpdklab
2025-07-08 3:05 ` dpdklab [this message]
Reply instructions:
You may reply publicly to this message via plain-text email
using any one of the following methods:
* Save the following mbox file, import it into your mail client,
and reply-to-all from there: mbox
Avoid top-posting and favor interleaved quoting:
https://en.wikipedia.org/wiki/Posting_style#Interleaved_style
* Reply using the --to, --cc, and --in-reply-to
switches of git-send-email(1):
git send-email \
--in-reply-to=686c8afb.050a0220.b6a06.0717SMTPIN_ADDED_MISSING@mx.google.com \
--to=dpdklab@iol.unh.edu \
--cc=dpdk-test-reports@iol.unh.edu \
--cc=test-report@dpdk.org \
/path/to/YOUR_REPLY
https://kernel.org/pub/software/scm/git/docs/git-send-email.html
* If your mail client supports setting the In-Reply-To header
via mailto: links, try the mailto: link
Be sure your reply has a Subject: header at the top and a blank line
before the message body.
This is a public inbox, see mirroring instructions
for how to clone and mirror all data and code used for this inbox;
as well as URLs for NNTP newsgroup(s).