From mboxrd@z Thu Jan 1 00:00:00 1970 Return-Path: Received: from mails.dpdk.org (mails.dpdk.org [217.70.189.124]) by inbox.dpdk.org (Postfix) with ESMTP id 487B446B1F for ; Tue, 8 Jul 2025 05:05:33 +0200 (CEST) Received: from mails.dpdk.org (localhost [127.0.0.1]) by mails.dpdk.org (Postfix) with ESMTP id 1E54040287; Tue, 8 Jul 2025 05:05:33 +0200 (CEST) Received: from mail-oi1-f225.google.com (mail-oi1-f225.google.com [209.85.167.225]) by mails.dpdk.org (Postfix) with ESMTP id 105A840287 for ; Tue, 8 Jul 2025 05:05:32 +0200 (CEST) Received: by mail-oi1-f225.google.com with SMTP id 5614622812f47-40b31468da3so1004017b6e.0 for ; Mon, 07 Jul 2025 20:05:31 -0700 (PDT) DKIM-Signature: v=1; a=rsa-sha256; c=relaxed/relaxed; d=iol.unh.edu; s=unh-iol; t=1751943931; x=1752548731; darn=dpdk.org; h=references:in-reply-to:cc:to:from:subject:message-id:date:from:to :cc:subject:date:message-id:reply-to; bh=MsyaVfUmibSXHKs6uZCjVH2GyociN7gfRJJODTOiYVM=; b=E7qFhwBv6SFQrFdgHPs3NHTmnLJfcMlkquQD5uCBRPSFMN+fGnCzduwKEk4QsR4p5m UCHm0XP6/Dt74VHgqQ50//tGWNkqQuxeQdYJEZMk/fSEO81GzFR+Zkv+HJHJGnFVev6M /NXTMMNkeUbTn/dF7jF+nvzdeKA50nnDuervk= X-Google-DKIM-Signature: v=1; a=rsa-sha256; c=relaxed/relaxed; d=1e100.net; s=20230601; t=1751943931; x=1752548731; h=references:in-reply-to:cc:to:from:subject:message-id:date :x-gm-message-state:from:to:cc:subject:date:message-id:reply-to; bh=MsyaVfUmibSXHKs6uZCjVH2GyociN7gfRJJODTOiYVM=; b=aAUFb77X0fm6wObgTTIYdbqgYmCUux1az2QzkHtkfM1GllDAzKr9hQm5n9nHqv5x7n 6iQhG/yFMvv2K9mO+xZfsMT+FGkQOnSFfIS0nXWwCHtOe4MyaVpkMAME2licWRjIZzj7 rPKuQ0Qww+iYmcR9NpILlbvb5X6s1pJDtyeL8lKovLowzZH9UXJGZAw1ib7D8u/mBOGW RSsnsGulsbIXppmjAluu+CHL6TJMeFM5Kf5HOy4We8M03EGsK51LYF+HZoufwu7DeLhd K/QxKUIgxlYVKYtFBXC4DYMwvvalRxNLnggAoz3BESmYYTVVjI5Pz+PBUQLsWk4MWEtI db8Q== X-Gm-Message-State: AOJu0YwksUL9k2aAjXZaf5BDyJYnh192lbgTDYuIsVDlp7tO/SrRArV9 +xEFdqO4jWDpB2parCV/mfWhbJNni/bYKcU/vKJlBhlQHOjWF66vfNd+d6yRpndQsIjo0KaQMgb G4nXoWyQszyj0PPEoK/qf7A//XcuM5TE0siVG73esdjGEJvat8UacPvBpc9pi X-Gm-Gg: ASbGnctMXqSu07Vs/YONJLcJDZ6EZyQZARS9AQVcRXxPVLMnK2oKay0jUT/4NOaRak2 x0954gL8kfc2infD1n8A1RXZbD1HFBcMl56P7zVOdlkUQY24CoStonAgL1S/HGYlu73hHqFTTSc jHZeVTLw9trbkCSQr+ObWeLmHqwcHqtk4ilVoQ9OdlKUxTv8UfCvdwzIh/o9ZODam86kSXAcxmK tVY6s1RhB4poJG3ReCK4UNLLAyTKZBNCKeJrRayCZtx9xOzBSRn4fH0Cy6u5sQtSWG2lnxMu+CZ BOmmMLzbs/f5kaQfjhsJgE3VSOo94qhJBpTUFcyrFXmigDk= X-Google-Smtp-Source: AGHT+IEm2rACk69rrHl7huCxTMTmAqkzwf0ULelWcC4gPM66FjcxEJLGy85sNh1Joysfc4+seCyzf7Qjg0ug X-Received: by 2002:a05:6808:198e:b0:402:ebf9:b770 with SMTP id 5614622812f47-40d04455ebdmr11369888b6e.28.1751943931166; Mon, 07 Jul 2025 20:05:31 -0700 (PDT) Received: from postal.iol.unh.edu (postal.iol.unh.edu. [2606:4100:3880:1234::84]) by smtp-relay.gmail.com with ESMTPS id 006d021491bc7-6138e5ad936sm317500eaf.22.2025.07.07.20.05.31 (version=TLS1_2 cipher=ECDHE-ECDSA-AES128-GCM-SHA256 bits=128/128); Mon, 07 Jul 2025 20:05:31 -0700 (PDT) X-Relaying-Domain: iol.unh.edu Date: Mon, 07 Jul 2025 20:05:31 -0700 (PDT) Message-ID: <686c8afb.050a0220.b6a06.0717SMTPIN_ADDED_MISSING@mx.google.com> Received: from [172.21.0.5] (unknown [172.18.0.240]) by postal.iol.unh.edu (Postfix) with ESMTP id 51E766051830; Mon, 7 Jul 2025 23:05:30 -0400 (EDT) Subject: |SUCCESS| pw155046-155052 [PATCH] [7/7] net/gve: clear DQO Tx descri From: dpdklab@iol.unh.edu To: Test Report Cc: dpdk-test-reports@iol.unh.edu In-Reply-To: <20250707231812.1937260-8-joshwash@google.com> References: <20250707231812.1937260-8-joshwash@google.com> Content-Type: text/plain X-BeenThere: test-report@dpdk.org X-Mailman-Version: 2.1.29 Precedence: list List-Id: automatic DPDK test reports List-Unsubscribe: , List-Archive: List-Post: List-Help: List-Subscribe: , Errors-To: test-report-bounces@dpdk.org Test-Label: iol-compile-arm64-testing Test-Status: SUCCESS http://dpdk.org/patch/155052 _Testing PASS_ Submitter: Joshua Washington Date: Monday, July 07 2025 23:18:11 DPDK git baseline: Repo:dpdk Branch: master CommitID:ba982f9a1ca9b96ed0394b764f1523d482e963a2 155046-155052 --> testing pass Upstream job id: Generic-DPDK-Compile-Meson#406240 Test environment and result as below: +------------------------------+--------------------+ | Environment | dpdk_meson_compile | +==============================+====================+ | Red Hat Enterprise Linux 9.5 | PASS | +------------------------------+--------------------+ | Ubuntu 20.04 | PASS | +------------------------------+--------------------+ | Fedora Linux 40 | PASS | +------------------------------+--------------------+ | Debian GNU/Linux 12 | PASS | +------------------------------+--------------------+ | Fedora Linux 41 | PASS | +------------------------------+--------------------+ | Ubuntu 22.04 | PASS | +------------------------------+--------------------+ | Ubuntu 24.04 | PASS | +------------------------------+--------------------+ | CentOS Stream 10 | PASS | +------------------------------+--------------------+ | CentOS Stream 9 | PASS | +------------------------------+--------------------+ Red Hat Enterprise Linux 9.5 Kernel: 5.4 Compiler: gcc gcc (GCC) 11.5.0 20240719 (Red Hat 11.5.0-2) Ubuntu 20.04 Kernel: 5.15 Compiler: aarch64-linux-gnu-gcc gcc (Ubuntu 9.4.0-1ubuntu1~20.04.2) 9.4.0 Fedora Linux 40 Kernel: 5.4 Compiler: clang gcc (GCC) 14.2.1 20240912 (Red Hat 14.2.1-3) Debian GNU/Linux 12 Kernel: 5.4 Compiler: gcc gcc (Debian 12.2.0-14+deb12u1) 12.2.0 Fedora Linux 41 Kernel: 5.4 Compiler: clang gcc (GCC) 14.3.1 20250523 (Red Hat 14.3.1-1) Ubuntu 22.04 Kernel: 5.4 Compiler: gcc gcc (Ubuntu 11.4.0-1ubuntu1~22.04) 11.4.0 Ubuntu 24.04 Kernel: 5.4 Compiler: gcc gcc (Ubuntu 13.3.0-6ubuntu2~24.04) 13.3.0 CentOS Stream 10 Kernel: 5.4 Compiler: gcc gcc (GCC) 14.2.1 20250110 (Red Hat 14.2.1-8) CentOS Stream 9 Kernel: 5.4 Compiler: gcc gcc (GCC) 11.5.0 20240719 (Red Hat 11.5.0-7) To view detailed results, visit: https://lab.dpdk.org/results/dashboard/patchsets/33606/ UNH-IOL DPDK Community Lab To manage your email subscriptions, visit: https://lab.dpdk.org/results/dashboard/preferences/subscriptions/