From mboxrd@z Thu Jan 1 00:00:00 1970 Return-Path: Received: from mails.dpdk.org (mails.dpdk.org [217.70.189.124]) by inbox.dpdk.org (Postfix) with ESMTP id DFAA546B1F for ; Tue, 8 Jul 2025 05:52:16 +0200 (CEST) Received: from mails.dpdk.org (localhost [127.0.0.1]) by mails.dpdk.org (Postfix) with ESMTP id CA97440287; Tue, 8 Jul 2025 05:52:16 +0200 (CEST) Received: from mail-oa1-f99.google.com (mail-oa1-f99.google.com [209.85.160.99]) by mails.dpdk.org (Postfix) with ESMTP id F0A5B40287 for ; Tue, 8 Jul 2025 05:52:14 +0200 (CEST) Received: by mail-oa1-f99.google.com with SMTP id 586e51a60fabf-2ea080f900cso1044312fac.2 for ; Mon, 07 Jul 2025 20:52:14 -0700 (PDT) DKIM-Signature: v=1; a=rsa-sha256; c=relaxed/relaxed; d=iol.unh.edu; s=unh-iol; t=1751946734; x=1752551534; darn=dpdk.org; h=cc:to:from:subject:message-id:date:from:to:cc:subject:date :message-id:reply-to; bh=1JA82cSGOgsrNOTCPfZAva3yPUPz6fNlFBN3UshKEUE=; b=Y8gfBVUqep4ZU7DRFoubAQhCNfy5EClDwyyZ81E1NLaDN0j2gmXbSkjlnRxnmBF+QP ByT4nb+va6KjjfHMrWRSzOLUjgslVMO3Om07j1y2Oh8wyMfqkIymunWCdQ+tw3q4M+5h kKC+F/Jn8XSgQ3ztPVHKdPBNX+UT5+mMazaUQ= X-Google-DKIM-Signature: v=1; a=rsa-sha256; c=relaxed/relaxed; d=1e100.net; s=20230601; t=1751946734; x=1752551534; h=cc:to:from:subject:message-id:date:x-gm-message-state:from:to:cc :subject:date:message-id:reply-to; bh=1JA82cSGOgsrNOTCPfZAva3yPUPz6fNlFBN3UshKEUE=; b=g8yFOEMcGHH/1tmRd/bVDIzK3UrIbfJDisYsd5doJMjgB4E7M+OBrxavYam/HUalUP /40dxEwxKl3BBIQ7hHmUjufxaygYTSCBQjso+Itor0Camin8pATfXtwENBYpBw86FxNA qFRHCEH86bUa/luZUWsnIRwXWUVJJWx+QLS6U000lbjMnFocmSeJFojr/Brp4gr3mbL5 kvxoZEOzik+2oD7K8LZlLlHwDgYrkxb5n9JOsbYDIYUNKrFCPggJH9mRpbTWStMCvnKz b/xYl8HwNr2ZjRomsOisaZxBSRy9J9BWNxLYsbMDq0EDk7oT6+jU5a3wlnjiuqhsaznQ dgyw== X-Gm-Message-State: AOJu0YyI8Tu1QLW4RN0hSTgLk9f76ZmAjES2Ic8vy2N55oBEmlwXCGte Lx1vZrJBtiFCHzxgmey8tCBLhMs1+PjqOk4ua/lo3ZS8yKcWnHfzKTSIauqQZrV5YQzogxziMKl b+eOTzXBtm0IHRBvu8E3yS19sglhrvYKAyjnmf+nPjx3fXKYqtFMiWv90Y2pm X-Gm-Gg: ASbGnctRF1JUYBUY3m2rAx+n402zebktVUZUqYjoQQ03Nb293fLw3dCaV/dxXS2kZAk W9MF97K1E/mvM8/nXYhqsYlG66wNs6iXNiViE9hOrIZjtXUbffhiAUMTxb5Pu95NBdWGyy4QaCQ 0kixawyHVp1hsKBJG3H/rHg2rcND3luvQwTNINlyDMw9z/NV9rrbn/OcvHIbY5So5KxjGEyA/dO 2MKdintUg2ng3TOXtDIiWOR/oIYbEt/M9wM9QRoKuTSsoYkqF6wpr6VuuPhXfBxf8L9GwZ2yI1D shgFnjbePQzs9qdjGt3DHPR8MCmyQjMd5lkOiac9W9VHKrQ= X-Google-Smtp-Source: AGHT+IEvX6SaIGDwK5VXmAOQqGHb/LBuvM0PUjGUsIkadZv3/hbSVuCECGa8Fzm7/xCJQVexrvVBinr1AsIf X-Received: by 2002:a05:6870:c145:b0:2f7:840d:fe9 with SMTP id 586e51a60fabf-2f791fc97bbmr12153426fac.22.1751946734141; Mon, 07 Jul 2025 20:52:14 -0700 (PDT) Received: from postal.iol.unh.edu (postal.iol.unh.edu. [2606:4100:3880:1234::84]) by smtp-relay.gmail.com with ESMTPS id 586e51a60fabf-2f7900bb150sm609791fac.30.2025.07.07.20.52.14 (version=TLS1_2 cipher=ECDHE-ECDSA-AES128-GCM-SHA256 bits=128/128); Mon, 07 Jul 2025 20:52:14 -0700 (PDT) X-Relaying-Domain: iol.unh.edu Date: Mon, 07 Jul 2025 20:52:14 -0700 (PDT) Message-ID: <686c95ee.050a0220.11b428.f08cSMTPIN_ADDED_MISSING@mx.google.com> Received: from [172.21.0.5] (unknown [172.18.0.240]) by postal.iol.unh.edu (Postfix) with ESMTP id 9E9136051830; Mon, 7 Jul 2025 23:52:13 -0400 (EDT) Subject: |SUCCESS| [GIT MASTER] 70c2297528e7c7789af452f78de1932e9a20c8a2 From: dpdklab@iol.unh.edu To: Test Report Cc: dpdk-test-reports@iol.unh.edu Content-Type: text/plain X-BeenThere: test-report@dpdk.org X-Mailman-Version: 2.1.29 Precedence: list List-Id: automatic DPDK test reports List-Unsubscribe: , List-Archive: List-Post: List-Help: List-Subscribe: , Errors-To: test-report-bounces@dpdk.org _Testing PASS_ Branch: dpdk 70c2297528e7c7789af452f78de1932e9a20c8a2 --> testing pass Upstream job id: Generic-DPDK-Compile-Meson#406271 Test environment and result as below: +------------------------------+--------------------+ | Environment | dpdk_meson_compile | +==============================+====================+ | Red Hat Enterprise Linux 9.5 | PASS | +------------------------------+--------------------+ | Fedora Linux 40 | PASS | +------------------------------+--------------------+ | Ubuntu 20.04 | PASS | +------------------------------+--------------------+ | Debian GNU/Linux 12 | PASS | +------------------------------+--------------------+ | Ubuntu 24.04 | PASS | +------------------------------+--------------------+ | CentOS Stream 10 | PASS | +------------------------------+--------------------+ | Ubuntu 22.04 | PASS | +------------------------------+--------------------+ | CentOS Stream 9 | PASS | +------------------------------+--------------------+ | Fedora Linux 41 | PASS | +------------------------------+--------------------+ Red Hat Enterprise Linux 9.5 Kernel: 5.4 Compiler: gcc gcc (GCC) 11.5.0 20240719 (Red Hat 11.5.0-2) Fedora Linux 40 Kernel: 5.4 Compiler: gcc gcc (GCC) 14.2.1 20240912 (Red Hat 14.2.1-3) Ubuntu 20.04 Kernel: 5.15 Compiler: aarch64-linux-gnu-gcc gcc (Ubuntu 9.4.0-1ubuntu1~20.04.2) 9.4.0 Debian GNU/Linux 12 Kernel: 5.4 Compiler: gcc gcc (Debian 12.2.0-14+deb12u1) 12.2.0 Ubuntu 24.04 Kernel: 5.4 Compiler: gcc gcc (Ubuntu 13.3.0-6ubuntu2~24.04) 13.3.0 CentOS Stream 10 Kernel: 5.4 Compiler: gcc gcc (GCC) 14.2.1 20250110 (Red Hat 14.2.1-8) Ubuntu 22.04 Kernel: 5.4 Compiler: gcc gcc (Ubuntu 11.4.0-1ubuntu1~22.04) 11.4.0 CentOS Stream 9 Kernel: 5.4 Compiler: gcc gcc (GCC) 11.5.0 20240719 (Red Hat 11.5.0-7) Fedora Linux 41 Kernel: 5.4 Compiler: gcc gcc (GCC) 14.3.1 20250523 (Red Hat 14.3.1-1) To view detailed results, visit: https://lab.dpdk.org/results/dashboard/tarballs/34174/ UNH-IOL DPDK Community Lab To manage your email subscriptions, visit: https://lab.dpdk.org/results/dashboard/preferences/subscriptions/