From: dpdklab@iol.unh.edu
To: Test Report <test-report@dpdk.org>
Cc: dpdk-test-reports@iol.unh.edu
Subject: |SUCCESS| pw155053 [PATCH] examples/multi_process: fix cleanup on ex
Date: Tue, 08 Jul 2025 01:29:31 -0700 (PDT) [thread overview]
Message-ID: <686cd6eb.050a0220.1d3655.fedeSMTPIN_ADDED_MISSING@mx.google.com> (raw)
In-Reply-To: <20250708070954.165222-1-mkashani@nvidia.com>
Test-Label: iol-compile-amd64-testing
Test-Status: SUCCESS
http://dpdk.org/patch/155053
_Testing PASS_
Submitter: Maayan Kashani <mkashani@nvidia.com>
Date: Tuesday, July 08 2025 07:09:54
DPDK git baseline: Repo:dpdk
Branch: master
CommitID:70c2297528e7c7789af452f78de1932e9a20c8a2
155053 --> testing pass
Upstream job id: Windows-Compile-DPDK-VS#6290
Test environment and result as below:
+---------------------+--------------------+-------------------+-------------------------+
| Environment | dpdk_meson_compile | dpdk_msvc_compile | dpdk_llvm_clang_compile |
+=====================+====================+===================+=========================+
| Ubuntu 20.04 | PASS | SKIPPED | SKIPPED |
+---------------------+--------------------+-------------------+-------------------------+
| Windows Server 2022 | SKIPPED | PASS | PASS |
+---------------------+--------------------+-------------------+-------------------------+
Ubuntu 20.04
Kernel: 4.19
Compiler: gcc gcc (Ubuntu 9.4.0-1ubuntu1~20.04.2) 9.4.0
Windows Server 2022
Kernel: 10.0.20348.2031
Compiler: clang 15.0.7, gcc 14.1.0 (MinGW), and MSVC VS 19.39.33521
To view detailed results, visit:
https://lab.dpdk.org/results/dashboard/patchsets/33607/
UNH-IOL DPDK Community Lab
To manage your email subscriptions, visit:
https://lab.dpdk.org/results/dashboard/preferences/subscriptions/
next prev parent reply other threads:[~2025-07-08 8:29 UTC|newest]
Thread overview: 20+ messages / expand[flat|nested] mbox.gz Atom feed top
[not found] <20250708070954.165222-1-mkashani@nvidia.com>
2025-07-08 6:40 ` |SUCCESS| pw155053 [PATCH] examples/multi_process: fix cleanup on exit qemudev
2025-07-08 6:44 ` qemudev
2025-07-08 7:09 ` checkpatch
2025-07-08 7:57 ` |SUCCESS| pw155053 [PATCH] examples/multi_process: fix cleanup on ex dpdklab
2025-07-08 8:03 ` |SUCCESS| pw155053 [PATCH] examples/multi_process: fix cleanup on exit 0-day Robot
2025-07-08 8:06 ` |SUCCESS| pw155053 [PATCH] examples/multi_process: fix cleanup on ex dpdklab
2025-07-08 8:06 ` dpdklab
2025-07-08 8:09 ` dpdklab
2025-07-08 8:10 ` dpdklab
2025-07-08 8:29 ` dpdklab [this message]
2025-07-08 8:30 ` |PENDING| " dpdklab
2025-07-08 8:33 ` dpdklab
2025-07-08 8:33 ` |SUCCESS| " dpdklab
2025-07-08 9:10 ` dpdklab
2025-07-08 9:15 ` dpdklab
2025-07-08 9:25 ` dpdklab
2025-07-08 9:25 ` dpdklab
2025-07-08 10:00 ` |WARNING| " dpdklab
2025-07-08 11:48 ` |SUCCESS| " dpdklab
2025-07-08 12:17 ` dpdklab
Reply instructions:
You may reply publicly to this message via plain-text email
using any one of the following methods:
* Save the following mbox file, import it into your mail client,
and reply-to-all from there: mbox
Avoid top-posting and favor interleaved quoting:
https://en.wikipedia.org/wiki/Posting_style#Interleaved_style
* Reply using the --to, --cc, and --in-reply-to
switches of git-send-email(1):
git send-email \
--in-reply-to=686cd6eb.050a0220.1d3655.fedeSMTPIN_ADDED_MISSING@mx.google.com \
--to=dpdklab@iol.unh.edu \
--cc=dpdk-test-reports@iol.unh.edu \
--cc=test-report@dpdk.org \
/path/to/YOUR_REPLY
https://kernel.org/pub/software/scm/git/docs/git-send-email.html
* If your mail client supports setting the In-Reply-To header
via mailto: links, try the mailto: link
Be sure your reply has a Subject: header at the top and a blank line
before the message body.
This is a public inbox, see mirroring instructions
for how to clone and mirror all data and code used for this inbox;
as well as URLs for NNTP newsgroup(s).