From mboxrd@z Thu Jan 1 00:00:00 1970 Return-Path: Received: from mails.dpdk.org (mails.dpdk.org [217.70.189.124]) by inbox.dpdk.org (Postfix) with ESMTP id 15C5E46B27 for ; Tue, 8 Jul 2025 10:29:33 +0200 (CEST) Received: from mails.dpdk.org (localhost [127.0.0.1]) by mails.dpdk.org (Postfix) with ESMTP id EECDA4028C; Tue, 8 Jul 2025 10:29:32 +0200 (CEST) Received: from mail-oa1-f97.google.com (mail-oa1-f97.google.com [209.85.160.97]) by mails.dpdk.org (Postfix) with ESMTP id 79C504028C for ; Tue, 8 Jul 2025 10:29:32 +0200 (CEST) Received: by mail-oa1-f97.google.com with SMTP id 586e51a60fabf-2efbbf5a754so2853902fac.0 for ; Tue, 08 Jul 2025 01:29:32 -0700 (PDT) DKIM-Signature: v=1; a=rsa-sha256; c=relaxed/relaxed; d=iol.unh.edu; s=unh-iol; t=1751963371; x=1752568171; darn=dpdk.org; h=references:in-reply-to:cc:to:from:subject:message-id:date:from:to :cc:subject:date:message-id:reply-to; bh=+S7aVuFJWyqU2glv/36OmBrp7Og+oiF/qih5RlQdqpk=; b=ZbmvcDxQsmmjOewFvJERlhUnK/PPoNZmcjw/TdEsijQfhBL7ql15buos7TVAe/KnPL NEY1y9/bUYfkho1EAD7QivcusClgZTfPven7VFlT+XuzL6EHxXzqWOq2Eamf5H2KU0hr uawuMtdTvbvBARP60zeW+lm+BCWm4CoyZPiAg= X-Google-DKIM-Signature: v=1; a=rsa-sha256; c=relaxed/relaxed; d=1e100.net; s=20230601; t=1751963371; x=1752568171; h=references:in-reply-to:cc:to:from:subject:message-id:date :x-gm-message-state:from:to:cc:subject:date:message-id:reply-to; bh=+S7aVuFJWyqU2glv/36OmBrp7Og+oiF/qih5RlQdqpk=; b=fswxzaJpagOvVN9qf7LWNZ3yW4/3656ywe8IEgx/+wJsGIdUDaKUcuHtLUJhOvuUk5 OTUTd7ukbVCzAJ/zM1UTlW99b7aVxDJI0RMigYwlleETznnimSJv0PlwzlgfjhNEKg/B 3C9FIX3NkFeF5jAexf1lZ1e3C+0E0M/iGtEjHEFIilE2cU9NAaBczN8HprxXdmi6uZiW nQDiU3qp+GUmjgn1UQiGYagsoCw/6WEepywBP3nygwb0RuTzGauCzjqa0AuPDH2Kzrmj MhBjNY6ke7rj5tZBqgGjT17Nxi+pM1xA54IZ+3Z5Q2UDwmILkpMQBKIq4tyTycOOqYmO mQCA== X-Gm-Message-State: AOJu0YzlcPiXkZQYQ8gGQpCD06hiO7crmg+SnSmFAyS4Z4BwcZByArjT kBYGmjCGMdkEag273b3PqouZJs9RKxPo23Z/zpu9qtveS+AD6+CyHlBJidHY5ggLkpIqseVr7pT m4tAfI4LwqKI1lHTOiYxTCcSiYZs2RGXFVsI8sjmHiuOqoXVxZX67XmnueqC+ X-Gm-Gg: ASbGncvYDPoAKoNMNQgW1kxgD26y2kjp7Bp6Cikb01eHTFK+htbNLzgEVjYRAeVa4yc vUUm//ei9w07aiUc9rXbwnECLil36yGWSXInZMHqEszUs3bgbWJ7siQBGHGp5kd5aZEV7630cn6 F1f6Q7V2/IGkwaqZxir8pilIFTYZoOBisNiRyoiy7720dfoPYrhNf97kzvP4SKVeYwPeRvYg1WE Z3QZiV+h/olIzuURCioDs8MQaoBGOBkZMRDLluMLo8I6C33zYf8zdrjWwbdfTTbzMdy7KWRkk0v q5vnEzDBntu0Fw+ReyyXcBSneU7QPZMJb8hZLyJxSC7P05s= X-Google-Smtp-Source: AGHT+IEJ/UaCVTjdJ1HzoylineKYOKu/gVJFqYaPIDMGOEMOFiWS/pmjhFJX76AH1/YjLk/le2l7PY/IiHqN X-Received: by 2002:a05:6871:7b08:b0:287:471:41eb with SMTP id 586e51a60fabf-2f796b85f58mr12445861fac.6.1751963371509; Tue, 08 Jul 2025 01:29:31 -0700 (PDT) Received: from postal.iol.unh.edu (postal.iol.unh.edu. [2606:4100:3880:1234::84]) by smtp-relay.gmail.com with ESMTPS id 586e51a60fabf-2f790150de3sm626887fac.37.2025.07.08.01.29.31 (version=TLS1_2 cipher=ECDHE-ECDSA-AES128-GCM-SHA256 bits=128/128); Tue, 08 Jul 2025 01:29:31 -0700 (PDT) X-Relaying-Domain: iol.unh.edu Date: Tue, 08 Jul 2025 01:29:31 -0700 (PDT) Message-ID: <686cd6eb.050a0220.1d3655.fedeSMTPIN_ADDED_MISSING@mx.google.com> Received: from [172.21.0.8] (unknown [172.18.0.240]) by postal.iol.unh.edu (Postfix) with ESMTP id AA8396051830; Tue, 8 Jul 2025 04:29:30 -0400 (EDT) Subject: |SUCCESS| pw155053 [PATCH] examples/multi_process: fix cleanup on ex From: dpdklab@iol.unh.edu To: Test Report Cc: dpdk-test-reports@iol.unh.edu In-Reply-To: <20250708070954.165222-1-mkashani@nvidia.com> References: <20250708070954.165222-1-mkashani@nvidia.com> Content-Type: text/plain X-BeenThere: test-report@dpdk.org X-Mailman-Version: 2.1.29 Precedence: list List-Id: automatic DPDK test reports List-Unsubscribe: , List-Archive: List-Post: List-Help: List-Subscribe: , Errors-To: test-report-bounces@dpdk.org Test-Label: iol-compile-amd64-testing Test-Status: SUCCESS http://dpdk.org/patch/155053 _Testing PASS_ Submitter: Maayan Kashani Date: Tuesday, July 08 2025 07:09:54 DPDK git baseline: Repo:dpdk Branch: master CommitID:70c2297528e7c7789af452f78de1932e9a20c8a2 155053 --> testing pass Upstream job id: Windows-Compile-DPDK-VS#6290 Test environment and result as below: +---------------------+--------------------+-------------------+-------------------------+ | Environment | dpdk_meson_compile | dpdk_msvc_compile | dpdk_llvm_clang_compile | +=====================+====================+===================+=========================+ | Ubuntu 20.04 | PASS | SKIPPED | SKIPPED | +---------------------+--------------------+-------------------+-------------------------+ | Windows Server 2022 | SKIPPED | PASS | PASS | +---------------------+--------------------+-------------------+-------------------------+ Ubuntu 20.04 Kernel: 4.19 Compiler: gcc gcc (Ubuntu 9.4.0-1ubuntu1~20.04.2) 9.4.0 Windows Server 2022 Kernel: 10.0.20348.2031 Compiler: clang 15.0.7, gcc 14.1.0 (MinGW), and MSVC VS 19.39.33521 To view detailed results, visit: https://lab.dpdk.org/results/dashboard/patchsets/33607/ UNH-IOL DPDK Community Lab To manage your email subscriptions, visit: https://lab.dpdk.org/results/dashboard/preferences/subscriptions/