From mboxrd@z Thu Jan 1 00:00:00 1970 Return-Path: Received: from mails.dpdk.org (mails.dpdk.org [217.70.189.124]) by inbox.dpdk.org (Postfix) with ESMTP id 6F4E846B27 for ; Tue, 8 Jul 2025 10:33:28 +0200 (CEST) Received: from mails.dpdk.org (localhost [127.0.0.1]) by mails.dpdk.org (Postfix) with ESMTP id 6ADF34028C; Tue, 8 Jul 2025 10:33:28 +0200 (CEST) Received: from mail-oa1-f97.google.com (mail-oa1-f97.google.com [209.85.160.97]) by mails.dpdk.org (Postfix) with ESMTP id 0E6624028C for ; Tue, 8 Jul 2025 10:33:27 +0200 (CEST) Received: by mail-oa1-f97.google.com with SMTP id 586e51a60fabf-2eff5d1c7efso3130860fac.2 for ; Tue, 08 Jul 2025 01:33:27 -0700 (PDT) DKIM-Signature: v=1; a=rsa-sha256; c=relaxed/relaxed; d=iol.unh.edu; s=unh-iol; t=1751963606; x=1752568406; darn=dpdk.org; h=references:in-reply-to:cc:to:from:subject:message-id:date:from:to :cc:subject:date:message-id:reply-to; bh=2J5QqZF7dEV/Vx1+j1XW5aQe9XO/RpcdE52+22wxRkU=; b=fS1ToQLa5T1vPrFiBNxEbSnu+NyscTJcvqPAHPfHdhzj3wCfCs46Bz8QI3SOmtgkhA zP2Y8PgdzQLQoX8H/U0payxAFbuwESczBkL+KcIF7wdx4aEOHex03HCKrGFEZRm85YgU eTYEvYQin2BLUO/5727WmIZ2YGdQ/b6CEifhI= X-Google-DKIM-Signature: v=1; a=rsa-sha256; c=relaxed/relaxed; d=1e100.net; s=20230601; t=1751963606; x=1752568406; h=references:in-reply-to:cc:to:from:subject:message-id:date :x-gm-message-state:from:to:cc:subject:date:message-id:reply-to; bh=2J5QqZF7dEV/Vx1+j1XW5aQe9XO/RpcdE52+22wxRkU=; b=ON2nCFPrXBsOlPkJzvap/+DQS0RGvWhSc5y3TxQjQmZbHXz1sSoUqrlpMYRoQTriPX gtvjj6cf29OTJYbzuFXSm5m8qJvniSbaRmwgL1zghYVli6gMtIo51dvTCFGM2THhKV/v UhpW/GEOUUzmQSoBbEArB5sB31WjWBKPOLLShKqXoiTlgdLBsSq3xNtRlc85EwsIyOLg yIiFkW6oU+LpCGyp/MDayAFu7w1z0WMfzH0G5VeaglBlfFoWudXO+5txaKc1wklTAilR iiPFaJC2TeeNqOx4W35kSrhonO5QnO3d6YNYAgQKtLhsRvN3mxqEDIoHf3xJ6795e+3E ghXw== X-Gm-Message-State: AOJu0YxhRJi6zaZfr9PyDK7d5xyJ0ezlEkP/uGjFxQQpfPdPLQooXmEF NuK5B0a8AKJdfi4Uj7FDYZMqXgzRG0hp2coBfu5rCkGhiW/Xl9ktu9a8Qli3hyOvTazACjaUKc4 V8AfSVVhcEi6na3nbsRJ+X9eT1lnS3uSVaYSP6fG/BQBw X-Gm-Gg: ASbGncuHlhmghIqK8Ii9MQpnJBa7130Mu0qwsGUVPXxiCPws5151m+HLmUifpR6+Euo e77dL58mF7K/QaEYmm7qVVN67cONVVSk3tUGDc5fzHwT13UUoqM4Vc0+BfppTlHEm3qB5MUM9pR UyXgsgAQHfb2f/vE4zTS0Gtu/KT83vjzlPay+qid8hss55Iaypk48CjhNzhZchA6YcxfP3jR5sI Fdr3gKDn7V7JG7w946D/av5TNQO0oN9RdTNsJwUjGwXbLj9g3qW3k5ykA8XtVs/z1nXScY6pRQn Tu1XVMuw397FpVu/0qTZ6xafWQEUiPH0Cx56nP3gcB+juxqDntrjODHH2UqpQEghxohgOA== X-Google-Smtp-Source: AGHT+IFn6RROp+eHQQ9t9aGMXieh8rNGjmNUgRLFyK7G9bQpJ7rf40oAt7OmpbFPd0H1RxUlaiAMENcIzD7h X-Received: by 2002:a05:6871:7b08:b0:2f6:c9a6:4f7f with SMTP id 586e51a60fabf-2f796d8019bmr11250689fac.39.1751963606369; Tue, 08 Jul 2025 01:33:26 -0700 (PDT) Received: from postal.iol.unh.edu (postal.iol.unh.edu. [132.177.123.84]) by smtp-relay.gmail.com with ESMTPS id 586e51a60fabf-2f78fdff1f2sm651139fac.5.2025.07.08.01.33.26 (version=TLS1_2 cipher=ECDHE-ECDSA-AES128-GCM-SHA256 bits=128/128); Tue, 08 Jul 2025 01:33:26 -0700 (PDT) X-Relaying-Domain: iol.unh.edu Date: Tue, 08 Jul 2025 01:33:26 -0700 (PDT) Message-ID: <686cd7d6.050a0220.1a6c69.2d84SMTPIN_ADDED_MISSING@mx.google.com> Received: from [172.21.0.5] (unknown [172.18.0.240]) by postal.iol.unh.edu (Postfix) with ESMTP id D88EE60003E7; Tue, 8 Jul 2025 04:33:25 -0400 (EDT) Subject: |SUCCESS| pw155053 [PATCH] examples/multi_process: fix cleanup on ex From: dpdklab@iol.unh.edu To: Test Report Cc: dpdk-test-reports@iol.unh.edu In-Reply-To: <20250708070954.165222-1-mkashani@nvidia.com> References: <20250708070954.165222-1-mkashani@nvidia.com> Content-Type: text/plain X-BeenThere: test-report@dpdk.org X-Mailman-Version: 2.1.29 Precedence: list List-Id: automatic DPDK test reports List-Unsubscribe: , List-Archive: List-Post: List-Help: List-Subscribe: , Errors-To: test-report-bounces@dpdk.org Test-Label: iol-compile-amd64-testing Test-Status: SUCCESS http://dpdk.org/patch/155053 _Testing PASS_ Submitter: Maayan Kashani Date: Tuesday, July 08 2025 07:09:54 DPDK git baseline: Repo:dpdk Branch: master CommitID:70c2297528e7c7789af452f78de1932e9a20c8a2 155053 --> testing pass Upstream job id: Windows-Compile-DPDK-Native#29636 Test environment and result as below: +---------------------+--------------------+-------------------+-------------------------+ | Environment | dpdk_meson_compile | dpdk_msvc_compile | dpdk_llvm_clang_compile | +=====================+====================+===================+=========================+ | Ubuntu 20.04 | PASS | SKIPPED | SKIPPED | +---------------------+--------------------+-------------------+-------------------------+ | Windows Server 2022 | SKIPPED | PASS | PASS | +---------------------+--------------------+-------------------+-------------------------+ Ubuntu 20.04 Kernel: 4.19 Compiler: gcc gcc (Ubuntu 9.4.0-1ubuntu1~20.04.2) 9.4.0 Windows Server 2022 Kernel: 10.0.20348.2031 Compiler: clang 15.0.7, gcc 14.1.0 (MinGW), and MSVC VS 19.39.33521 To view detailed results, visit: https://lab.dpdk.org/results/dashboard/patchsets/33607/ UNH-IOL DPDK Community Lab To manage your email subscriptions, visit: https://lab.dpdk.org/results/dashboard/preferences/subscriptions/