From mboxrd@z Thu Jan 1 00:00:00 1970 Return-Path: Received: from mails.dpdk.org (mails.dpdk.org [217.70.189.124]) by inbox.dpdk.org (Postfix) with ESMTP id D659746B27 for ; Tue, 8 Jul 2025 11:10:05 +0200 (CEST) Received: from mails.dpdk.org (localhost [127.0.0.1]) by mails.dpdk.org (Postfix) with ESMTP id D22634028C; Tue, 8 Jul 2025 11:10:05 +0200 (CEST) Received: from mail-il1-f228.google.com (mail-il1-f228.google.com [209.85.166.228]) by mails.dpdk.org (Postfix) with ESMTP id AD0394028C for ; Tue, 8 Jul 2025 11:10:04 +0200 (CEST) Received: by mail-il1-f228.google.com with SMTP id e9e14a558f8ab-3dda399db09so40656505ab.3 for ; Tue, 08 Jul 2025 02:10:04 -0700 (PDT) DKIM-Signature: v=1; a=rsa-sha256; c=relaxed/relaxed; d=iol.unh.edu; s=unh-iol; t=1751965804; x=1752570604; darn=dpdk.org; h=references:in-reply-to:cc:to:from:subject:message-id:date:from:to :cc:subject:date:message-id:reply-to; bh=HofZd1z21yVbslD2hf1QfXMhfDGWSbfBs2S/ilz/fAI=; b=U3xvjM/pgjCYKuWC2DqncpAd7LjS/YN6idG6LnRMFs8yPCq5U5VavejDFtTQOJx/JV qZDgL0UtPuekuH6DvK6TejDO/O6cxpzvg39LC0IXlRNFWCe7HH5vB0F7koTs9J9lt7KP NgFCGiCd/zxPlFOQ2rpFJGdSewObGDtqa4+0w= X-Google-DKIM-Signature: v=1; a=rsa-sha256; c=relaxed/relaxed; d=1e100.net; s=20230601; t=1751965804; x=1752570604; h=references:in-reply-to:cc:to:from:subject:message-id:date :x-gm-message-state:from:to:cc:subject:date:message-id:reply-to; bh=HofZd1z21yVbslD2hf1QfXMhfDGWSbfBs2S/ilz/fAI=; b=X4LV0qg91tEy3zAxI4wQwhA+ovbjf5g3aUJYdO0p6NuWnUnm2ZmHuXRmnUtqUZ4RUb Ep52RMEKEsx9ubSdsXfVcJLB6hHzLo6FVXnundweLhVwpCdnPbPLDRTQO21iXHncCkZL fRSbvr/+IIbs6yE9tAPgetInWQ/u3qBSTnqO01oLbeiUBg+CmF5b11QQ9lwJ2Gr02ctM 6IOpIJCg3i9NwpsOMg+gKwDd5mO7SXFn0qn4r2tK6eRVjuLV31yZRRczGIB1niJ15oA7 ErmNCPzRu/QRgrNyLyQxsoQRFx2YE71ICPKeGiP9yh8M2+x8xdMyGiq0lHue8bmSwyDJ hQXA== X-Gm-Message-State: AOJu0YxiFJwT8AiLPmRld6KlPejQdSNFbzXC3mOcQSPQQLsmXBKYtDys CjfCMqSKpdkUQP8mLP9fj1smaeAshn6+irIjCFmRHgj1he4WBBURRioaoHrT7fSlgSkE3Xs4bBS uCKNbqYVWQPsxImv6ud1rK6NgzyITRvbMJrkr20PK6K2l X-Gm-Gg: ASbGncubJVqI6qsmmw+pf7I8ipCgOcUNKhz4QaClmC1XxMmaPJ3bKU8vYtySxBoyy6H GTeW4tMISLm1icC21//GTl+amOYrixwNf63g7hv5JU2CQo2Wa/CxoRT+f4ZzFodXX22nzW2TmBa y9rUGFyFe4VKUcscbwuJzy6dzHvBdTOGyjkgGVHGczxoDLVV5lGfMN6ED/Bm97Z8t00AY//cv+B 1Oc3UYjBFmR6ibKCd2UBljcTPfPpUFaL6wBWoqpC69mXRxMlcDALHbcPa1wqnzpHDHkmU9qKB40 +lE177WeeJqouoFRZBSKSrLsS+pyH4wV2ns6ssP8MpGGfBhmj2yNNUVvA2/xeoFovzqRRQ== X-Google-Smtp-Source: AGHT+IG2CRVJC7RAgy9ApXUdXLcFVtAbAgXyS086F5zEs9sAsNJ9QobcVXTfKNvjeUepZNARNPjEleSDFooL X-Received: by 2002:a05:6e02:b45:b0:3dc:87c7:a5a6 with SMTP id e9e14a558f8ab-3e154da35cemr20058155ab.4.1751965803953; Tue, 08 Jul 2025 02:10:03 -0700 (PDT) Received: from postal.iol.unh.edu (postal.iol.unh.edu. [132.177.123.84]) by smtp-relay.gmail.com with ESMTPS id e9e14a558f8ab-3e0f9c2b0e9sm6377185ab.32.2025.07.08.02.10.03 (version=TLS1_2 cipher=ECDHE-ECDSA-AES128-GCM-SHA256 bits=128/128); Tue, 08 Jul 2025 02:10:03 -0700 (PDT) X-Relaying-Domain: iol.unh.edu Date: Tue, 08 Jul 2025 02:10:03 -0700 (PDT) Message-ID: <686ce06b.050a0220.468ff.19b0SMTPIN_ADDED_MISSING@mx.google.com> Received: from [172.21.0.7] (unknown [172.18.0.240]) by postal.iol.unh.edu (Postfix) with ESMTP id 664196051830; Tue, 8 Jul 2025 05:10:03 -0400 (EDT) Subject: |SUCCESS| pw155053 [PATCH] examples/multi_process: fix cleanup on ex From: dpdklab@iol.unh.edu To: Test Report Cc: dpdk-test-reports@iol.unh.edu In-Reply-To: <20250708070954.165222-1-mkashani@nvidia.com> References: <20250708070954.165222-1-mkashani@nvidia.com> Content-Type: text/plain X-BeenThere: test-report@dpdk.org X-Mailman-Version: 2.1.29 Precedence: list List-Id: automatic DPDK test reports List-Unsubscribe: , List-Archive: List-Post: List-Help: List-Subscribe: , Errors-To: test-report-bounces@dpdk.org Test-Label: iol-unit-amd64-testing Test-Status: SUCCESS http://dpdk.org/patch/155053 _Testing PASS_ Submitter: Maayan Kashani Date: Tuesday, July 08 2025 07:09:54 DPDK git baseline: Repo:dpdk Branch: master CommitID:70c2297528e7c7789af452f78de1932e9a20c8a2 155053 --> testing pass Upstream job id: Generic-Unit-Test-DPDK#353451 Test environment and result as below: +-------------------------------+----------------+ | Environment | dpdk_unit_test | +===============================+================+ | Debian GNU/Linux 12 | PASS | +-------------------------------+----------------+ | Fedora Linux 40 | PASS | +-------------------------------+----------------+ | CentOS Stream 10 | PASS | +-------------------------------+----------------+ | CentOS Stream 9 | PASS | +-------------------------------+----------------+ | Fedora Linux 41 | PASS | +-------------------------------+----------------+ | Red Hat Enterprise Linux 8.10 | PASS | +-------------------------------+----------------+ | Red Hat Enterprise Linux 9.5 | PASS | +-------------------------------+----------------+ | Ubuntu 22.04 | PASS | +-------------------------------+----------------+ | Ubuntu 20.04 | PASS | +-------------------------------+----------------+ | Ubuntu 24.04 | PASS | +-------------------------------+----------------+ | Windows Server 2022 | PASS | +-------------------------------+----------------+ Debian GNU/Linux 12 Kernel: 5.15 Compiler: gcc gcc (Debian 12.2.0-14+deb12u1) 12.2.0 Fedora Linux 40 Kernel: 5.15 Compiler: clang gcc (GCC) 14.2.1 20240912 (Red Hat 14.2.1-3) CentOS Stream 10 Kernel: 5.15 Compiler: gcc gcc (GCC) 14.2.1 20250110 (Red Hat 14.2.1-8) CentOS Stream 9 Kernel: 5.15 Compiler: gcc gcc (GCC) 11.5.0 20240719 (Red Hat 11.5.0-7) Fedora Linux 41 Kernel: 5.15 Compiler: gcc gcc (GCC) 14.3.1 20250523 (Red Hat 14.3.1-1) Red Hat Enterprise Linux 8.10 Kernel: 5.15 Compiler: gcc gcc (GCC) 8.5.0 20210514 (Red Hat 8.5.0-22) Red Hat Enterprise Linux 9.5 Kernel: 5.15 Compiler: gcc gcc (GCC) 11.5.0 20240719 (Red Hat 11.5.0-2) Ubuntu 22.04 Kernel: 5.15 Compiler: gcc gcc (Ubuntu 11.4.0-1ubuntu1~22.04) 11.4.0 Ubuntu 20.04 Kernel: 5.15 Compiler: gcc gcc (Ubuntu 9.4.0-1ubuntu1~20.04.2) 9.4.0 Ubuntu 24.04 Kernel: 5.15 Compiler: gcc gcc (Ubuntu 13.3.0-6ubuntu2~24.04) 13.3.0 Windows Server 2022 Kernel: 10.0.20348.2031 Compiler: clang 15.0.7, gcc 14.1.0 (MinGW), and MSVC VS 19.39.33521 To view detailed results, visit: https://lab.dpdk.org/results/dashboard/patchsets/33607/ UNH-IOL DPDK Community Lab To manage your email subscriptions, visit: https://lab.dpdk.org/results/dashboard/preferences/subscriptions/