From mboxrd@z Thu Jan 1 00:00:00 1970 Return-Path: Received: from mails.dpdk.org (mails.dpdk.org [217.70.189.124]) by inbox.dpdk.org (Postfix) with ESMTP id 5F1F946B27 for ; Tue, 8 Jul 2025 11:15:04 +0200 (CEST) Received: from mails.dpdk.org (localhost [127.0.0.1]) by mails.dpdk.org (Postfix) with ESMTP id 404224028C; Tue, 8 Jul 2025 11:15:04 +0200 (CEST) Received: from mail-io1-f99.google.com (mail-io1-f99.google.com [209.85.166.99]) by mails.dpdk.org (Postfix) with ESMTP id 127964028C for ; Tue, 8 Jul 2025 11:15:03 +0200 (CEST) Received: by mail-io1-f99.google.com with SMTP id ca18e2360f4ac-8760d31bd35so141254439f.2 for ; Tue, 08 Jul 2025 02:15:02 -0700 (PDT) DKIM-Signature: v=1; a=rsa-sha256; c=relaxed/relaxed; d=iol.unh.edu; s=unh-iol; t=1751966102; x=1752570902; darn=dpdk.org; h=references:in-reply-to:cc:to:from:subject:message-id:date:from:to :cc:subject:date:message-id:reply-to; bh=YFRw/iHiaNdK3yxaMfa55OJPeJyd3H6VoTSZ4j3PaLo=; b=I15/XmxZFTZ0nJdCm+SMTvqJy154fez4VJiEPobCkh4ASXr9yAfxoLhRDnUAjqaqa5 uf0uRiVZyp8qDnZA5z32kiQ1FWttmVnCl9z2ZC3lE1DvBRHXpNMbA9B96UfDxvtnrJWb q30CltJdTdcac90Sifl00Ysm6SAEu9wuqX0h0= X-Google-DKIM-Signature: v=1; a=rsa-sha256; c=relaxed/relaxed; d=1e100.net; s=20230601; t=1751966102; x=1752570902; h=references:in-reply-to:cc:to:from:subject:message-id:date :x-gm-message-state:from:to:cc:subject:date:message-id:reply-to; bh=YFRw/iHiaNdK3yxaMfa55OJPeJyd3H6VoTSZ4j3PaLo=; b=vPoZIejcz/sFfvjNISjrDZ03s8g4w7o0hghlQVfoECyudjhgJz90aPV+YMimYHt5KD NU5USrY4aM0URj+9MThDDMCXuYRU3pud28DfzUdkGAwLThZoHLhMQBTsmnF0fi30SHzQ 85ZuJjysNbimsRtc222jUf4Dl8a3+e5BNGHmdO+Y0zQOe8g+awaxQiN53Dyzxw/ukA52 QWIW/CSjZSp4+nYBTMrwSKV8h6B6s6wLJl/8skKES7aweR8nj5LwFEkP6+DCB9DR9FbD 3mRQoXyJ5pPve5TxY7pUpv3BIVBnCmCc/H1BPmgiOYRsQ0EdWZu5m4isAZ+zlAMNOCW+ sQ2w== X-Gm-Message-State: AOJu0Yw3US6jzeKzn/7J+NlMxQvcDVd6QvL6UsJtijjVssHdfjkMZwF+ h2uS28cARWBszhFc+5jLnEdGGREiyKri87MjT3gvBoJ2emJdJBnGUAmy3SXOJuMBGiMygLHfpNi F5JVxDHPnFKEEBkcNCY2fVP4aMyrtoLGnQp1pHwftV3DepxBerdW3llKnHK/n X-Gm-Gg: ASbGncu3+FXmCiy85uv8dguL7BICrZTyyMYxA/8AN9mQfrWUPHyuMe55W2gvMUm3ekB je7CDbi6CYqLDDLBi0XDsm4741lMN8S2prA7vBP2Jk1lCB9YI5BBfMfQ2gtBeuFMKUCCn44YxcQ SjVPD2+IRdGkBcAWOJ+sA5o+NDcKaifSAvHXUVS8Sg0qTl8mYKtA4/G9vAXRJO21M3PYHV2Q3H1 200Gqvi0odWCpp9DbPjG5CdzYYVpR54VpWGbnHvn/Yk4Xo9dmlKGy23SeMPbnRUI6VYCL5oAWAs iq9GTbo6NGfCH+MghLdnkISOuRE9rGQGpvICDtuRLfO6q+Y= X-Google-Smtp-Source: AGHT+IH3NmwE9o0cw0FTPZsEW+KH8KD3O9PXCF/wLBkYPmnlYQWpMoW0x8fRG6I0K8aC8QeXIOHZQvTUMt4Y X-Received: by 2002:a05:6602:2d90:b0:873:47fb:a455 with SMTP id ca18e2360f4ac-8794a3b1b73mr279880339f.2.1751966102099; Tue, 08 Jul 2025 02:15:02 -0700 (PDT) Received: from postal.iol.unh.edu (postal.iol.unh.edu. [2606:4100:3880:1234::84]) by smtp-relay.gmail.com with ESMTPS id ca18e2360f4ac-876e082f4a6sm42522339f.19.2025.07.08.02.15.02 (version=TLS1_2 cipher=ECDHE-ECDSA-AES128-GCM-SHA256 bits=128/128); Tue, 08 Jul 2025 02:15:02 -0700 (PDT) X-Relaying-Domain: iol.unh.edu Date: Tue, 08 Jul 2025 02:15:02 -0700 (PDT) Message-ID: <686ce196.050a0220.5c70c.667cSMTPIN_ADDED_MISSING@mx.google.com> Received: from [172.21.0.5] (unknown [172.18.0.240]) by postal.iol.unh.edu (Postfix) with ESMTP id 947936051830; Tue, 8 Jul 2025 05:15:01 -0400 (EDT) Subject: |SUCCESS| pw155053 [PATCH] examples/multi_process: fix cleanup on ex From: dpdklab@iol.unh.edu To: Test Report Cc: dpdk-test-reports@iol.unh.edu In-Reply-To: <20250708070954.165222-1-mkashani@nvidia.com> References: <20250708070954.165222-1-mkashani@nvidia.com> Content-Type: text/plain X-BeenThere: test-report@dpdk.org X-Mailman-Version: 2.1.29 Precedence: list List-Id: automatic DPDK test reports List-Unsubscribe: , List-Archive: List-Post: List-Help: List-Subscribe: , Errors-To: test-report-bounces@dpdk.org Test-Label: iol-unit-arm64-testing Test-Status: SUCCESS http://dpdk.org/patch/155053 _Testing PASS_ Submitter: Maayan Kashani Date: Tuesday, July 08 2025 07:09:54 DPDK git baseline: Repo:dpdk Branch: master CommitID:70c2297528e7c7789af452f78de1932e9a20c8a2 155053 --> testing pass Upstream job id: Generic-Unit-Test-DPDK#353440 Test environment and result as below: +------------------------------+----------------+--------------+---------------------------+------------------------------+ | Environment | dpdk_unit_test | lpm_autotest | cryptodev_sw_zuc_autotest | cryptodev_sw_snow3g_autotest | +==============================+================+==============+===========================+==============================+ | Fedora Linux 40 | PASS | SKIPPED | SKIPPED | SKIPPED | +------------------------------+----------------+--------------+---------------------------+------------------------------+ | CentOS Stream 9 | PASS | SKIPPED | SKIPPED | SKIPPED | +------------------------------+----------------+--------------+---------------------------+------------------------------+ | Fedora Linux 41 | PASS | SKIPPED | SKIPPED | SKIPPED | +------------------------------+----------------+--------------+---------------------------+------------------------------+ | Debian GNU/Linux 12 | PASS | SKIPPED | SKIPPED | SKIPPED | +------------------------------+----------------+--------------+---------------------------+------------------------------+ | CentOS Stream 10 | PASS | SKIPPED | SKIPPED | SKIPPED | +------------------------------+----------------+--------------+---------------------------+------------------------------+ | Red Hat Enterprise Linux 9.5 | PASS | SKIPPED | SKIPPED | SKIPPED | +------------------------------+----------------+--------------+---------------------------+------------------------------+ | Ubuntu 20.04 | PASS | PASS | SKIPPED | SKIPPED | +------------------------------+----------------+--------------+---------------------------+------------------------------+ | Ubuntu 22.04 | PASS | SKIPPED | SKIPPED | SKIPPED | +------------------------------+----------------+--------------+---------------------------+------------------------------+ | Ubuntu 24.04 | PASS | SKIPPED | SKIPPED | SKIPPED | +------------------------------+----------------+--------------+---------------------------+------------------------------+ | Debian 12 (arm) | SKIPPED | SKIPPED | PASS | PASS | +------------------------------+----------------+--------------+---------------------------+------------------------------+ Fedora Linux 40 Kernel: 5.4 Compiler: gcc gcc (GCC) 14.2.1 20240912 (Red Hat 14.2.1-3) CentOS Stream 9 Kernel: 5.4 Compiler: gcc gcc (GCC) 11.5.0 20240719 (Red Hat 11.5.0-7) Fedora Linux 41 Kernel: 5.4 Compiler: gcc gcc (GCC) 14.3.1 20250523 (Red Hat 14.3.1-1) Debian GNU/Linux 12 Kernel: 5.4 Compiler: gcc gcc (Debian 12.2.0-14+deb12u1) 12.2.0 CentOS Stream 10 Kernel: 5.4 Compiler: gcc gcc (GCC) 14.2.1 20250110 (Red Hat 14.2.1-8) Red Hat Enterprise Linux 9.5 Kernel: 5.4 Compiler: gcc gcc (GCC) 11.5.0 20240719 (Red Hat 11.5.0-2) Ubuntu 20.04 Kernel: 5.4 Compiler: gcc gcc (Ubuntu 9.4.0-1ubuntu1~20.04.2) 9.4.0 Ubuntu 22.04 Kernel: 5.4 Compiler: gcc gcc (Ubuntu 11.4.0-1ubuntu1~22.04) 11.4.0 Ubuntu 24.04 Kernel: 5.4 Compiler: gcc gcc (Ubuntu 13.3.0-6ubuntu2~24.04) 13.3.0 Debian 12 (arm) Kernel: Depends on container host Compiler: gcc (Debian 12.2.0-14) 12.2.0 To view detailed results, visit: https://lab.dpdk.org/results/dashboard/patchsets/33607/ UNH-IOL DPDK Community Lab To manage your email subscriptions, visit: https://lab.dpdk.org/results/dashboard/preferences/subscriptions/