From mboxrd@z Thu Jan 1 00:00:00 1970 Return-Path: Received: from mails.dpdk.org (mails.dpdk.org [217.70.189.124]) by inbox.dpdk.org (Postfix) with ESMTP id 4129646B27 for ; Tue, 8 Jul 2025 11:25:11 +0200 (CEST) Received: from mails.dpdk.org (localhost [127.0.0.1]) by mails.dpdk.org (Postfix) with ESMTP id 27AFC4028C; Tue, 8 Jul 2025 11:25:11 +0200 (CEST) Received: from mail-qv1-f98.google.com (mail-qv1-f98.google.com [209.85.219.98]) by mails.dpdk.org (Postfix) with ESMTP id 32A5F4028C for ; Tue, 8 Jul 2025 11:25:09 +0200 (CEST) Received: by mail-qv1-f98.google.com with SMTP id 6a1803df08f44-6fabb948e5aso53360456d6.1 for ; Tue, 08 Jul 2025 02:25:09 -0700 (PDT) DKIM-Signature: v=1; a=rsa-sha256; c=relaxed/relaxed; d=iol.unh.edu; s=unh-iol; t=1751966708; x=1752571508; darn=dpdk.org; h=references:in-reply-to:cc:to:from:subject:message-id:date:from:to :cc:subject:date:message-id:reply-to; bh=tILbg+Mom+NnuAjbPB9HsyvJiyPKWJJxdwXeBdGJldY=; b=NBCGibI3E8BqXMWpZthGR55CetMYlaY/CN1bBlH26y+mZZRsAAQE9CWSwSYUMFmGcm y11+3XjMD9M7ZSrscjJm8yrVpbbOgGXKPr561eMNpKHX0PVkSllpHqx1hwg9S+TTDX+Q aPK2NiZtg858CGZxJjijZDzNfPf0Ryh8nL5us= X-Google-DKIM-Signature: v=1; a=rsa-sha256; c=relaxed/relaxed; d=1e100.net; s=20230601; t=1751966708; x=1752571508; h=references:in-reply-to:cc:to:from:subject:message-id:date :x-gm-message-state:from:to:cc:subject:date:message-id:reply-to; bh=tILbg+Mom+NnuAjbPB9HsyvJiyPKWJJxdwXeBdGJldY=; b=WTVXtLKacKyiXqzncMp0Go/otA/gwmMKNNyFrDQ73apnOGR6YdbJuDK6FQHzZHvH3u d70nK9cqrvxIJDU4iR/CEpttFc+3yG58PWn5m96ehHjRv9DGtnq9AN+OMqRipY1Uw8kC yl/du9JgTjM6IQi2aNQBbzcfFtyS1V3GpIMTu8joBlpcq8x+ZNlogYOx7GHMXd6RhjK1 1BBvOWmd0aLWsSXI+qIpiNBWNmRxxiuQuFRRJuBVfNSYUfCyN0cTm2Ei/USz6H2AVBpe ZHxwXfk8YEGKOBlO/Po1saI8vGQBM6zGoNtGU2Tpmr3kP9ggkPTiIVxn9O96rNoJCV4L g4EQ== X-Gm-Message-State: AOJu0Yz9wyZ0k2r33Ag4rf1jrVrJ5QLVMEMlaWrM+/YWj5aa2+QpeS4+ 5jiwXFOP1we+39xAEmh6cv6I3SLUG/dlmz7zIFE3HZM4YRcL+UnTXf+Z06AW0K+rEd5lXyfRiQg zXKGWafwNO3zlJl6lq6pVPP1sDVRfB3Lp0vT7Cb0Lr8gs X-Gm-Gg: ASbGnct8C2JUZ0cUPV9R1YUlmbe6QE7+TP58I11MukXzIIhr+o5nEb55nuUhlWgZqPi jYf3i4buiQzWpk1TdtMrvlfHkeRPVRg6N+hrzlGUFdoNT69llTIGHAL+kRsSG+LsY2Ce9YthWt2 JjItWSKFanEcon6dzCTmbowjxQPS8Js7nbbs1l5yD9+V4al4sNTuRxhx5oEZ3jo5bboj3fOw7Nl cSGEdOWMTOhih/2NVVZd2+nbf2V5NH6LesdVohiHnYGfGKebCQz2/CnqCiyQL0X6vxZ9AB06lKW 2GSrLcINrK4NKO1dUmog/T333ve4OZvm/yZ8A20JXzCmbkEu1Is9Saafv6S2nKIFS0oaEQ== X-Google-Smtp-Source: AGHT+IH9vjloCYZnuZShUFEavR3oBnZD5qBKKpzZbV9QRWPryanEfqFefi08LisqASOyprHC1T8F5OFaCxeY X-Received: by 2002:a05:6214:d8d:b0:702:d8dd:e14f with SMTP id 6a1803df08f44-702d8dde1aemr154330446d6.32.1751966708459; Tue, 08 Jul 2025 02:25:08 -0700 (PDT) Received: from postal.iol.unh.edu (postal.iol.unh.edu. [132.177.123.84]) by smtp-relay.gmail.com with ESMTPS id 6a1803df08f44-702c4d53c26sm4965706d6.52.2025.07.08.02.25.08 (version=TLS1_2 cipher=ECDHE-ECDSA-AES128-GCM-SHA256 bits=128/128); Tue, 08 Jul 2025 02:25:08 -0700 (PDT) X-Relaying-Domain: iol.unh.edu Date: Tue, 08 Jul 2025 02:25:08 -0700 (PDT) Message-ID: <686ce3f4.050a0220.3c5914.9b34SMTPIN_ADDED_MISSING@mx.google.com> Received: from [172.21.0.6] (unknown [172.18.0.240]) by postal.iol.unh.edu (Postfix) with ESMTP id EFC726051830; Tue, 8 Jul 2025 05:25:07 -0400 (EDT) Subject: |SUCCESS| pw155053 [PATCH] examples/multi_process: fix cleanup on ex From: dpdklab@iol.unh.edu To: Test Report Cc: dpdk-test-reports@iol.unh.edu In-Reply-To: <20250708070954.165222-1-mkashani@nvidia.com> References: <20250708070954.165222-1-mkashani@nvidia.com> Content-Type: text/plain X-BeenThere: test-report@dpdk.org X-Mailman-Version: 2.1.29 Precedence: list List-Id: automatic DPDK test reports List-Unsubscribe: , List-Archive: List-Post: List-Help: List-Subscribe: , Errors-To: test-report-bounces@dpdk.org Test-Label: iol-abi-testing Test-Status: SUCCESS http://dpdk.org/patch/155053 _Testing PASS_ Submitter: Maayan Kashani Date: Tuesday, July 08 2025 07:09:54 DPDK git baseline: Repo:dpdk Branch: master CommitID:70c2297528e7c7789af452f78de1932e9a20c8a2 155053 --> testing pass Upstream job id: Generic-DPDK-Compile-ABI#133448 Test environment and result as below: +-------------------------------+----------+ | Environment | abi_test | +===============================+==========+ | CentOS Stream 10 | PASS | +-------------------------------+----------+ | Debian GNU/Linux 12 | PASS | +-------------------------------+----------+ | openSUSE Leap 15.6 | PASS | +-------------------------------+----------+ | Fedora Linux 41 | PASS | +-------------------------------+----------+ | Red Hat Enterprise Linux 8.10 | PASS | +-------------------------------+----------+ | Red Hat Enterprise Linux 9.5 | PASS | +-------------------------------+----------+ | Ubuntu 22.04 | PASS | +-------------------------------+----------+ | Ubuntu 24.04 | PASS | +-------------------------------+----------+ | CentOS Stream 9 | PASS | +-------------------------------+----------+ | Fedora Linux 40 | PASS | +-------------------------------+----------+ CentOS Stream 10 Kernel: 5.15 Compiler: gcc gcc (GCC) 14.2.1 20250110 (Red Hat 14.2.1-8) Debian GNU/Linux 12 Kernel: 5.15 Compiler: gcc gcc (Debian 12.2.0-14+deb12u1) 12.2.0 openSUSE Leap 15.6 Kernel: 5.15 Compiler: gcc gcc (SUSE Linux) 7.5.0 Fedora Linux 41 Kernel: 5.15 Compiler: clang gcc (GCC) 14.3.1 20250523 (Red Hat 14.3.1-1) Red Hat Enterprise Linux 8.10 Kernel: 5.15 Compiler: gcc gcc (GCC) 8.5.0 20210514 (Red Hat 8.5.0-22) Red Hat Enterprise Linux 9.5 Kernel: 5.15 Compiler: gcc gcc (GCC) 11.5.0 20240719 (Red Hat 11.5.0-2) Ubuntu 22.04 Kernel: 5.15 Compiler: gcc gcc (Ubuntu 11.4.0-1ubuntu1~22.04) 11.4.0 Ubuntu 24.04 Kernel: 5.15 Compiler: gcc gcc (Ubuntu 13.3.0-6ubuntu2~24.04) 13.3.0 CentOS Stream 9 Kernel: 5.15 Compiler: gcc gcc (GCC) 11.5.0 20240719 (Red Hat 11.5.0-7) Fedora Linux 40 Kernel: 5.15 Compiler: clang gcc (GCC) 14.2.1 20240912 (Red Hat 14.2.1-3) To view detailed results, visit: https://lab.dpdk.org/results/dashboard/patchsets/33607/ UNH-IOL DPDK Community Lab To manage your email subscriptions, visit: https://lab.dpdk.org/results/dashboard/preferences/subscriptions/