From mboxrd@z Thu Jan 1 00:00:00 1970 Return-Path: Received: from mails.dpdk.org (mails.dpdk.org [217.70.189.124]) by inbox.dpdk.org (Postfix) with ESMTP id 411ED46B27 for ; Tue, 8 Jul 2025 11:25:24 +0200 (CEST) Received: from mails.dpdk.org (localhost [127.0.0.1]) by mails.dpdk.org (Postfix) with ESMTP id 3E1424028C; Tue, 8 Jul 2025 11:25:24 +0200 (CEST) Received: from mail-pl1-f226.google.com (mail-pl1-f226.google.com [209.85.214.226]) by mails.dpdk.org (Postfix) with ESMTP id 31F8E4028C for ; Tue, 8 Jul 2025 11:25:23 +0200 (CEST) Received: by mail-pl1-f226.google.com with SMTP id d9443c01a7336-236470b2dceso35085215ad.0 for ; Tue, 08 Jul 2025 02:25:23 -0700 (PDT) DKIM-Signature: v=1; a=rsa-sha256; c=relaxed/relaxed; d=iol.unh.edu; s=unh-iol; t=1751966722; x=1752571522; darn=dpdk.org; h=references:in-reply-to:cc:to:from:subject:message-id:date:from:to :cc:subject:date:message-id:reply-to; bh=9x57iIeZ5fTaNk0H54jjClaMxk0UfgmSe0a1W/Tqb2Q=; b=BPfjxK9Hsee+EFpwGlPf+tPrbuDcc0a3TsQnfXuqs58uI7L2cq/jlDeSmtvTFEDpXx tFDC463S0aXQsOUSOCfNlyLQRr10agCk2vl6vUaGBHTl6hOJEgPDyA1YDfas3dQugUIZ gu1Dbu/T1K5o4SlYemsQkCv19oiupuwILj3G0= X-Google-DKIM-Signature: v=1; a=rsa-sha256; c=relaxed/relaxed; d=1e100.net; s=20230601; t=1751966722; x=1752571522; h=references:in-reply-to:cc:to:from:subject:message-id:date :x-gm-message-state:from:to:cc:subject:date:message-id:reply-to; bh=9x57iIeZ5fTaNk0H54jjClaMxk0UfgmSe0a1W/Tqb2Q=; b=J02MAeqO/DMZm1uGabshxGSUDYhwUBSfCXLCEGM3kDWHylZoRi9yDWM6qqpkmacgo1 EvzS5gsANdX9SbBMxObXVN0i8RKv4fNf0hESf2KZWj0UdSx1KxcsS6pE//IKX0t61pUB auMQEsWSdQXkROfz2dvk8vVSv/DGuuCKfwlcSZ+R+ErMCJAXwgL+a6ibeIT4gDA6xUta PdxV8Ms13LRfWhBD/5Q/oCkRml4ixJ2u4JFjgfhA+9zrzxZwaq6YFd+UTm9y4OtbhPZS XuDle+qcb9kiNVj3x9q8eMn1eJI22wvYWHbZ3x2ZhozLQnUcm9LdrRmLqOMcWPDZ+XIL SUDw== X-Gm-Message-State: AOJu0YxWelmhMvyThKtnWN+34aiozL15hiQ8UbZAfwXrWi3bzHOlFedt ccjYyuMUfAkBh50i4qOH+2V/0Nn7cUrV63uPv+jrE/LaN0D3mYv31kTTmzOaF8V6pbaVcR9Kfwc q+Ac/BNrzYDBNRfR5hdmd66QoUVuq8g32yerFYmbaUz/KcOVpRyKdMF84Yv8Z X-Gm-Gg: ASbGncsELHUT3c//PNvrvo79Ch6XL7fSHtXal/dEVfBWp2ctSWvuDFrGoXpeAbyw87q 74o/ea1muqbFjlOgcZLZmY6wcQfIwUbrcgAII5SKsNw2M9cGeQiheEXjnphD2kIfBsLUyUehuPB xF2um7fOvWUgnj9dfOmRzeOIqzmGc0d3tuSBirNSh79HV6fpuY5ZtwHdfHFGTnzJgNXl8ioa3IW /lCb3927LGy09X4ucX0zeLq69LH1Ok8/GDFidXID4Ua82slyjlnZPzXyRW0n3cuxnM/fKehffJp THhwmQoHHYJRBeAHAZ7bDu3Xsfqbn3xOjF/s9u/kc624gFc= X-Google-Smtp-Source: AGHT+IEKkyLOfnRepadsZAKwrif4dKXDHVuF/MMqeAQaLH+LcKPZmt+hC7IyV8iGcXHIIJOQQaujO6y+AU3z X-Received: by 2002:a17:903:2343:b0:22e:4d50:4f58 with SMTP id d9443c01a7336-23c8755beebmr210292605ad.31.1751966722261; Tue, 08 Jul 2025 02:25:22 -0700 (PDT) Received: from postal.iol.unh.edu (postal.iol.unh.edu. [2606:4100:3880:1234::84]) by smtp-relay.gmail.com with ESMTPS id d9443c01a7336-23c84508bbesm5240765ad.95.2025.07.08.02.25.22 (version=TLS1_2 cipher=ECDHE-ECDSA-AES128-GCM-SHA256 bits=128/128); Tue, 08 Jul 2025 02:25:22 -0700 (PDT) X-Relaying-Domain: iol.unh.edu Date: Tue, 08 Jul 2025 02:25:22 -0700 (PDT) Message-ID: <686ce402.170a0220.1b6e31.b04bSMTPIN_ADDED_MISSING@mx.google.com> Received: from [172.21.0.5] (unknown [172.18.0.240]) by postal.iol.unh.edu (Postfix) with ESMTP id 779B56051830; Tue, 8 Jul 2025 05:25:21 -0400 (EDT) Subject: |SUCCESS| pw155053 [PATCH] examples/multi_process: fix cleanup on ex From: dpdklab@iol.unh.edu To: Test Report Cc: dpdk-test-reports@iol.unh.edu In-Reply-To: <20250708070954.165222-1-mkashani@nvidia.com> References: <20250708070954.165222-1-mkashani@nvidia.com> Content-Type: text/plain X-BeenThere: test-report@dpdk.org X-Mailman-Version: 2.1.29 Precedence: list List-Id: automatic DPDK test reports List-Unsubscribe: , List-Archive: List-Post: List-Help: List-Subscribe: , Errors-To: test-report-bounces@dpdk.org Test-Label: iol-unit-amd64-testing Test-Status: SUCCESS http://dpdk.org/patch/155053 _Testing PASS_ Submitter: Maayan Kashani Date: Tuesday, July 08 2025 07:09:54 DPDK git baseline: Repo:dpdk Branch: master CommitID:70c2297528e7c7789af452f78de1932e9a20c8a2 155053 --> testing pass Upstream job id: Generic-VM-Unit-Test-DPDK#29789 Test environment and result as below: +-------------------------------+----------------+ | Environment | dpdk_unit_test | +===============================+================+ | Debian GNU/Linux 12 | PASS | +-------------------------------+----------------+ | Fedora Linux 40 | PASS | +-------------------------------+----------------+ | CentOS Stream 10 | PASS | +-------------------------------+----------------+ | CentOS Stream 9 | PASS | +-------------------------------+----------------+ | Fedora Linux 41 | PASS | +-------------------------------+----------------+ | Red Hat Enterprise Linux 8.10 | PASS | +-------------------------------+----------------+ | Red Hat Enterprise Linux 9.5 | PASS | +-------------------------------+----------------+ | Ubuntu 22.04 | PASS | +-------------------------------+----------------+ | Ubuntu 20.04 | PASS | +-------------------------------+----------------+ | Ubuntu 24.04 | PASS | +-------------------------------+----------------+ | Windows Server 2022 | PASS | +-------------------------------+----------------+ Debian GNU/Linux 12 Kernel: 5.15 Compiler: gcc gcc (Debian 12.2.0-14+deb12u1) 12.2.0 Fedora Linux 40 Kernel: 5.15 Compiler: clang gcc (GCC) 14.2.1 20240912 (Red Hat 14.2.1-3) CentOS Stream 10 Kernel: 5.15 Compiler: gcc gcc (GCC) 14.2.1 20250110 (Red Hat 14.2.1-8) CentOS Stream 9 Kernel: 5.15 Compiler: gcc gcc (GCC) 11.5.0 20240719 (Red Hat 11.5.0-7) Fedora Linux 41 Kernel: 5.15 Compiler: gcc gcc (GCC) 14.3.1 20250523 (Red Hat 14.3.1-1) Red Hat Enterprise Linux 8.10 Kernel: 5.15 Compiler: gcc gcc (GCC) 8.5.0 20210514 (Red Hat 8.5.0-22) Red Hat Enterprise Linux 9.5 Kernel: 5.15 Compiler: gcc gcc (GCC) 11.5.0 20240719 (Red Hat 11.5.0-2) Ubuntu 22.04 Kernel: 5.15 Compiler: gcc gcc (Ubuntu 11.4.0-1ubuntu1~22.04) 11.4.0 Ubuntu 20.04 Kernel: 5.15 Compiler: gcc gcc (Ubuntu 9.4.0-1ubuntu1~20.04.2) 9.4.0 Ubuntu 24.04 Kernel: 5.15 Compiler: gcc gcc (Ubuntu 13.3.0-6ubuntu2~24.04) 13.3.0 Windows Server 2022 Kernel: 10.0.20348.2031 Compiler: clang 15.0.7, gcc 14.1.0 (MinGW), and MSVC VS 19.39.33521 To view detailed results, visit: https://lab.dpdk.org/results/dashboard/patchsets/33607/ UNH-IOL DPDK Community Lab To manage your email subscriptions, visit: https://lab.dpdk.org/results/dashboard/preferences/subscriptions/