From mboxrd@z Thu Jan 1 00:00:00 1970 Return-Path: Received: from mails.dpdk.org (mails.dpdk.org [217.70.189.124]) by inbox.dpdk.org (Postfix) with ESMTP id 20E7546B28 for ; Tue, 8 Jul 2025 12:22:44 +0200 (CEST) Received: from mails.dpdk.org (localhost [127.0.0.1]) by mails.dpdk.org (Postfix) with ESMTP id EFC58402A0; Tue, 8 Jul 2025 12:22:43 +0200 (CEST) Received: from mail-pl1-f225.google.com (mail-pl1-f225.google.com [209.85.214.225]) by mails.dpdk.org (Postfix) with ESMTP id 26EF0402A0 for ; Tue, 8 Jul 2025 12:22:43 +0200 (CEST) Received: by mail-pl1-f225.google.com with SMTP id d9443c01a7336-234b440afa7so40280445ad.0 for ; Tue, 08 Jul 2025 03:22:43 -0700 (PDT) DKIM-Signature: v=1; a=rsa-sha256; c=relaxed/relaxed; d=iol.unh.edu; s=unh-iol; t=1751970162; x=1752574962; darn=dpdk.org; h=references:in-reply-to:cc:to:from:subject:message-id:date:from:to :cc:subject:date:message-id:reply-to; bh=G1i2M2yGlppPSOumP1DXtFG8bTnN82kwi6pOernBGcQ=; b=EwelnEpUSR7f46iHYGGH2iTVXJGAXTP58ssvt2zq61Y3lh/e/rejQFzydCbtuEwg1V 2ozwfAycADJlj80VCf2Nsp11QaR5kkRTeOJonGBaDvHgwhtVJTuotV1ricM1rp2ErBAH HvmjkM6jtImz+dKhEgp7jviNzcycRb8BnCBas= X-Google-DKIM-Signature: v=1; a=rsa-sha256; c=relaxed/relaxed; d=1e100.net; s=20230601; t=1751970162; x=1752574962; h=references:in-reply-to:cc:to:from:subject:message-id:date :x-gm-message-state:from:to:cc:subject:date:message-id:reply-to; bh=G1i2M2yGlppPSOumP1DXtFG8bTnN82kwi6pOernBGcQ=; b=M+bNOmEd0JNLPz2kpAJKCZPXTZgAAN66+t63hwfqHMVkCxGsx1oq1LLraAfGfnMspD Nb5Z3tk4SQfB/dJnms8U7a7xb+/aTeOeHNYPKr6cwY2auE9FiywfXvQ/Gk35j4Jn0Xjj 2XjzPnbmKh51vSvyjXrNSgm01O35QsjGiJCxdxm8Xq4wOaTqCrQTyPk5ooRnQQ+kKMHe LFWBJkNhTHP5BBB8hbRluZ0LkU7r4UiBw35fQ9Rf0+KNL4XHV0N0gTF3GhxaGrlvO2it IOGNqbD3TjPk9nzYNc6k9Ep1VVE7LF2p1A2a2k3HkWY95Y781zNqNgPfv/NAO2s7WAye t6ew== X-Gm-Message-State: AOJu0Yzrx9aYvpBHAt686ylfJN5j95CvwaW3Tfj7rtsst6ntQ0rRFj8v fgfjlG+C3YFho4d06tNxpWqqD4oVI0E5sEQUNgrJNkLvagVT6KzNHIEAyXNCPutarcc3SogJ7pv jOqyXDZzNW+4mC4lW1r1b16EtbILaL7/zyfe7FkQZse1pj+TyO9IHp5ONRwyR X-Gm-Gg: ASbGncs8NkJeDnlgaI8IWLcltMdUkkN37NkvlOpzUee/ReZ9ADCXTFIBoYXgFHVFVCU bSvdt5Ss60yfbMmaHOzeH0sJCdgumkRS1qtt3TV/lleU31EzichA5elaXAsG0FCqX2wiVcPut5M muK6YyB/NIgFBhIQ2RHtpyYOTbvqh3cjtJWY99HCVRIT9uz3ZxU6Q6R7jQ0vKT2dnVs4G3Z4UU/ r/QVTKp2Z3tkXIz2jind7htxPmoD9jBzjpvMP3Ogr4GwMOsDu3oJlBqaeR00xNln9jy65UOtP4E M9WHyaqRlAiTACiFgukuTbCRQiqSC6mpYaw3zXZ7KCf8aYE= X-Google-Smtp-Source: AGHT+IE/BpYV3z9KmMiuMN5kW42cCNY5uynJ7gLwJz20W/cQQ40vijgQDr6YGPek+dbPHYgI1n8dOKfeftqb X-Received: by 2002:a17:902:cecd:b0:238:2437:ada8 with SMTP id d9443c01a7336-23dd1d7a68fmr38735855ad.48.1751970162172; Tue, 08 Jul 2025 03:22:42 -0700 (PDT) Received: from postal.iol.unh.edu (postal.iol.unh.edu. [2606:4100:3880:1234::84]) by smtp-relay.gmail.com with ESMTPS id d9443c01a7336-23c842d11dcsm4902035ad.45.2025.07.08.03.22.42 (version=TLS1_2 cipher=ECDHE-ECDSA-AES128-GCM-SHA256 bits=128/128); Tue, 08 Jul 2025 03:22:42 -0700 (PDT) X-Relaying-Domain: iol.unh.edu Date: Tue, 08 Jul 2025 03:22:42 -0700 (PDT) Message-ID: <686cf172.170a0220.2b94cc.9b80SMTPIN_ADDED_MISSING@mx.google.com> Received: from [172.21.0.6] (unknown [172.18.0.240]) by postal.iol.unh.edu (Postfix) with ESMTP id 9F37B6051830; Tue, 8 Jul 2025 06:22:41 -0400 (EDT) Subject: |SUCCESS| pw155054 [PATCH] [v8,1/1] app/testpmd: canonicalize short From: dpdklab@iol.unh.edu To: Test Report Cc: dpdk-test-reports@iol.unh.edu In-Reply-To: <20250708083740.128610-2-shperetz@nvidia.com> References: <20250708083740.128610-2-shperetz@nvidia.com> Content-Type: text/plain X-BeenThere: test-report@dpdk.org X-Mailman-Version: 2.1.29 Precedence: list List-Id: automatic DPDK test reports List-Unsubscribe: , List-Archive: List-Post: List-Help: List-Subscribe: , Errors-To: test-report-bounces@dpdk.org Test-Label: iol-unit-amd64-testing Test-Status: SUCCESS http://dpdk.org/patch/155054 _Testing PASS_ Submitter: Shani Peretz Date: Tuesday, July 08 2025 08:37:40 DPDK git baseline: Repo:dpdk Branch: master CommitID:ba982f9a1ca9b96ed0394b764f1523d482e963a2 155054 --> testing pass Upstream job id: Generic-Unit-Test-DPDK#353468 Test environment and result as below: +-------------------------------+----------------+ | Environment | dpdk_unit_test | +===============================+================+ | CentOS Stream 9 | PASS | +-------------------------------+----------------+ | CentOS Stream 10 | PASS | +-------------------------------+----------------+ | Fedora Linux 40 | PASS | +-------------------------------+----------------+ | Debian GNU/Linux 12 | PASS | +-------------------------------+----------------+ | Fedora Linux 41 | PASS | +-------------------------------+----------------+ | Red Hat Enterprise Linux 9.5 | PASS | +-------------------------------+----------------+ | Ubuntu 20.04 | PASS | +-------------------------------+----------------+ | Ubuntu 22.04 | PASS | +-------------------------------+----------------+ | Red Hat Enterprise Linux 8.10 | PASS | +-------------------------------+----------------+ | Ubuntu 24.04 | PASS | +-------------------------------+----------------+ CentOS Stream 9 Kernel: 5.15 Compiler: gcc gcc (GCC) 11.5.0 20240719 (Red Hat 11.5.0-7) CentOS Stream 10 Kernel: 5.15 Compiler: gcc gcc (GCC) 14.2.1 20250110 (Red Hat 14.2.1-8) Fedora Linux 40 Kernel: 5.15 Compiler: gcc gcc (GCC) 14.2.1 20240912 (Red Hat 14.2.1-3) Debian GNU/Linux 12 Kernel: 5.15 Compiler: gcc gcc (Debian 12.2.0-14+deb12u1) 12.2.0 Fedora Linux 41 Kernel: 5.15 Compiler: gcc gcc (GCC) 14.3.1 20250523 (Red Hat 14.3.1-1) Red Hat Enterprise Linux 9.5 Kernel: 5.15 Compiler: gcc gcc (GCC) 11.5.0 20240719 (Red Hat 11.5.0-2) Ubuntu 20.04 Kernel: 5.15 Compiler: gcc gcc (Ubuntu 9.4.0-1ubuntu1~20.04.2) 9.4.0 Ubuntu 22.04 Kernel: 5.15 Compiler: gcc gcc (Ubuntu 11.4.0-1ubuntu1~22.04) 11.4.0 Red Hat Enterprise Linux 8.10 Kernel: 5.15 Compiler: gcc gcc (GCC) 8.5.0 20210514 (Red Hat 8.5.0-22) Ubuntu 24.04 Kernel: 5.15 Compiler: gcc gcc (Ubuntu 13.3.0-6ubuntu2~24.04) 13.3.0 To view detailed results, visit: https://lab.dpdk.org/results/dashboard/patchsets/33608/ UNH-IOL DPDK Community Lab To manage your email subscriptions, visit: https://lab.dpdk.org/results/dashboard/preferences/subscriptions/