From mboxrd@z Thu Jan 1 00:00:00 1970 Return-Path: Received: from mails.dpdk.org (mails.dpdk.org [217.70.189.124]) by inbox.dpdk.org (Postfix) with ESMTP id 96B7546B28 for ; Tue, 8 Jul 2025 12:38:30 +0200 (CEST) Received: from mails.dpdk.org (localhost [127.0.0.1]) by mails.dpdk.org (Postfix) with ESMTP id 75CDE4028C; Tue, 8 Jul 2025 12:38:30 +0200 (CEST) Received: from mail-il1-f225.google.com (mail-il1-f225.google.com [209.85.166.225]) by mails.dpdk.org (Postfix) with ESMTP id 99CD84028C for ; Tue, 8 Jul 2025 12:38:29 +0200 (CEST) Received: by mail-il1-f225.google.com with SMTP id e9e14a558f8ab-3e059b14cb1so23404565ab.0 for ; Tue, 08 Jul 2025 03:38:29 -0700 (PDT) DKIM-Signature: v=1; a=rsa-sha256; c=relaxed/relaxed; d=iol.unh.edu; s=unh-iol; t=1751971109; x=1752575909; darn=dpdk.org; h=references:in-reply-to:cc:to:from:subject:message-id:date:from:to :cc:subject:date:message-id:reply-to; bh=zUZKbQi4/MzAjEuHPX2bE+/rfEfPBXCYqSlifSFy8nc=; b=UmsqM0bh6iZX0UZNI2dOG4wweHlYs1FWglWIOw0vSfpeG0EZTJe73KY7A6Wsk8mMVK MO/+ni3Cn1SkFIGRagWEI7UZBtjgCl8eIAq9s5OIcJTwT4qQhrIETDBv3wiGcaFA4hXO qD0y8Q+6W7QZzHOEJKLF+ChawBt882+gm4MOQ= X-Google-DKIM-Signature: v=1; a=rsa-sha256; c=relaxed/relaxed; d=1e100.net; s=20230601; t=1751971109; x=1752575909; h=references:in-reply-to:cc:to:from:subject:message-id:date :x-gm-message-state:from:to:cc:subject:date:message-id:reply-to; bh=zUZKbQi4/MzAjEuHPX2bE+/rfEfPBXCYqSlifSFy8nc=; b=PrGDs1a0qV7EJtxUm3zJAwUzN+V/N3RhqL0kz/PVSBfq6XCBZWps6Nlc+SpyMvAT7O 4WbCFwaSq6PvHGe9+yCiQSe9JMiu/yoifxvnDWHebkWMNLMVq9xolj/kgeJeob/0ARbD gqk06h6FrBRsXb9s9W5nLrctMXQxy3u2dw5S2ws4SByVGmRfRUuE1S012YTOIb5ztN/I R+XCHUiQ2MJmt0IMx57xrj2MdyAumbVB8X2V5+pKuoczew7X1bqUrhh30R/zIKMLmgSZ Vjlgo+ar3IescPria4DU1ZDUi/5b4KlFNiYY+7EOwnPm+hqw21ImCcy9gHhHyxITCfj0 XwiQ== X-Gm-Message-State: AOJu0YxAgx4YwuVlcw0H/arJYmn3pjEiDZg1cjB2c+AmVJgztTYAuP/K AcOJigPPWurpFbV5CNRtx9MpsQ+cjk/foF+Zo9pVcE38UendJErvcKNcdx0WA5iwA3A9ChE8Roz LX3xdU4g1aboK/TXndeF+vdDVjelauPfV8bQV/O7JhehJ X-Gm-Gg: ASbGncvX8+Q7PoIQkNeRbLEVASU3B8LPiemj0mTsgFntwq13WiLFCjENhHsY0FHj5JB KLOAreHsSGSy+cPNqswv+yEfUxAS1pDAdzIzNnT2addqHBjhamKlW06563p6sxsLtnwJ1J4B97c 87MboG4idMJs0M9OG1n9740HE/mEvMiExrg003f2hcR5mAyI6zEbcpk6eBTTi72O0VYCQ87/8uZ 1DjFaaZ8lN/225p9arQK+9AFiS6J/wsKfbTVCUQn40N3ca73xNwncAKy8MKDeiBFlecVQGgR80j /JDheMOMfC68PNQtDCNSvu/jk/abVW/XRrWzFlP+nvNaABnJ9PNAhki59uDKqhOCsHq/Rg== X-Google-Smtp-Source: AGHT+IHCE3sp3EJqZTZXGgKJwqB4AvneeNp2af05mHc6ovmtn90f8OJWCQ2xiDMoctinc2e8tfT3QuZyZFD0 X-Received: by 2002:a05:6e02:112:b0:3dd:bf91:23f7 with SMTP id e9e14a558f8ab-3e154e51b43mr16009275ab.7.1751971108860; Tue, 08 Jul 2025 03:38:28 -0700 (PDT) Received: from postal.iol.unh.edu (postal.iol.unh.edu. [132.177.123.84]) by smtp-relay.gmail.com with ESMTPS id 8926c6da1cb9f-503b5a1255fsm373361173.27.2025.07.08.03.38.28 (version=TLS1_2 cipher=ECDHE-ECDSA-AES128-GCM-SHA256 bits=128/128); Tue, 08 Jul 2025 03:38:28 -0700 (PDT) X-Relaying-Domain: iol.unh.edu Date: Tue, 08 Jul 2025 03:38:28 -0700 (PDT) Message-ID: <686cf524.050a0220.e2b02.538aSMTPIN_ADDED_MISSING@mx.google.com> Received: from [172.21.0.5] (unknown [172.18.0.240]) by postal.iol.unh.edu (Postfix) with ESMTP id 668CB6051830; Tue, 8 Jul 2025 06:38:28 -0400 (EDT) Subject: |SUCCESS| pw155054 [PATCH] [v8,1/1] app/testpmd: canonicalize short From: dpdklab@iol.unh.edu To: Test Report Cc: dpdk-test-reports@iol.unh.edu In-Reply-To: <20250708083740.128610-2-shperetz@nvidia.com> References: <20250708083740.128610-2-shperetz@nvidia.com> Content-Type: text/plain X-BeenThere: test-report@dpdk.org X-Mailman-Version: 2.1.29 Precedence: list List-Id: automatic DPDK test reports List-Unsubscribe: , List-Archive: List-Post: List-Help: List-Subscribe: , Errors-To: test-report-bounces@dpdk.org Test-Label: iol-unit-amd64-testing Test-Status: SUCCESS http://dpdk.org/patch/155054 _Testing PASS_ Submitter: Shani Peretz Date: Tuesday, July 08 2025 08:37:40 DPDK git baseline: Repo:dpdk Branch: master CommitID:ba982f9a1ca9b96ed0394b764f1523d482e963a2 155054 --> testing pass Upstream job id: Generic-VM-Unit-Test-DPDK#29790 Test environment and result as below: +-------------------------------+----------------+ | Environment | dpdk_unit_test | +===============================+================+ | CentOS Stream 9 | PASS | +-------------------------------+----------------+ | CentOS Stream 10 | PASS | +-------------------------------+----------------+ | Fedora Linux 40 | PASS | +-------------------------------+----------------+ | Debian GNU/Linux 12 | PASS | +-------------------------------+----------------+ | Fedora Linux 41 | PASS | +-------------------------------+----------------+ | Red Hat Enterprise Linux 9.5 | PASS | +-------------------------------+----------------+ | Ubuntu 20.04 | PASS | +-------------------------------+----------------+ | Ubuntu 22.04 | PASS | +-------------------------------+----------------+ | Red Hat Enterprise Linux 8.10 | PASS | +-------------------------------+----------------+ | Ubuntu 24.04 | PASS | +-------------------------------+----------------+ | Windows Server 2022 | PASS | +-------------------------------+----------------+ CentOS Stream 9 Kernel: 5.15 Compiler: gcc gcc (GCC) 11.5.0 20240719 (Red Hat 11.5.0-7) CentOS Stream 10 Kernel: 5.15 Compiler: gcc gcc (GCC) 14.2.1 20250110 (Red Hat 14.2.1-8) Fedora Linux 40 Kernel: 5.15 Compiler: gcc gcc (GCC) 14.2.1 20240912 (Red Hat 14.2.1-3) Debian GNU/Linux 12 Kernel: 5.15 Compiler: gcc gcc (Debian 12.2.0-14+deb12u1) 12.2.0 Fedora Linux 41 Kernel: 5.15 Compiler: gcc gcc (GCC) 14.3.1 20250523 (Red Hat 14.3.1-1) Red Hat Enterprise Linux 9.5 Kernel: 5.15 Compiler: gcc gcc (GCC) 11.5.0 20240719 (Red Hat 11.5.0-2) Ubuntu 20.04 Kernel: 5.15 Compiler: gcc gcc (Ubuntu 9.4.0-1ubuntu1~20.04.2) 9.4.0 Ubuntu 22.04 Kernel: 5.15 Compiler: gcc gcc (Ubuntu 11.4.0-1ubuntu1~22.04) 11.4.0 Red Hat Enterprise Linux 8.10 Kernel: 5.15 Compiler: gcc gcc (GCC) 8.5.0 20210514 (Red Hat 8.5.0-22) Ubuntu 24.04 Kernel: 5.15 Compiler: gcc gcc (Ubuntu 13.3.0-6ubuntu2~24.04) 13.3.0 Windows Server 2022 Kernel: 10.0.20348.2031 Compiler: clang 15.0.7, gcc 14.1.0 (MinGW), and MSVC VS 19.39.33521 To view detailed results, visit: https://lab.dpdk.org/results/dashboard/patchsets/33608/ UNH-IOL DPDK Community Lab To manage your email subscriptions, visit: https://lab.dpdk.org/results/dashboard/preferences/subscriptions/