From mboxrd@z Thu Jan 1 00:00:00 1970 Return-Path: Received: from mails.dpdk.org (mails.dpdk.org [217.70.189.124]) by inbox.dpdk.org (Postfix) with ESMTP id 2A93346B28 for ; Tue, 8 Jul 2025 12:51:51 +0200 (CEST) Received: from mails.dpdk.org (localhost [127.0.0.1]) by mails.dpdk.org (Postfix) with ESMTP id 09205402A0; Tue, 8 Jul 2025 12:51:51 +0200 (CEST) Received: from mail-yb1-f227.google.com (mail-yb1-f227.google.com [209.85.219.227]) by mails.dpdk.org (Postfix) with ESMTP id B5D6F402A0 for ; Tue, 8 Jul 2025 12:51:49 +0200 (CEST) Received: by mail-yb1-f227.google.com with SMTP id 3f1490d57ef6-e85e06a7f63so3678636276.1 for ; Tue, 08 Jul 2025 03:51:49 -0700 (PDT) DKIM-Signature: v=1; a=rsa-sha256; c=relaxed/relaxed; d=iol.unh.edu; s=unh-iol; t=1751971909; x=1752576709; darn=dpdk.org; h=references:in-reply-to:cc:to:from:subject:message-id:date:from:to :cc:subject:date:message-id:reply-to; bh=3Wky6Xwk+84XO+PjfGt3SPhmjF6O7KPX7Y42N5YO0yE=; b=bmd+yatuRCe61hgv/pwqtMKrsxoS9iPNdQzmiBxqDtO2y67/TxPxqDOQgjIUoEHFcz spjOvZ1+w/RT9j7EPUX0qU49HldQFRk3l3Bu9nA/7rRb19AYCqN6fZiPqbv70lEO0qGK UKoBk2eFBYcV/86NyrOrTlRrIOsu1639eevtE= X-Google-DKIM-Signature: v=1; a=rsa-sha256; c=relaxed/relaxed; d=1e100.net; s=20230601; t=1751971909; x=1752576709; h=references:in-reply-to:cc:to:from:subject:message-id:date :x-gm-message-state:from:to:cc:subject:date:message-id:reply-to; bh=3Wky6Xwk+84XO+PjfGt3SPhmjF6O7KPX7Y42N5YO0yE=; b=X5cWhBdMh27YApF2luBTB1/p2cJ9OgZuE3K3f8iBxEdCdVeWn3gupkRqDypFp8Wc3V 6ygW1Kkrtr3+4RTMzyHqYRQzUQ7Ut6AGlgFF1IzuP3YOoSGjgaZdwCRBQ5ZxEj0tGeby th9HOeN+JVa/TXl6NGDe0gXD+PEc+o32s2TLNSCpgLEpEzvxJSAEktstTuBeI5pLy+7V jhMJKQYx2iuEOlpQm3lgNz21lFB3OyWE6/dIWsUqQ9T5iJCQ9xDljTfgDiNWdF/Z+H/q VO8ZygOdZOi8X8DyzriEOCKrxVFO4CGdRu8Ah3S3zA9RtYoxsjhS/NdclewWoj2DGWpe w8cA== X-Gm-Message-State: AOJu0YzFwijDGb5FT4O07EFIC2SBzF6ZqVtK1lKz6D1lAh2isQxEEx+2 PXHOPJ2PRkStiq7SbKmBP9Su/BWJB7n5EEM/EOx7d5xKyURRRHgV/g2jpHG47mRxfqMmo6j+ULE LFFXucP8WJldZh5NeCTAY6H41HREu9R8o7u0J4qa+hVBtSx2hkIViS9NpZLPN X-Gm-Gg: ASbGncvhHB0201UIPiATBoGTxfuRaiPxyUH36TWV5cHBYeNCJJz3T8MSS1zu2HFWvhP ZAAIPgqpKSY2eagO6ALY/Lmlqh1fItsZ+ayKS0b95JyFz2B0mFaDxBAFHTw3mkxiFADUGrgoCn1 Sjtvk5OqLYY2HTJy6wKWIz99GFKrCWur0llqKKBA+J9ryzoKBNx9yYikvMZ/45uGX2Of3xiRr3O 9tfmUp54uEWnQ2pyMspyOO8aFdf/M5yi7IhcSQNsYt0zJNx9XlbpVIbfW6Gv4B0J1mtcdzHXsTz 8x2ld6FqD6wmMU4oTU0IuEK0sJ2Nlxd5WGIwMMsFLvmkfB4= X-Google-Smtp-Source: AGHT+IH7dCOHFkNNPdXHfSe+Xo9NB2G28hvq4LaA+Um8/TV2qCf5+aB9MObm7rUEK4+sYriq6DXOPXXuze7m X-Received: by 2002:a05:690c:6a12:b0:707:48a7:ea74 with SMTP id 00721157ae682-71668d19667mr214710637b3.22.1751971908984; Tue, 08 Jul 2025 03:51:48 -0700 (PDT) Received: from postal.iol.unh.edu (postal.iol.unh.edu. [2606:4100:3880:1234::84]) by smtp-relay.gmail.com with ESMTPS id 00721157ae682-71665b2840csm2835277b3.33.2025.07.08.03.51.48 (version=TLS1_2 cipher=ECDHE-ECDSA-AES128-GCM-SHA256 bits=128/128); Tue, 08 Jul 2025 03:51:48 -0700 (PDT) X-Relaying-Domain: iol.unh.edu Date: Tue, 08 Jul 2025 03:51:48 -0700 (PDT) Message-ID: <686cf844.050a0220.2870e.ee5aSMTPIN_ADDED_MISSING@mx.google.com> Received: from [172.21.0.5] (unknown [172.18.0.240]) by postal.iol.unh.edu (Postfix) with ESMTP id A42756051830; Tue, 8 Jul 2025 06:51:48 -0400 (EDT) Subject: |SUCCESS| pw155054 [PATCH] [v8,1/1] app/testpmd: canonicalize short From: dpdklab@iol.unh.edu To: Test Report Cc: dpdk-test-reports@iol.unh.edu In-Reply-To: <20250708083740.128610-2-shperetz@nvidia.com> References: <20250708083740.128610-2-shperetz@nvidia.com> Content-Type: text/plain X-BeenThere: test-report@dpdk.org X-Mailman-Version: 2.1.29 Precedence: list List-Id: automatic DPDK test reports List-Unsubscribe: , List-Archive: List-Post: List-Help: List-Subscribe: , Errors-To: test-report-bounces@dpdk.org Test-Label: iol-abi-testing Test-Status: SUCCESS http://dpdk.org/patch/155054 _Testing PASS_ Submitter: Shani Peretz Date: Tuesday, July 08 2025 08:37:40 DPDK git baseline: Repo:dpdk Branch: master CommitID:ba982f9a1ca9b96ed0394b764f1523d482e963a2 155054 --> testing pass Upstream job id: Generic-DPDK-Compile-ABI#133465 Test environment and result as below: +-------------------------------+----------+ | Environment | abi_test | +===============================+==========+ | CentOS Stream 9 | PASS | +-------------------------------+----------+ | CentOS Stream 10 | PASS | +-------------------------------+----------+ | Debian GNU/Linux 12 | PASS | +-------------------------------+----------+ | Fedora Linux 40 | PASS | +-------------------------------+----------+ | Fedora Linux 41 | PASS | +-------------------------------+----------+ | openSUSE Leap 15.6 | PASS | +-------------------------------+----------+ | Red Hat Enterprise Linux 8.10 | PASS | +-------------------------------+----------+ | Ubuntu 22.04 | PASS | +-------------------------------+----------+ | Ubuntu 24.04 | PASS | +-------------------------------+----------+ | Red Hat Enterprise Linux 9.5 | PASS | +-------------------------------+----------+ CentOS Stream 9 Kernel: 5.15 Compiler: gcc gcc (GCC) 11.5.0 20240719 (Red Hat 11.5.0-7) CentOS Stream 10 Kernel: 5.15 Compiler: gcc gcc (GCC) 14.2.1 20250110 (Red Hat 14.2.1-8) Debian GNU/Linux 12 Kernel: 5.15 Compiler: gcc gcc (Debian 12.2.0-14+deb12u1) 12.2.0 Fedora Linux 40 Kernel: 5.15 Compiler: clang gcc (GCC) 14.2.1 20240912 (Red Hat 14.2.1-3) Fedora Linux 41 Kernel: 5.15 Compiler: clang gcc (GCC) 14.3.1 20250523 (Red Hat 14.3.1-1) openSUSE Leap 15.6 Kernel: 5.15 Compiler: gcc gcc (SUSE Linux) 7.5.0 Red Hat Enterprise Linux 8.10 Kernel: 5.15 Compiler: gcc gcc (GCC) 8.5.0 20210514 (Red Hat 8.5.0-22) Ubuntu 22.04 Kernel: 5.15 Compiler: gcc gcc (Ubuntu 11.4.0-1ubuntu1~22.04) 11.4.0 Ubuntu 24.04 Kernel: 5.15 Compiler: gcc gcc (Ubuntu 13.3.0-6ubuntu2~24.04) 13.3.0 Red Hat Enterprise Linux 9.5 Kernel: 5.15 Compiler: gcc gcc (GCC) 11.5.0 20240719 (Red Hat 11.5.0-2) To view detailed results, visit: https://lab.dpdk.org/results/dashboard/patchsets/33608/ UNH-IOL DPDK Community Lab To manage your email subscriptions, visit: https://lab.dpdk.org/results/dashboard/preferences/subscriptions/