From mboxrd@z Thu Jan 1 00:00:00 1970 Return-Path: Received: from mails.dpdk.org (mails.dpdk.org [217.70.189.124]) by inbox.dpdk.org (Postfix) with ESMTP id 2F60F46B28 for ; Tue, 8 Jul 2025 13:12:36 +0200 (CEST) Received: from mails.dpdk.org (localhost [127.0.0.1]) by mails.dpdk.org (Postfix) with ESMTP id 2A7F84028C; Tue, 8 Jul 2025 13:12:36 +0200 (CEST) Received: from mail-oa1-f98.google.com (mail-oa1-f98.google.com [209.85.160.98]) by mails.dpdk.org (Postfix) with ESMTP id 48ECD4028C for ; Tue, 8 Jul 2025 13:12:35 +0200 (CEST) Received: by mail-oa1-f98.google.com with SMTP id 586e51a60fabf-2cc89c59cc0so3142769fac.0 for ; Tue, 08 Jul 2025 04:12:35 -0700 (PDT) DKIM-Signature: v=1; a=rsa-sha256; c=relaxed/relaxed; d=iol.unh.edu; s=unh-iol; t=1751973154; x=1752577954; darn=dpdk.org; h=references:in-reply-to:cc:to:from:subject:message-id:date:from:to :cc:subject:date:message-id:reply-to; bh=dX/AfGNK57lJDvOiuUfuANp38dq/prOqN33GuKgNg/c=; b=dLwK+ElFiKNhaOxjrlrQRU92w7OA8HecO2SbqAKAUwoNdk07TPQ5TeJt2cFVjqfAkF bRlQrV946x6qbiyBSjorwSkyrI9NFRUZ8vdaKJ/g/pJaNpWhw3rDdlaOdafnyF2Af/xP uugBTO8ticoFIkR+B71HOKYshWKVTtDE3YRRI= X-Google-DKIM-Signature: v=1; a=rsa-sha256; c=relaxed/relaxed; d=1e100.net; s=20230601; t=1751973154; x=1752577954; h=references:in-reply-to:cc:to:from:subject:message-id:date :x-gm-message-state:from:to:cc:subject:date:message-id:reply-to; bh=dX/AfGNK57lJDvOiuUfuANp38dq/prOqN33GuKgNg/c=; b=rNfuEaaHf4xD/TPfNLq7gAzH9nvkR7defOyk7ED1oDfWSRqEkS5aAHoYcsQGDi6dKh OoZhreK6uj2lcD99G62ODsCwJ/o14YT3yp3wbCUVefDnJHYON78fLXAlt9rkuSd3PHSR RA323vP0pG9702T9JkZlcDKSRWzM6yRumtwdETNIc6JF1ClkE0piIR3ZxV+nI5l+soZT Ta8Ny3CzQlnI7XQMrs7JALaUKLW8oTjEyg3frYBTiaoVl7UbrubD1nfPu4BRZJhApw04 /x+8R6b+VPodYNlCEi0yxHgBhVGcfcju2Ze34lKdg/gUHexEz+kpn/bFfTazyfbF4cOf No9Q== X-Gm-Message-State: AOJu0YxJ/huL5g/2O2HGfdb4W9gWmeTob9CICRJh+EsmrXRFmH3/Ls5T qEU1KxfgFFK1sC+xYVEXw0wN7KXQnUBvbKa82BXLst/xxsxjeXao6hcuWzuJ7H5rFHsgXIp4Fpf DHKNF0AheTkZ5rZZXLabxoIKtDgMomab5jotCVeT3ULOJ5kB2gSQFIbG7ASh4 X-Gm-Gg: ASbGncsq7MCHBosSZd5thfFuOEhgzP/SU6/qzN/qd0YhYyBZAf4YeNm+x4wlWdupiUn ykzsu3HvEEaDOcimMyw4QMwnhoDxAc4D+ab43wzEOOrYms3sNYCrB7gJu0JRDp1vbQTXbgnPF31 DyOS6ksYEkkHE6nUH0bFvCBOKeS2V+BPwTQw9czl9MgMqrZ+QWDVWRQD0jIZq91l1SOeG8qoin0 xPH5Mpg/nGl87/oYKZZ+75s5/ZZEUDRXo3dZC/cEdynIUj7scheZE/VSGVfEstH8Oi2VjQTDJpE Z9AMYFr/b+cD56/gKOGEGvu0jNjLMtBAxHuKvavdVx1q5k0= X-Google-Smtp-Source: AGHT+IH9WzTNBUuz898IZIlQv29O15LyIEZlzOJq06zmIEcpieuLufJ6wfrrXq/CzKcbNleARsA/hbcjVNBg X-Received: by 2002:a05:6870:348c:b0:2ef:88a6:e985 with SMTP id 586e51a60fabf-2fb7070179amr1416295fac.8.1751973154526; Tue, 08 Jul 2025 04:12:34 -0700 (PDT) Received: from postal.iol.unh.edu (postal.iol.unh.edu. [2606:4100:3880:1234::84]) by smtp-relay.gmail.com with ESMTPS id 586e51a60fabf-2f7900bc82esm633156fac.29.2025.07.08.04.12.34 (version=TLS1_2 cipher=ECDHE-ECDSA-AES128-GCM-SHA256 bits=128/128); Tue, 08 Jul 2025 04:12:34 -0700 (PDT) X-Relaying-Domain: iol.unh.edu Date: Tue, 08 Jul 2025 04:12:34 -0700 (PDT) Message-ID: <686cfd22.050a0220.1eb05f.0a94SMTPIN_ADDED_MISSING@mx.google.com> Received: from [172.21.0.7] (unknown [172.18.0.240]) by postal.iol.unh.edu (Postfix) with ESMTP id 093D46050A61; Tue, 8 Jul 2025 07:12:34 -0400 (EDT) Subject: |SUCCESS| pw155054 [PATCH] [v8,1/1] app/testpmd: canonicalize short From: dpdklab@iol.unh.edu To: Test Report Cc: dpdk-test-reports@iol.unh.edu In-Reply-To: <20250708083740.128610-2-shperetz@nvidia.com> References: <20250708083740.128610-2-shperetz@nvidia.com> Content-Type: text/plain X-BeenThere: test-report@dpdk.org X-Mailman-Version: 2.1.29 Precedence: list List-Id: automatic DPDK test reports List-Unsubscribe: , List-Archive: List-Post: List-Help: List-Subscribe: , Errors-To: test-report-bounces@dpdk.org Test-Label: iol-unit-amd64-testing Test-Status: SUCCESS http://dpdk.org/patch/155054 _Testing PASS_ Submitter: Shani Peretz Date: Tuesday, July 08 2025 08:37:40 DPDK git baseline: Repo:dpdk Branch: master CommitID:ba982f9a1ca9b96ed0394b764f1523d482e963a2 155054 --> testing pass Upstream job id: Generic-VM-Unit-Test-DPDK#29791 Test environment and result as below: +-------------------------------+----------------+ | Environment | dpdk_unit_test | +===============================+================+ | CentOS Stream 9 | PASS | +-------------------------------+----------------+ | CentOS Stream 10 | PASS | +-------------------------------+----------------+ | Fedora Linux 40 | PASS | +-------------------------------+----------------+ | Debian GNU/Linux 12 | PASS | +-------------------------------+----------------+ | Fedora Linux 41 | PASS | +-------------------------------+----------------+ | Red Hat Enterprise Linux 9.5 | PASS | +-------------------------------+----------------+ | Ubuntu 20.04 | PASS | +-------------------------------+----------------+ | Ubuntu 22.04 | PASS | +-------------------------------+----------------+ | Red Hat Enterprise Linux 8.10 | PASS | +-------------------------------+----------------+ | Ubuntu 24.04 | PASS | +-------------------------------+----------------+ | Windows Server 2022 | PASS | +-------------------------------+----------------+ CentOS Stream 9 Kernel: 5.15 Compiler: gcc gcc (GCC) 11.5.0 20240719 (Red Hat 11.5.0-7) CentOS Stream 10 Kernel: 5.15 Compiler: gcc gcc (GCC) 14.2.1 20250110 (Red Hat 14.2.1-8) Fedora Linux 40 Kernel: 5.15 Compiler: gcc gcc (GCC) 14.2.1 20240912 (Red Hat 14.2.1-3) Debian GNU/Linux 12 Kernel: 5.15 Compiler: gcc gcc (Debian 12.2.0-14+deb12u1) 12.2.0 Fedora Linux 41 Kernel: 5.15 Compiler: gcc gcc (GCC) 14.3.1 20250523 (Red Hat 14.3.1-1) Red Hat Enterprise Linux 9.5 Kernel: 5.15 Compiler: gcc gcc (GCC) 11.5.0 20240719 (Red Hat 11.5.0-2) Ubuntu 20.04 Kernel: 5.15 Compiler: gcc gcc (Ubuntu 9.4.0-1ubuntu1~20.04.2) 9.4.0 Ubuntu 22.04 Kernel: 5.15 Compiler: gcc gcc (Ubuntu 11.4.0-1ubuntu1~22.04) 11.4.0 Red Hat Enterprise Linux 8.10 Kernel: 5.15 Compiler: gcc gcc (GCC) 8.5.0 20210514 (Red Hat 8.5.0-22) Ubuntu 24.04 Kernel: 5.15 Compiler: gcc gcc (Ubuntu 13.3.0-6ubuntu2~24.04) 13.3.0 Windows Server 2022 Kernel: 10.0.20348.2031 Compiler: clang 15.0.7, gcc 14.1.0 (MinGW), and MSVC VS 19.39.33521 To view detailed results, visit: https://lab.dpdk.org/results/dashboard/patchsets/33608/ UNH-IOL DPDK Community Lab To manage your email subscriptions, visit: https://lab.dpdk.org/results/dashboard/preferences/subscriptions/