From mboxrd@z Thu Jan 1 00:00:00 1970 Return-Path: Received: from mails.dpdk.org (mails.dpdk.org [217.70.189.124]) by inbox.dpdk.org (Postfix) with ESMTP id 78BAE46B28 for ; Tue, 8 Jul 2025 13:37:14 +0200 (CEST) Received: from mails.dpdk.org (localhost [127.0.0.1]) by mails.dpdk.org (Postfix) with ESMTP id 56A2A4028C; Tue, 8 Jul 2025 13:37:14 +0200 (CEST) Received: from mail-il1-f228.google.com (mail-il1-f228.google.com [209.85.166.228]) by mails.dpdk.org (Postfix) with ESMTP id C70114028C for ; Tue, 8 Jul 2025 13:37:12 +0200 (CEST) Received: by mail-il1-f228.google.com with SMTP id e9e14a558f8ab-3ddb4a7ac19so15803125ab.3 for ; Tue, 08 Jul 2025 04:37:12 -0700 (PDT) DKIM-Signature: v=1; a=rsa-sha256; c=relaxed/relaxed; d=iol.unh.edu; s=unh-iol; t=1751974632; x=1752579432; darn=dpdk.org; h=references:in-reply-to:cc:to:from:subject:message-id:date:from:to :cc:subject:date:message-id:reply-to; bh=x8f4ne1tzTJkZ2CbqDG2mnvmMTfAr5QOpfh3vpETnMM=; b=EgXwGJoDl5Fe37oR1jD8hMyj7ny2ZtcKPRpNGXjQKQZjHUVUrwiYmdmJbX3IiFUhTv pMESYyqBpFg42VR3POAY1C6a2ksXBuctFuZ1HeXKkr1pN0kmYUuevPyFFKcVgjuslMn+ Z9D4/gQnLOyT0fR3Yr1zbT5pFEBjb2kjxkGQw= X-Google-DKIM-Signature: v=1; a=rsa-sha256; c=relaxed/relaxed; d=1e100.net; s=20230601; t=1751974632; x=1752579432; h=references:in-reply-to:cc:to:from:subject:message-id:date :x-gm-message-state:from:to:cc:subject:date:message-id:reply-to; bh=x8f4ne1tzTJkZ2CbqDG2mnvmMTfAr5QOpfh3vpETnMM=; b=MH1etB8HxL5Du0ibiYdOqq5rB9xl9X9zGNBYjplu+SrKc12KPLYWWzqLQs7ZYoQSY6 4gFXiXbvCzUVt0vxsVkkvNmaf7zctzQphF+wJ+pLi0eBDraPKnA4hp0ujwIoac5se+B0 Jp48cyQH9ngc9WWel4+6S71WU2gSRpVyb2RZAOXaEyiBU/4CaOhkhyLJNb/sVwOUU6M/ GMbKEOopfJk8sugkgDIZ/owant51Zp8YRLaiXdQLHzFnswPVEWFa2zwy7LHvKpWOCCxC oVHrSGslxPzTrhaFUpt6otc9MadbKhs8MUhca+petyd4LhShP4ItDQf/Bv4elsfydLa3 nwjg== X-Gm-Message-State: AOJu0YxaLKLgvS28uqEyICd5jZTWxxshJWtBe/isciLBxsbr2JA3734A 5NljI9XXzk6YpCkZbvBVS4xEAXxveBDj6vpQ3DS+w1Gjo2TiaaEnpGe1M4ixVrGoTx8OXZRDrYZ X9DQsRtwatjCj7IpGje1kFMUpjYr0D+0eJHMV6uQzs9HX X-Gm-Gg: ASbGncv9+/Rf/L3JNMqf7Wbj7gOKMYW950kcmmoiDPpcs1/yYMVHscC264c2OCezpkp V+TuBX6Ig1GPBP7wr7LN2YZwYwXN2kdkjADIaBb4d7E2uh9DdGzxSPVi43uH0vIpF1NdT7MMnxm RHAOT3Hl928ijHquCz6NqqhtnXSfidDbkm/3fwffkYWlj8E7ga3T2iPg5g0UrRyuFJGcdFSOfGg dGHeQiDaqrWfHwYwho6QSOA11HZYoettRfCRw/eeesEaLQINEmDNIcY+9EnHVs3AbKhKfLP33zM TOAUCfXv7nFxAEI/BczjhmvWqf11EZg/F85RTX4+ExIXpja8rCI+btKQgHUs7ee/2j0XIg== X-Google-Smtp-Source: AGHT+IHvwzXzDYZE8Cl3vWR8hLSOc3HmIvN7weW81NzhS5bwMkoYGk8zh3tI6P9QhQhU6zQ9aZfJ9lCNYPPV X-Received: by 2002:a05:6e02:1a63:b0:3dd:792d:ce42 with SMTP id e9e14a558f8ab-3e1537f6477mr32704145ab.0.1751974631895; Tue, 08 Jul 2025 04:37:11 -0700 (PDT) Received: from postal.iol.unh.edu (postal.iol.unh.edu. [132.177.123.84]) by smtp-relay.gmail.com with ESMTPS id 8926c6da1cb9f-503b5a1255fsm377682173.27.2025.07.08.04.37.11 (version=TLS1_2 cipher=ECDHE-ECDSA-AES128-GCM-SHA256 bits=128/128); Tue, 08 Jul 2025 04:37:11 -0700 (PDT) X-Relaying-Domain: iol.unh.edu Date: Tue, 08 Jul 2025 04:37:11 -0700 (PDT) Message-ID: <686d02e7.050a0220.e2b02.5740SMTPIN_ADDED_MISSING@mx.google.com> Received: from [172.21.0.5] (unknown [172.18.0.240]) by postal.iol.unh.edu (Postfix) with ESMTP id 684E56051830; Tue, 8 Jul 2025 07:37:11 -0400 (EDT) Subject: |SUCCESS| pw155055 [PATCH] net/mlx5: fix out of order completions in From: dpdklab@iol.unh.edu To: Test Report Cc: dpdk-test-reports@iol.unh.edu In-Reply-To: <20250708095341.441890-1-viacheslavo@nvidia.com> References: <20250708095341.441890-1-viacheslavo@nvidia.com> Content-Type: text/plain X-BeenThere: test-report@dpdk.org X-Mailman-Version: 2.1.29 Precedence: list List-Id: automatic DPDK test reports List-Unsubscribe: , List-Archive: List-Post: List-Help: List-Subscribe: , Errors-To: test-report-bounces@dpdk.org Test-Label: iol-unit-amd64-testing Test-Status: SUCCESS http://dpdk.org/patch/155055 _Testing PASS_ Submitter: Viacheslav Ovsiienko Date: Tuesday, July 08 2025 09:53:41 DPDK git baseline: Repo:dpdk Branch: master CommitID:e2888614268cbf0abcc7cd72ad97ff4e4901d0a5 155055 --> testing pass Upstream job id: Generic-Unit-Test-DPDK#353496 Test environment and result as below: +-------------------------------+----------------+ | Environment | dpdk_unit_test | +===============================+================+ | CentOS Stream 9 | PASS | +-------------------------------+----------------+ | Debian GNU/Linux 12 | PASS | +-------------------------------+----------------+ | Fedora Linux 40 | PASS | +-------------------------------+----------------+ | CentOS Stream 10 | PASS | +-------------------------------+----------------+ | Red Hat Enterprise Linux 8.10 | PASS | +-------------------------------+----------------+ | Fedora Linux 41 | PASS | +-------------------------------+----------------+ | Ubuntu 20.04 | PASS | +-------------------------------+----------------+ | Ubuntu 24.04 | PASS | +-------------------------------+----------------+ | Red Hat Enterprise Linux 9.5 | PASS | +-------------------------------+----------------+ | Ubuntu 22.04 | PASS | +-------------------------------+----------------+ CentOS Stream 9 Kernel: 5.15 Compiler: gcc gcc (GCC) 11.5.0 20240719 (Red Hat 11.5.0-7) Debian GNU/Linux 12 Kernel: 5.15 Compiler: gcc gcc (Debian 12.2.0-14+deb12u1) 12.2.0 Fedora Linux 40 Kernel: 5.15 Compiler: gcc gcc (GCC) 14.2.1 20240912 (Red Hat 14.2.1-3) CentOS Stream 10 Kernel: 5.15 Compiler: gcc gcc (GCC) 14.2.1 20250110 (Red Hat 14.2.1-8) Red Hat Enterprise Linux 8.10 Kernel: 5.15 Compiler: gcc gcc (GCC) 8.5.0 20210514 (Red Hat 8.5.0-22) Fedora Linux 41 Kernel: 5.15 Compiler: gcc gcc (GCC) 14.3.1 20250523 (Red Hat 14.3.1-1) Ubuntu 20.04 Kernel: 5.15 Compiler: gcc gcc (Ubuntu 9.4.0-1ubuntu1~20.04.2) 9.4.0 Ubuntu 24.04 Kernel: 5.15 Compiler: gcc gcc (Ubuntu 13.3.0-6ubuntu2~24.04) 13.3.0 Red Hat Enterprise Linux 9.5 Kernel: 5.15 Compiler: gcc gcc (GCC) 11.5.0 20240719 (Red Hat 11.5.0-2) Ubuntu 22.04 Kernel: 5.15 Compiler: gcc gcc (Ubuntu 11.4.0-1ubuntu1~22.04) 11.4.0 To view detailed results, visit: https://lab.dpdk.org/results/dashboard/patchsets/33609/ UNH-IOL DPDK Community Lab To manage your email subscriptions, visit: https://lab.dpdk.org/results/dashboard/preferences/subscriptions/