From mboxrd@z Thu Jan 1 00:00:00 1970 Return-Path: Received: from mails.dpdk.org (mails.dpdk.org [217.70.189.124]) by inbox.dpdk.org (Postfix) with ESMTP id 5F63846B28 for ; Tue, 8 Jul 2025 13:48:05 +0200 (CEST) Received: from mails.dpdk.org (localhost [127.0.0.1]) by mails.dpdk.org (Postfix) with ESMTP id 431C04028C; Tue, 8 Jul 2025 13:48:05 +0200 (CEST) Received: from mail-pf1-f228.google.com (mail-pf1-f228.google.com [209.85.210.228]) by mails.dpdk.org (Postfix) with ESMTP id DB11D4028C for ; Tue, 8 Jul 2025 13:48:03 +0200 (CEST) Received: by mail-pf1-f228.google.com with SMTP id d2e1a72fcca58-74b56b1d301so2372798b3a.1 for ; Tue, 08 Jul 2025 04:48:03 -0700 (PDT) DKIM-Signature: v=1; a=rsa-sha256; c=relaxed/relaxed; d=iol.unh.edu; s=unh-iol; t=1751975283; x=1752580083; darn=dpdk.org; h=references:in-reply-to:cc:to:from:subject:message-id:date:from:to :cc:subject:date:message-id:reply-to; bh=hhuX5zC8gXNROpzngQVxSQ5zqMaZAihWSvbX7jc/X30=; b=Eb6DkclQZsIyCa+VD2oTC/qTbhVt7qTT1A//WdocOKbdUFl+45j1+IasNgZNG+mM5+ Db6Dw9VtaZCkOE2vWFCR+n5XBeO9Ks+BsbTPxPz6776hhkvEPP6tnKv82DSODete+J5u m1Q44xWnZZm155YSU/3u22puZ5a34S9905SNc= X-Google-DKIM-Signature: v=1; a=rsa-sha256; c=relaxed/relaxed; d=1e100.net; s=20230601; t=1751975283; x=1752580083; h=references:in-reply-to:cc:to:from:subject:message-id:date :x-gm-message-state:from:to:cc:subject:date:message-id:reply-to; bh=hhuX5zC8gXNROpzngQVxSQ5zqMaZAihWSvbX7jc/X30=; b=peYMkM7wPc1LukV4PXwPz/GiqDfoFMe+JoevzTDwER6x/OTs49vUuDDv2Y4kctHkyB 6IJA3/A/NObXB5YqVBjc16IMU5l762TxA+c4KgljRB6cj/411KwyMswsZJflgHis2Gv5 hDsdAPm/WxTb9oTuYsJFLXD1wnvuPwYCCIiGpQke3MqHbwOfB+eWUlfqp6/xrjTPhyp5 ckmzapkLbjUAE2BUQVDpNyQw1bzLZuh6fr5/V6IduQn4ItfFIx/9Cy7mMuD2+56Xnfa3 CoLwtU/kK3g/K2QbRJfd51msBGQbM03SZOrMH3HmRLLyes0+96FIJd16/my4SflmWrSn 3mgQ== X-Gm-Message-State: AOJu0YzzhN5gzRjFN7ek7TQv6He4nTqtDdkrvbDqMTj7yJPg81VuFFWK YM8PWV0T9z3MXPOZ7Dx3zDJdFwj6sGkViaFx9pspd5YkVUqFpoVUxFBm+sFIew/3MFHRwO0Yims dT8awiY0H5Nxwlbui4MKJZsADLpXCJjcfBbnQDSikakkT X-Gm-Gg: ASbGncskaDfw4OPAsPHYHNXZGb32tEtwj4AWKpLBDMs80LJWuqcJ8J4qA7vuTaRFzKF 2BNtG76YxbqtEZtRUqbayJRS4BlIaZSgAHoBioLb0FeCUhiY+29scWEmdf4kxOu6XEk+Qniwzhd I1V0VHJa5gAz0m8CPH6AcgzHOD3zVJn1Z8Waz1HCyR4ibm9+vjSo7U0Skzxoq+H74o8UdtkdL3P Q/3wNV/QLvsF+BbBoLtq1i9wcfKXewRgzp+bHWVGSqbLAKy0xeGsI832f4szwwrbdYFl9dzslJv qNGRFoCSq/B9oBWw4WkcuQNxsXeoRJ0hrz8X3Sn2Y572GJtw+6eMAf0jVpdvHT+bvWG8eQ== X-Google-Smtp-Source: AGHT+IGRPq4axQMbuSu58QtDHMNOF278fFzEVYvu5WaOtyEAJcThSJUJDEdQ52v4XqZ6mFdBi4xVdwnxrg/t X-Received: by 2002:a05:6a20:c6c1:b0:21f:563e:b7e8 with SMTP id adf61e73a8af0-22608fb3017mr26370791637.4.1751975282825; Tue, 08 Jul 2025 04:48:02 -0700 (PDT) Received: from postal.iol.unh.edu (postal.iol.unh.edu. [132.177.123.84]) by smtp-relay.gmail.com with ESMTPS id 41be03b00d2f7-b38ee4c0a3fsm302698a12.14.2025.07.08.04.48.02 (version=TLS1_2 cipher=ECDHE-ECDSA-AES128-GCM-SHA256 bits=128/128); Tue, 08 Jul 2025 04:48:02 -0700 (PDT) X-Relaying-Domain: iol.unh.edu Date: Tue, 08 Jul 2025 04:48:02 -0700 (PDT) Message-ID: <686d0572.050a0220.20d48e.f003SMTPIN_ADDED_MISSING@mx.google.com> Received: from [172.21.0.7] (unknown [172.18.0.240]) by postal.iol.unh.edu (Postfix) with ESMTP id D44996051830; Tue, 8 Jul 2025 07:48:01 -0400 (EDT) Subject: |SUCCESS| pw155053 [PATCH] examples/multi_process: fix cleanup on ex From: dpdklab@iol.unh.edu To: Test Report Cc: dpdk-test-reports@iol.unh.edu In-Reply-To: <20250708070954.165222-1-mkashani@nvidia.com> References: <20250708070954.165222-1-mkashani@nvidia.com> Content-Type: text/plain X-BeenThere: test-report@dpdk.org X-Mailman-Version: 2.1.29 Precedence: list List-Id: automatic DPDK test reports List-Unsubscribe: , List-Archive: List-Post: List-Help: List-Subscribe: , Errors-To: test-report-bounces@dpdk.org Test-Label: iol-compile-arm64-testing Test-Status: SUCCESS http://dpdk.org/patch/155053 _Testing PASS_ Submitter: Maayan Kashani Date: Tuesday, July 08 2025 07:09:54 DPDK git baseline: Repo:dpdk Branch: master CommitID:70c2297528e7c7789af452f78de1932e9a20c8a2 155053 --> testing pass Upstream job id: Generic-DPDK-Compile-Meson#406418 Test environment and result as below: +------------------------------+--------------------+ | Environment | dpdk_meson_compile | +==============================+====================+ | Red Hat Enterprise Linux 9.5 | PASS | +------------------------------+--------------------+ | Ubuntu 20.04 | PASS | +------------------------------+--------------------+ | Debian GNU/Linux 12 | PASS | +------------------------------+--------------------+ | Fedora Linux 40 | PASS | +------------------------------+--------------------+ | Fedora Linux 41 | PASS | +------------------------------+--------------------+ | Ubuntu 22.04 | PASS | +------------------------------+--------------------+ | CentOS Stream 9 | PASS | +------------------------------+--------------------+ | CentOS Stream 10 | PASS | +------------------------------+--------------------+ | Ubuntu 24.04 | PASS | +------------------------------+--------------------+ Red Hat Enterprise Linux 9.5 Kernel: 5.4 Compiler: gcc gcc (GCC) 11.5.0 20240719 (Red Hat 11.5.0-2) Ubuntu 20.04 Kernel: 5.15 Compiler: aarch64-linux-gnu-gcc gcc (Ubuntu 9.4.0-1ubuntu1~20.04.2) 9.4.0 Debian GNU/Linux 12 Kernel: 5.4 Compiler: gcc gcc (Debian 12.2.0-14+deb12u1) 12.2.0 Fedora Linux 40 Kernel: 5.4 Compiler: gcc gcc (GCC) 14.2.1 20240912 (Red Hat 14.2.1-3) Fedora Linux 41 Kernel: 5.4 Compiler: gcc gcc (GCC) 14.3.1 20250523 (Red Hat 14.3.1-1) Ubuntu 22.04 Kernel: 5.4 Compiler: gcc gcc (Ubuntu 11.4.0-1ubuntu1~22.04) 11.4.0 CentOS Stream 9 Kernel: 5.4 Compiler: gcc gcc (GCC) 11.5.0 20240719 (Red Hat 11.5.0-7) CentOS Stream 10 Kernel: 5.4 Compiler: gcc gcc (GCC) 14.2.1 20250110 (Red Hat 14.2.1-8) Ubuntu 24.04 Kernel: 5.4 Compiler: gcc gcc (Ubuntu 13.3.0-6ubuntu2~24.04) 13.3.0 To view detailed results, visit: https://lab.dpdk.org/results/dashboard/patchsets/33607/ UNH-IOL DPDK Community Lab To manage your email subscriptions, visit: https://lab.dpdk.org/results/dashboard/preferences/subscriptions/