From mboxrd@z Thu Jan 1 00:00:00 1970 Return-Path: Received: from mails.dpdk.org (mails.dpdk.org [217.70.189.124]) by inbox.dpdk.org (Postfix) with ESMTP id BB44446B29 for ; Tue, 8 Jul 2025 14:14:47 +0200 (CEST) Received: from mails.dpdk.org (localhost [127.0.0.1]) by mails.dpdk.org (Postfix) with ESMTP id 996D14028C; Tue, 8 Jul 2025 14:14:47 +0200 (CEST) Received: from mail-il1-f228.google.com (mail-il1-f228.google.com [209.85.166.228]) by mails.dpdk.org (Postfix) with ESMTP id 14F724028C for ; Tue, 8 Jul 2025 14:14:46 +0200 (CEST) Received: by mail-il1-f228.google.com with SMTP id e9e14a558f8ab-3da73df6c4eso40329125ab.0 for ; Tue, 08 Jul 2025 05:14:46 -0700 (PDT) DKIM-Signature: v=1; a=rsa-sha256; c=relaxed/relaxed; d=iol.unh.edu; s=unh-iol; t=1751976885; x=1752581685; darn=dpdk.org; h=references:in-reply-to:cc:to:from:subject:message-id:date:from:to :cc:subject:date:message-id:reply-to; bh=ERHiuT1tYfyRSWSKTVmErGqbYnh6OnYQBgZgpJj3jk8=; b=KbT2NpcOr+5yAzB6y3xd9VPU6W2/LmNbcOiZErSrajUXHjsoINcedX5RxMneXURucn RG9bcWEbaf6wV0TKN8mugQUBkO1Kxc7BgYd7Cg1TzoWbapAeS7vR8wBz3XPxGfe4Qg+U t8M+1KlcEde4k2jOYxSh18fE6PYfMQjhPPEgk= X-Google-DKIM-Signature: v=1; a=rsa-sha256; c=relaxed/relaxed; d=1e100.net; s=20230601; t=1751976885; x=1752581685; h=references:in-reply-to:cc:to:from:subject:message-id:date :x-gm-message-state:from:to:cc:subject:date:message-id:reply-to; bh=ERHiuT1tYfyRSWSKTVmErGqbYnh6OnYQBgZgpJj3jk8=; b=gm2vtKwdWzkIILCyVYezchWl2+ATPYgdk1LSZIz5xFjmdSrXzzsmJkv5yvf8/hos61 EeMLWYL0Yt+wprHL952KialtvSm5KRwnVXhC3ePa+J0/NJxikaAWPG6XbbLPvNSc1HQz s2stnYxSFnRfIUHl7mUd/wNliUb0b8ARqkKnZV/XFkG4zoojbVHGr94O1MBvQP76DnPM d7PiIE4yS7FSVnc4W+wl50ZP7uNISLj1AqiKWoongaOh/xM1Sq2usxnMuD/H2cE7Z00x fbaEIA/nkDKldWx5HsTjFT9aDeyzl3uYr7GgzQgObU74apW8viIuj1pYVV8dS4xT+O0m aH5Q== X-Gm-Message-State: AOJu0Yyf63/GPjSx0Z/CCykbOd3q77hjBxFbQjvnAQSB2/e+kdkJi6bD ayYv+s2Vdm12E/mdBpx0wiwtvfNlf3xTSrPu66ht6LgZ0FQxOAdxQLVrGoebzTro0YbWGMGqZKM G4fPz58t11bcHZfRYcAXzZgenwwcfYJibBr3UEZ4kv44m X-Gm-Gg: ASbGncu2SvIAkWSdAC3qvZe0VBntleL9g/NrJcF/3tMnZxdiVKBqaxLplZv9CNSwhV5 zBsxTMzypvla54NTU4WtnSBEkDOX9ak7h953RKLfDFZOlnAIP/e5uisSouJaiTw00oouVUEUp9O VfZR1XYamo8c2OWmLizL1y8HpFOnEyGMs0XEvA5qm9pzbTtTrXPBPdegfN8K9vVBmqPfoQ3VaEq 61K6ERyYzCrj6JJp/MighVULx/cxDnr6g/OMvQVW2sIXbFESR1ItwWY8dmGP6mWDFI/kzTJm3pB Srt6Wwv2UJi0dyPwgAH8msP1bzKsjdvTfykT2i3lNAbd3knjmTnafpDNB2k7MjdyUnFIHQ== X-Google-Smtp-Source: AGHT+IHQ8nh+TuGuiIB4AtOHwPYFa+lY+qGBWiCPAAhy3t6BCwB2qMROst/mU9QqcLcoOWPCAr5Es1JzmQoI X-Received: by 2002:a05:6e02:3c87:b0:3e0:4f66:3106 with SMTP id e9e14a558f8ab-3e154dbf773mr28812255ab.2.1751976884083; Tue, 08 Jul 2025 05:14:44 -0700 (PDT) Received: from postal.iol.unh.edu (postal.iol.unh.edu. [132.177.123.84]) by smtp-relay.gmail.com with ESMTPS id e9e14a558f8ab-3e0fe2211e1sm6274635ab.53.2025.07.08.05.14.44 (version=TLS1_2 cipher=ECDHE-ECDSA-AES128-GCM-SHA256 bits=128/128); Tue, 08 Jul 2025 05:14:44 -0700 (PDT) X-Relaying-Domain: iol.unh.edu Date: Tue, 08 Jul 2025 05:14:44 -0700 (PDT) Message-ID: <686d0bb4.050a0220.138641.09cdSMTPIN_ADDED_MISSING@mx.google.com> Received: from [172.21.0.5] (unknown [172.18.0.240]) by postal.iol.unh.edu (Postfix) with ESMTP id 88B786051830; Tue, 8 Jul 2025 08:14:43 -0400 (EDT) Subject: |SUCCESS| pw155055 [PATCH] net/mlx5: fix out of order completions in From: dpdklab@iol.unh.edu To: Test Report Cc: dpdk-test-reports@iol.unh.edu In-Reply-To: <20250708095341.441890-1-viacheslavo@nvidia.com> References: <20250708095341.441890-1-viacheslavo@nvidia.com> Content-Type: text/plain X-BeenThere: test-report@dpdk.org X-Mailman-Version: 2.1.29 Precedence: list List-Id: automatic DPDK test reports List-Unsubscribe: , List-Archive: List-Post: List-Help: List-Subscribe: , Errors-To: test-report-bounces@dpdk.org Test-Label: iol-unit-amd64-testing Test-Status: SUCCESS http://dpdk.org/patch/155055 _Testing PASS_ Submitter: Viacheslav Ovsiienko Date: Tuesday, July 08 2025 09:53:41 DPDK git baseline: Repo:dpdk Branch: master CommitID:e2888614268cbf0abcc7cd72ad97ff4e4901d0a5 155055 --> testing pass Upstream job id: Generic-VM-Unit-Test-DPDK#29792 Test environment and result as below: +-------------------------------+----------------+ | Environment | dpdk_unit_test | +===============================+================+ | CentOS Stream 9 | PASS | +-------------------------------+----------------+ | Debian GNU/Linux 12 | PASS | +-------------------------------+----------------+ | Fedora Linux 40 | PASS | +-------------------------------+----------------+ | CentOS Stream 10 | PASS | +-------------------------------+----------------+ | Red Hat Enterprise Linux 8.10 | PASS | +-------------------------------+----------------+ | Fedora Linux 41 | PASS | +-------------------------------+----------------+ | Ubuntu 20.04 | PASS | +-------------------------------+----------------+ | Ubuntu 24.04 | PASS | +-------------------------------+----------------+ | Red Hat Enterprise Linux 9.5 | PASS | +-------------------------------+----------------+ | Ubuntu 22.04 | PASS | +-------------------------------+----------------+ | Windows Server 2022 | PASS | +-------------------------------+----------------+ CentOS Stream 9 Kernel: 5.15 Compiler: gcc gcc (GCC) 11.5.0 20240719 (Red Hat 11.5.0-7) Debian GNU/Linux 12 Kernel: 5.15 Compiler: gcc gcc (Debian 12.2.0-14+deb12u1) 12.2.0 Fedora Linux 40 Kernel: 5.15 Compiler: gcc gcc (GCC) 14.2.1 20240912 (Red Hat 14.2.1-3) CentOS Stream 10 Kernel: 5.15 Compiler: gcc gcc (GCC) 14.2.1 20250110 (Red Hat 14.2.1-8) Red Hat Enterprise Linux 8.10 Kernel: 5.15 Compiler: gcc gcc (GCC) 8.5.0 20210514 (Red Hat 8.5.0-22) Fedora Linux 41 Kernel: 5.15 Compiler: gcc gcc (GCC) 14.3.1 20250523 (Red Hat 14.3.1-1) Ubuntu 20.04 Kernel: 5.15 Compiler: gcc gcc (Ubuntu 9.4.0-1ubuntu1~20.04.2) 9.4.0 Ubuntu 24.04 Kernel: 5.15 Compiler: gcc gcc (Ubuntu 13.3.0-6ubuntu2~24.04) 13.3.0 Red Hat Enterprise Linux 9.5 Kernel: 5.15 Compiler: gcc gcc (GCC) 11.5.0 20240719 (Red Hat 11.5.0-2) Ubuntu 22.04 Kernel: 5.15 Compiler: gcc gcc (Ubuntu 11.4.0-1ubuntu1~22.04) 11.4.0 Windows Server 2022 Kernel: 10.0.20348.2031 Compiler: clang 15.0.7, gcc 14.1.0 (MinGW), and MSVC VS 19.39.33521 To view detailed results, visit: https://lab.dpdk.org/results/dashboard/patchsets/33609/ UNH-IOL DPDK Community Lab To manage your email subscriptions, visit: https://lab.dpdk.org/results/dashboard/preferences/subscriptions/