From mboxrd@z Thu Jan 1 00:00:00 1970 Return-Path: Received: from mails.dpdk.org (mails.dpdk.org [217.70.189.124]) by inbox.dpdk.org (Postfix) with ESMTP id B3FBC46B29 for ; Tue, 8 Jul 2025 14:52:57 +0200 (CEST) Received: from mails.dpdk.org (localhost [127.0.0.1]) by mails.dpdk.org (Postfix) with ESMTP id AE26340677; Tue, 8 Jul 2025 14:52:57 +0200 (CEST) Received: from mail-pl1-f227.google.com (mail-pl1-f227.google.com [209.85.214.227]) by mails.dpdk.org (Postfix) with ESMTP id 4279440677 for ; Tue, 8 Jul 2025 14:52:56 +0200 (CEST) Received: by mail-pl1-f227.google.com with SMTP id d9443c01a7336-234b9dfb842so38605965ad.1 for ; Tue, 08 Jul 2025 05:52:56 -0700 (PDT) DKIM-Signature: v=1; a=rsa-sha256; c=relaxed/relaxed; d=iol.unh.edu; s=unh-iol; t=1751979175; x=1752583975; darn=dpdk.org; h=references:in-reply-to:cc:to:from:subject:message-id:date:from:to :cc:subject:date:message-id:reply-to; bh=GQ7aUGEXIE0qQz+UwxR9mzyKabc+0hThPUfwXnS8Jz8=; b=jlnFXw495cbOS/icsq87xY8lNWVQVjDoZMC8t1ttvOQTuRcwCnYxihkj9/L8OVst1I LNhL2viq2EfyeyrYVAE/MLRW1hhEYaZmXcp8dRXfaAgJx6TswvkEmOsSmTmKJgOJLtFl C3fIMC0hd5WsRpXy/bgl178uOZO3mlvHilvi4= X-Google-DKIM-Signature: v=1; a=rsa-sha256; c=relaxed/relaxed; d=1e100.net; s=20230601; t=1751979175; x=1752583975; h=references:in-reply-to:cc:to:from:subject:message-id:date :x-gm-message-state:from:to:cc:subject:date:message-id:reply-to; bh=GQ7aUGEXIE0qQz+UwxR9mzyKabc+0hThPUfwXnS8Jz8=; b=JzZGO8je/pO2vdg6YsnZ2tYTVn4wWZKDqUpfnPfdP7rRBjfoox4GmgPLQ5eT//6LuJ WJDWU2U3BzJdcmneJDdHriyjI2gGdF6Ymj7RANCZKjapF38mBbhoFsw6QJcLD/FBeCqz Dr3SdXdHxWrgiWxBuVuP/8pQl95Xi4pcIE0h/beCG7cZz1z6OLk6sdrmYr7LxBB+6WFD 3Ngmfb9nru2wXiiQEUsp4IgQ++lqzXJYs9mbsYsDuhibANS/dNLht4aODIj4vLFxY/1L DCaeQ4HNdWM2ab7OLAXF/nHzTA724cPuAhWGE8FMLNUqBidzFVPpfwlemE6/F89xpLxz Hgig== X-Gm-Message-State: AOJu0YyeiOLIUQV/vuUQFoKVnKRTzLhWFq8+g++Z++qAGvqj4G4DOob+ 9ND9NojKvNSe6dUpespwJ8Bt2a9Fq6NjWz4SurCdrvrh8Eaun+YzZM2Z8hhOdMc/yyUwzkEROtO N28eE/I3dlw5JrNCL1LrR5MdL57C3CEOvt5uA2M7kC2rZ X-Gm-Gg: ASbGncsPeuF+6IvjQ1HkgrdqOvdBqGcRMIfZmFi1rtsaqd2uhtFFvaPJ5yR3BNSn0Qh eGU+3o/djvZuyt/xVBiBFrv6XSfn1YEZTcMpJ2b1nJfQn9Dn/dLOK1DVLNZy1h1bRTep6cJ1Oq1 1AnufLYzKNxyYKW7ECJ3qr+tnj28227VCeAEXHM78EceyNBLMagmpaMMorXM9HSi1cI5QuJxuPx hP6So3MUteRyK0zs6fEzc8KGlcTQHSyXOVJxm3jovc7IlxtcNR/GOf7n3/+RwVLrEpv9ggY+/eP 5Zc3KI2nV0wwpYt5Kl4XWaYFFjnN5hqcGt547B8gB4luaqBFSkIwOYfRyDka1hRqno6YbQ== X-Google-Smtp-Source: AGHT+IEstSGwPjXblvy6TyHV2MKHQE6YA+w60Jue0BZsWO3pRpLNBN5NRLm8fZt0Sy6XGEJB2W0tRVqPovmb X-Received: by 2002:a17:903:1b30:b0:232:59b:58fe with SMTP id d9443c01a7336-23c87465517mr292385765ad.1.1751979175468; Tue, 08 Jul 2025 05:52:55 -0700 (PDT) Received: from postal.iol.unh.edu (postal.iol.unh.edu. [132.177.123.84]) by smtp-relay.gmail.com with ESMTPS id d9443c01a7336-23c84519e06sm5224775ad.123.2025.07.08.05.52.55 (version=TLS1_2 cipher=ECDHE-ECDSA-AES128-GCM-SHA256 bits=128/128); Tue, 08 Jul 2025 05:52:55 -0700 (PDT) X-Relaying-Domain: iol.unh.edu Date: Tue, 08 Jul 2025 05:52:55 -0700 (PDT) Message-ID: <686d14a7.170a0220.f0096.b2b9SMTPIN_ADDED_MISSING@mx.google.com> Received: from [172.21.0.8] (unknown [172.18.0.240]) by postal.iol.unh.edu (Postfix) with ESMTP id A21C76050A61; Tue, 8 Jul 2025 08:52:54 -0400 (EDT) Subject: |WARNING| pw155055 [PATCH] net/mlx5: fix out of order completions in From: dpdklab@iol.unh.edu To: Test Report Cc: dpdk-test-reports@iol.unh.edu In-Reply-To: <20250708095341.441890-1-viacheslavo@nvidia.com> References: <20250708095341.441890-1-viacheslavo@nvidia.com> Content-Type: text/plain X-BeenThere: test-report@dpdk.org X-Mailman-Version: 2.1.29 Precedence: list List-Id: automatic DPDK test reports List-Unsubscribe: , List-Archive: List-Post: List-Help: List-Subscribe: , Errors-To: test-report-bounces@dpdk.org Test-Label: iol-compile-amd64-testing Test-Status: WARNING http://dpdk.org/patch/155055 _Testing issues_ Submitter: Viacheslav Ovsiienko Date: Tuesday, July 08 2025 09:53:41 DPDK git baseline: Repo:dpdk Branch: master CommitID:e2888614268cbf0abcc7cd72ad97ff4e4901d0a5 155055 --> testing issues Upstream job id: Generic-DPDK-Compile-Meson#406494 Test environment and result as below: +-------------------------------+--------------------+-------------------+------------------+-------------------------+-------------------+----------------------+ | Environment | dpdk_meson_compile | dpdk_compile_spdk | dpdk_compile_ovs | dpdk_llvm_clang_compile | dpdk_msvc_compile | dpdk_mingw64_compile | +===============================+====================+===================+==================+=========================+===================+======================+ | CentOS Stream 10 | PASS | SKIPPED | SKIPPED | SKIPPED | SKIPPED | SKIPPED | +-------------------------------+--------------------+-------------------+------------------+-------------------------+-------------------+----------------------+ | Debian GNU/Linux 12 | PASS | PASS | SKIPPED | SKIPPED | SKIPPED | SKIPPED | +-------------------------------+--------------------+-------------------+------------------+-------------------------+-------------------+----------------------+ | Fedora Linux 40 | PASS | PASS | SKIPPED | SKIPPED | SKIPPED | SKIPPED | +-------------------------------+--------------------+-------------------+------------------+-------------------------+-------------------+----------------------+ | Fedora Linux 41 | PASS | WARN | PASS | SKIPPED | SKIPPED | SKIPPED | +-------------------------------+--------------------+-------------------+------------------+-------------------------+-------------------+----------------------+ | openSUSE Leap 15.6 | PASS | SKIPPED | SKIPPED | SKIPPED | SKIPPED | SKIPPED | +-------------------------------+--------------------+-------------------+------------------+-------------------------+-------------------+----------------------+ | Red Hat Enterprise Linux 8.10 | PASS | SKIPPED | SKIPPED | SKIPPED | SKIPPED | SKIPPED | +-------------------------------+--------------------+-------------------+------------------+-------------------------+-------------------+----------------------+ | Red Hat Enterprise Linux 9.5 | PASS | SKIPPED | SKIPPED | SKIPPED | SKIPPED | SKIPPED | +-------------------------------+--------------------+-------------------+------------------+-------------------------+-------------------+----------------------+ | Ubuntu 20.04 | PASS | SKIPPED | SKIPPED | SKIPPED | SKIPPED | SKIPPED | +-------------------------------+--------------------+-------------------+------------------+-------------------------+-------------------+----------------------+ | Ubuntu 22.04 | PASS | PASS | SKIPPED | SKIPPED | SKIPPED | SKIPPED | +-------------------------------+--------------------+-------------------+------------------+-------------------------+-------------------+----------------------+ | Ubuntu 24.04 | PASS | PASS | PASS | SKIPPED | SKIPPED | SKIPPED | +-------------------------------+--------------------+-------------------+------------------+-------------------------+-------------------+----------------------+ | Alpine Linux 3.22.0 | PASS | SKIPPED | SKIPPED | SKIPPED | SKIPPED | SKIPPED | +-------------------------------+--------------------+-------------------+------------------+-------------------------+-------------------+----------------------+ | CentOS Stream 9 | PASS | PASS | SKIPPED | SKIPPED | SKIPPED | SKIPPED | +-------------------------------+--------------------+-------------------+------------------+-------------------------+-------------------+----------------------+ | Windows Server 2022 | SKIPPED | SKIPPED | SKIPPED | PASS | PASS | PASS | +-------------------------------+--------------------+-------------------+------------------+-------------------------+-------------------+----------------------+ ==== 20 line log output for Fedora Linux 41 (dpdk_compile_spdk): ==== --- Failed to get log output --- ==== End log output ==== CentOS Stream 10 Kernel: 5.15 Compiler: gcc gcc (GCC) 14.2.1 20250110 (Red Hat 14.2.1-8) Debian GNU/Linux 12 Kernel: 5.15 Compiler: gcc gcc (Debian 12.2.0-14+deb12u1) 12.2.0 Fedora Linux 40 Kernel: 5.15 Compiler: clang gcc (GCC) 14.2.1 20240912 (Red Hat 14.2.1-3) Fedora Linux 41 Kernel: 5.15 Compiler: gcc gcc (GCC) 14.3.1 20250523 (Red Hat 14.3.1-1) openSUSE Leap 15.6 Kernel: 5.15 Compiler: gcc gcc (SUSE Linux) 7.5.0 Red Hat Enterprise Linux 8.10 Kernel: 5.15 Compiler: gcc gcc (GCC) 8.5.0 20210514 (Red Hat 8.5.0-22) Red Hat Enterprise Linux 9.5 Kernel: 5.15 Compiler: gcc gcc (GCC) 11.5.0 20240719 (Red Hat 11.5.0-2) Ubuntu 20.04 Kernel: 5.15 Compiler: gcc gcc (Ubuntu 9.4.0-1ubuntu1~20.04.2) 9.4.0 Ubuntu 22.04 Kernel: 5.15 Compiler: gcc gcc (Ubuntu 11.4.0-1ubuntu1~22.04) 11.4.0 Ubuntu 24.04 Kernel: 5.15 Compiler: gcc gcc (Ubuntu 13.3.0-6ubuntu2~24.04) 13.3.0 Alpine Linux 3.22.0 Kernel: 5.15 Compiler: gcc gcc (Alpine 14.2.0) 14.2.0 CentOS Stream 9 Kernel: 5.15 Compiler: gcc gcc (GCC) 11.5.0 20240719 (Red Hat 11.5.0-7) Windows Server 2022 Kernel: 10.0.20348.2031 Compiler: clang 15.0.7, gcc 14.1.0 (MinGW), and MSVC VS 19.39.33521 To view detailed results, visit: https://lab.dpdk.org/results/dashboard/patchsets/33609/ UNH-IOL DPDK Community Lab To manage your email subscriptions, visit: https://lab.dpdk.org/results/dashboard/preferences/subscriptions/