From mboxrd@z Thu Jan 1 00:00:00 1970 Return-Path: Received: from mails.dpdk.org (mails.dpdk.org [217.70.189.124]) by inbox.dpdk.org (Postfix) with ESMTP id D90CB46B27 for ; Tue, 8 Jul 2025 15:44:46 +0200 (CEST) Received: from mails.dpdk.org (localhost [127.0.0.1]) by mails.dpdk.org (Postfix) with ESMTP id D2614402A0; Tue, 8 Jul 2025 15:44:46 +0200 (CEST) Received: from mail-pl1-f225.google.com (mail-pl1-f225.google.com [209.85.214.225]) by mails.dpdk.org (Postfix) with ESMTP id 54458402A0 for ; Tue, 8 Jul 2025 15:44:45 +0200 (CEST) Received: by mail-pl1-f225.google.com with SMTP id d9443c01a7336-23c8a5053c2so31806305ad.1 for ; Tue, 08 Jul 2025 06:44:45 -0700 (PDT) DKIM-Signature: v=1; a=rsa-sha256; c=relaxed/relaxed; d=iol.unh.edu; s=unh-iol; t=1751982284; x=1752587084; darn=dpdk.org; h=references:in-reply-to:cc:to:from:subject:message-id:date:from:to :cc:subject:date:message-id:reply-to; bh=XcQuJ4uvsU2QvUmLLRKiNM8BTIb54xYY3CwsTvx0aLg=; b=JAHd0S3D5UJJYpEkqJJ2FX/n8+Ui8XiOeeo88CYUHLDUsvHfcrur1MkYjxrXC/7EL0 pWdhJU6n24joyA4ahi/DgCvAq5kr6xYioETV87wgairkCZNRX/jazIaX4pyEp3ieOjm6 eIi20iSg4KGvVVIKdx8XESH53QQRRZIUfdrU0= X-Google-DKIM-Signature: v=1; a=rsa-sha256; c=relaxed/relaxed; d=1e100.net; s=20230601; t=1751982284; x=1752587084; h=references:in-reply-to:cc:to:from:subject:message-id:date :x-gm-message-state:from:to:cc:subject:date:message-id:reply-to; bh=XcQuJ4uvsU2QvUmLLRKiNM8BTIb54xYY3CwsTvx0aLg=; b=IompikjYncKreeRnJQNwKbiLZLXlqRNaI5BQTYN80WgmftjILH04dj/LGrFVj9v/S8 wmzDYd9KjdoY1C/15HrGuxoDS8UllMEeeTI+HBtj0670t72Qwuz7rklWuD4RENSD5nsY kdBmfI2tMiBWFlpmUfAMu4XwmMfNlWmThjLhd1nEWZWWeO8xuvZULkK+cZxKfHv4YAIR yP6kle7ew9uMV2eve8cT7Ku87oLSRj8fU15KP5ioG74645HL763czn9WATr1oAyYf5Dg dWrusiSBVQp1E+V31f2o0dAZq7jF3/Azimd5c08t5kqHHRYzwFWNWDUH1Yj4BgG3+S7b hGWQ== X-Gm-Message-State: AOJu0YxOK7kbItP+/A07yMjosPL+5PgqjGxl0kHzHRx6r6lb0qCJ8Z5N ZrW4k3eIpQZh41/ohAWtBfeZ8jr55O/1DA7RZuELgVNstMZWtspz3WsHyLbfUalrSteAAiScjX4 ZDOEzw3YzR7j5sZcSI455LKwZxQqyLsX+nVnyadl3LGNT X-Gm-Gg: ASbGncsotFaHnttmbezRB91kaKanFs6nFicITUVNxgIw2KTdgoet/qPSV0dCj4XWgBo vMDUj73INDMwmbeUoUnlZLTETmF4R694cAolYpgraHyK1Aqn9tmEmgMW6vSF+G+vGmyF3URZd12 caqliVtLCaR5RfTwMJoCgquGQG5aPSjfQgma2G77Ar00ztUvx0u6IZPjO3uiR4EjNf4NpCrXDja VCEqOY9iawbb/VE3HtEJP9P0zQnojYCuOsl6bRfRfHOcn3kybwPRNerV1benKfcAg3HiscILW1Q plz6jUrKwW6baTHk720kmEVJQvmnD19JPnU6mOecMfhg9n9B8aE1iveHVCSzl/51d+1g4w== X-Google-Smtp-Source: AGHT+IGn6dxLYjs90qM3UJjF9PD2TbAl706Z8gy1iGjWjpWxyUqOlJZy0hxpNsKriSKWTLnjqcQwSPdMnGNH X-Received: by 2002:a17:902:e887:b0:235:dd54:bce1 with SMTP id d9443c01a7336-23dd1ccb6f9mr36352235ad.15.1751982284416; Tue, 08 Jul 2025 06:44:44 -0700 (PDT) Received: from postal.iol.unh.edu (postal.iol.unh.edu. [132.177.123.84]) by smtp-relay.gmail.com with ESMTPS id d9443c01a7336-23c842d126bsm5314505ad.47.2025.07.08.06.44.44 (version=TLS1_2 cipher=ECDHE-ECDSA-AES128-GCM-SHA256 bits=128/128); Tue, 08 Jul 2025 06:44:44 -0700 (PDT) X-Relaying-Domain: iol.unh.edu Date: Tue, 08 Jul 2025 06:44:44 -0700 (PDT) Message-ID: <686d20cc.170a0220.3b94a8.b452SMTPIN_ADDED_MISSING@mx.google.com> Received: from [172.21.0.6] (unknown [172.18.0.240]) by postal.iol.unh.edu (Postfix) with ESMTP id 942116051830; Tue, 8 Jul 2025 09:44:43 -0400 (EDT) Subject: |SUCCESS| pw155056 [PATCH] [v2] net/mlx5: fix out of order completio From: dpdklab@iol.unh.edu To: Test Report Cc: dpdk-test-reports@iol.unh.edu In-Reply-To: <20250708104641.444172-1-viacheslavo@nvidia.com> References: <20250708104641.444172-1-viacheslavo@nvidia.com> Content-Type: text/plain X-BeenThere: test-report@dpdk.org X-Mailman-Version: 2.1.29 Precedence: list List-Id: automatic DPDK test reports List-Unsubscribe: , List-Archive: List-Post: List-Help: List-Subscribe: , Errors-To: test-report-bounces@dpdk.org Test-Label: iol-abi-testing Test-Status: SUCCESS http://dpdk.org/patch/155056 _Testing PASS_ Submitter: Viacheslav Ovsiienko Date: Tuesday, July 08 2025 10:46:41 DPDK git baseline: Repo:dpdk Branch: master CommitID:e2888614268cbf0abcc7cd72ad97ff4e4901d0a5 155056 --> testing pass Upstream job id: Generic-DPDK-Compile-ABI#133486 Test environment and result as below: +-------------------------------+----------+ | Environment | abi_test | +===============================+==========+ | CentOS Stream 9 | PASS | +-------------------------------+----------+ | Debian GNU/Linux 12 | PASS | +-------------------------------+----------+ | CentOS Stream 10 | PASS | +-------------------------------+----------+ | Fedora Linux 40 | PASS | +-------------------------------+----------+ | Fedora Linux 41 | PASS | +-------------------------------+----------+ | openSUSE Leap 15.6 | PASS | +-------------------------------+----------+ | Ubuntu 22.04 | PASS | +-------------------------------+----------+ | Red Hat Enterprise Linux 9.5 | PASS | +-------------------------------+----------+ | Red Hat Enterprise Linux 8.10 | PASS | +-------------------------------+----------+ CentOS Stream 9 Kernel: 5.15 Compiler: gcc gcc (GCC) 11.5.0 20240719 (Red Hat 11.5.0-7) Debian GNU/Linux 12 Kernel: 5.15 Compiler: gcc gcc (Debian 12.2.0-14+deb12u1) 12.2.0 CentOS Stream 10 Kernel: 5.15 Compiler: gcc gcc (GCC) 14.2.1 20250110 (Red Hat 14.2.1-8) Fedora Linux 40 Kernel: 5.15 Compiler: clang gcc (GCC) 14.2.1 20240912 (Red Hat 14.2.1-3) Fedora Linux 41 Kernel: 5.15 Compiler: gcc gcc (GCC) 14.3.1 20250523 (Red Hat 14.3.1-1) openSUSE Leap 15.6 Kernel: 5.15 Compiler: gcc gcc (SUSE Linux) 7.5.0 Ubuntu 22.04 Kernel: 5.15 Compiler: gcc gcc (Ubuntu 11.4.0-1ubuntu1~22.04) 11.4.0 Red Hat Enterprise Linux 9.5 Kernel: 5.15 Compiler: gcc gcc (GCC) 11.5.0 20240719 (Red Hat 11.5.0-2) Red Hat Enterprise Linux 8.10 Kernel: 5.15 Compiler: gcc gcc (GCC) 8.5.0 20210514 (Red Hat 8.5.0-22) To view detailed results, visit: https://lab.dpdk.org/results/dashboard/patchsets/33610/ UNH-IOL DPDK Community Lab To manage your email subscriptions, visit: https://lab.dpdk.org/results/dashboard/preferences/subscriptions/