From mboxrd@z Thu Jan 1 00:00:00 1970 Return-Path: Received: from mails.dpdk.org (mails.dpdk.org [217.70.189.124]) by inbox.dpdk.org (Postfix) with ESMTP id 1D87A46B2A for ; Tue, 8 Jul 2025 16:02:44 +0200 (CEST) Received: from mails.dpdk.org (localhost [127.0.0.1]) by mails.dpdk.org (Postfix) with ESMTP id F0D1B4025E; Tue, 8 Jul 2025 16:02:43 +0200 (CEST) Received: from mail-oa1-f98.google.com (mail-oa1-f98.google.com [209.85.160.98]) by mails.dpdk.org (Postfix) with ESMTP id 5A0394025E for ; Tue, 8 Jul 2025 16:02:42 +0200 (CEST) Received: by mail-oa1-f98.google.com with SMTP id 586e51a60fabf-2ea6dd628a7so3088071fac.1 for ; Tue, 08 Jul 2025 07:02:42 -0700 (PDT) DKIM-Signature: v=1; a=rsa-sha256; c=relaxed/relaxed; d=iol.unh.edu; s=unh-iol; t=1751983361; x=1752588161; darn=dpdk.org; h=references:in-reply-to:cc:to:from:subject:message-id:date:from:to :cc:subject:date:message-id:reply-to; bh=7BqRm9sfl8hDsYEsnQMxAWHN08t5YZu9+omBCE9LZvU=; b=duTxZb1UMUS5fWonykYWGRfGIOoPjZcZR4kwrzA7fT+MX2NI2OVwxXotCYXyltq89r UDkXjcglMwSW5RdDoS9Bbxj/px0GLh5twut9kr9NtE8dvbMo5U0ER2A3TmIR3/YhDcEw y5LZLVUwi9C5z08F2pYQj/8aAwzXyc2l9uHJU= X-Google-DKIM-Signature: v=1; a=rsa-sha256; c=relaxed/relaxed; d=1e100.net; s=20230601; t=1751983361; x=1752588161; h=references:in-reply-to:cc:to:from:subject:message-id:date :x-gm-message-state:from:to:cc:subject:date:message-id:reply-to; bh=7BqRm9sfl8hDsYEsnQMxAWHN08t5YZu9+omBCE9LZvU=; b=Ce1ytW9QpkAPQeWNjfmyRUWeukGahVvEqAPhcYHxJu8nh0Q/3P1hj+APhBeyyobzs8 +sV74hbK00ixn5LZAKgOxyiAkiB55qdmDbI2gtbxghxEnqdK2AiYdHC195546OcCDJ2J euyqLIgW0Zt+1jYvgtHoK4ycD5QHOXckxeXmRV2Iy8oP5cLuiC/C/bXB7P+oILnA5iZB kLpEmYs2fOgX90OXrfaF1HcgYZCx1pVj2/huys1V9Yak6olmF+ZkRjtKHYHx8EjdqG1f mWz0nlOtZoQ6zc15H5LxlfVmdccxlbfaweTmBYygGYklabH/Q04VfWf4Y97P7hl4UeRO vKtQ== X-Gm-Message-State: AOJu0Yxbs86IBDrPIpIREld6bFzgSd0D6h4GUmmqCMLE8iJsSqzOtRr/ 8nBAzaGGpCUHEsFP0jcNWxEwhUh0ULaliM6MA+TzyckzW7FAf/UBoBtgyt9SJPqQve/lDfT1kGQ z1FSj0TBgfN+lu8AsUkJ9JgZZqDLGOR+dbqx8tbtdII7sfcNhyJLvn5IGEAUQ X-Gm-Gg: ASbGnctXnhxKN/LO8r08qNeOXgOfiMgGXNpKShNIEyV44abi+hcxd39V1qiVsHixsSg Q+A8NT23+IsZDRmvue5T8r95Cb7ht15PJAnsnS7QgrZ+xanuES9wdnvNs6kjMgHCLc7EkiFs7rA pUN/I3sO1ZDkCvkkx7fzigZ3/CzU9cw7nyOUbpwBOhT3rRDEkVvKlKABkGSymZ+gZwNf3RTvlsI vBaqsBHn34UNjfRvf9OieIPDuQT0qQ5V+IlyRWd1+LlxoiTcduSl5TAZT4sG1Ug11xvi4BRiIHb TkcCZJ/Rh/VJghCHzSr1icDT87UItZ/5Y586Us14j4Vzvlk= X-Google-Smtp-Source: AGHT+IGeQXp9P4NF2oW0iv2Zpr4YRgFUOsRQVaX0NbHvVgbj619w3uJNDmVrFAzLavQa2BqQ5H50Nw1/m/6I X-Received: by 2002:a05:6871:4198:b0:2e4:68ee:4f21 with SMTP id 586e51a60fabf-2fb6cbfe6c4mr2520951fac.20.1751983361313; Tue, 08 Jul 2025 07:02:41 -0700 (PDT) Received: from postal.iol.unh.edu (postal.iol.unh.edu. [2606:4100:3880:1234::84]) by smtp-relay.gmail.com with ESMTPS id 586e51a60fabf-2f790184619sm667116fac.39.2025.07.08.07.02.41 (version=TLS1_2 cipher=ECDHE-ECDSA-AES128-GCM-SHA256 bits=128/128); Tue, 08 Jul 2025 07:02:41 -0700 (PDT) X-Relaying-Domain: iol.unh.edu Date: Tue, 08 Jul 2025 07:02:41 -0700 (PDT) Message-ID: <686d2501.050a0220.3418ef.23dcSMTPIN_ADDED_MISSING@mx.google.com> Received: from [172.21.0.5] (unknown [172.18.0.240]) by postal.iol.unh.edu (Postfix) with ESMTP id B965A604D420; Tue, 8 Jul 2025 10:02:40 -0400 (EDT) Subject: |SUCCESS| pw155056 [PATCH] [v2] net/mlx5: fix out of order completio From: dpdklab@iol.unh.edu To: Test Report Cc: dpdk-test-reports@iol.unh.edu In-Reply-To: <20250708104641.444172-1-viacheslavo@nvidia.com> References: <20250708104641.444172-1-viacheslavo@nvidia.com> Content-Type: text/plain X-BeenThere: test-report@dpdk.org X-Mailman-Version: 2.1.29 Precedence: list List-Id: automatic DPDK test reports List-Unsubscribe: , List-Archive: List-Post: List-Help: List-Subscribe: , Errors-To: test-report-bounces@dpdk.org Test-Label: iol-unit-arm64-testing Test-Status: SUCCESS http://dpdk.org/patch/155056 _Testing PASS_ Submitter: Viacheslav Ovsiienko Date: Tuesday, July 08 2025 10:46:41 DPDK git baseline: Repo:dpdk Branch: master CommitID:e2888614268cbf0abcc7cd72ad97ff4e4901d0a5 155056 --> testing pass Upstream job id: Generic-Unit-Test-DPDK#353543 Test environment and result as below: +------------------------------+---------------------------+--------------+----------------+------------------------------+ | Environment | cryptodev_sw_zuc_autotest | lpm_autotest | dpdk_unit_test | cryptodev_sw_snow3g_autotest | +==============================+===========================+==============+================+==============================+ | Debian 12 (arm) | PASS | SKIPPED | SKIPPED | PASS | +------------------------------+---------------------------+--------------+----------------+------------------------------+ | Ubuntu 20.04 | SKIPPED | PASS | PASS | SKIPPED | +------------------------------+---------------------------+--------------+----------------+------------------------------+ | Fedora Linux 40 | SKIPPED | SKIPPED | PASS | SKIPPED | +------------------------------+---------------------------+--------------+----------------+------------------------------+ | CentOS Stream 9 | SKIPPED | SKIPPED | PASS | SKIPPED | +------------------------------+---------------------------+--------------+----------------+------------------------------+ | Debian GNU/Linux 12 | SKIPPED | SKIPPED | PASS | SKIPPED | +------------------------------+---------------------------+--------------+----------------+------------------------------+ | Fedora Linux 41 | SKIPPED | SKIPPED | PASS | SKIPPED | +------------------------------+---------------------------+--------------+----------------+------------------------------+ | CentOS Stream 10 | SKIPPED | SKIPPED | PASS | SKIPPED | +------------------------------+---------------------------+--------------+----------------+------------------------------+ | Red Hat Enterprise Linux 9.5 | SKIPPED | SKIPPED | PASS | SKIPPED | +------------------------------+---------------------------+--------------+----------------+------------------------------+ | Ubuntu 22.04 | SKIPPED | SKIPPED | PASS | SKIPPED | +------------------------------+---------------------------+--------------+----------------+------------------------------+ | Ubuntu 24.04 | SKIPPED | SKIPPED | PASS | SKIPPED | +------------------------------+---------------------------+--------------+----------------+------------------------------+ Debian 12 (arm) Kernel: Depends on container host Compiler: gcc (Debian 12.2.0-14) 12.2.0 Ubuntu 20.04 Kernel: 5.4 Compiler: gcc gcc (Ubuntu 9.4.0-1ubuntu1~20.04.2) 9.4.0 Fedora Linux 40 Kernel: 5.4 Compiler: gcc gcc (GCC) 14.2.1 20240912 (Red Hat 14.2.1-3) CentOS Stream 9 Kernel: 5.4 Compiler: gcc gcc (GCC) 11.5.0 20240719 (Red Hat 11.5.0-7) Debian GNU/Linux 12 Kernel: 5.4 Compiler: gcc gcc (Debian 12.2.0-14+deb12u1) 12.2.0 Fedora Linux 41 Kernel: 5.4 Compiler: clang gcc (GCC) 14.3.1 20250523 (Red Hat 14.3.1-1) CentOS Stream 10 Kernel: 5.4 Compiler: gcc gcc (GCC) 14.2.1 20250110 (Red Hat 14.2.1-8) Red Hat Enterprise Linux 9.5 Kernel: 5.4 Compiler: gcc gcc (GCC) 11.5.0 20240719 (Red Hat 11.5.0-2) Ubuntu 22.04 Kernel: 5.4 Compiler: gcc gcc (Ubuntu 11.4.0-1ubuntu1~22.04) 11.4.0 Ubuntu 24.04 Kernel: 5.4 Compiler: gcc gcc (Ubuntu 13.3.0-6ubuntu2~24.04) 13.3.0 To view detailed results, visit: https://lab.dpdk.org/results/dashboard/patchsets/33610/ UNH-IOL DPDK Community Lab To manage your email subscriptions, visit: https://lab.dpdk.org/results/dashboard/preferences/subscriptions/