From mboxrd@z Thu Jan 1 00:00:00 1970 Return-Path: Received: from mails.dpdk.org (mails.dpdk.org [217.70.189.124]) by inbox.dpdk.org (Postfix) with ESMTP id 43EBA46B2A for ; Tue, 8 Jul 2025 17:08:44 +0200 (CEST) Received: from mails.dpdk.org (localhost [127.0.0.1]) by mails.dpdk.org (Postfix) with ESMTP id 3D5B04025E; Tue, 8 Jul 2025 17:08:44 +0200 (CEST) Received: from mail-pg1-f225.google.com (mail-pg1-f225.google.com [209.85.215.225]) by mails.dpdk.org (Postfix) with ESMTP id 828064025E for ; Tue, 8 Jul 2025 17:08:43 +0200 (CEST) Received: by mail-pg1-f225.google.com with SMTP id 41be03b00d2f7-b31e0ead80eso3413601a12.0 for ; Tue, 08 Jul 2025 08:08:43 -0700 (PDT) DKIM-Signature: v=1; a=rsa-sha256; c=relaxed/relaxed; d=iol.unh.edu; s=unh-iol; t=1751987322; x=1752592122; darn=dpdk.org; h=references:in-reply-to:cc:to:from:subject:message-id:date:from:to :cc:subject:date:message-id:reply-to; bh=ZVCt+plZQNqTbmbvFAlEWbcSTY+gxl/m29Oggxn2t2E=; b=g7ZMrfB3IeQ2ogIa21Ti8M1eXu2IOKOrhaVcJ/YtyHkQjT/uAYBpGE8NQ5hS9cvVLy nIug2zPDhp0nPcmI4j9mfUwV1O8mgij6O67cA7MGtSFRHi2el0x/u5MQtejrgwxiHJye qNoD0i77kZerBLyp7y2tD/RiYnBmWww5BA+kM= X-Google-DKIM-Signature: v=1; a=rsa-sha256; c=relaxed/relaxed; d=1e100.net; s=20230601; t=1751987322; x=1752592122; h=references:in-reply-to:cc:to:from:subject:message-id:date :x-gm-message-state:from:to:cc:subject:date:message-id:reply-to; bh=ZVCt+plZQNqTbmbvFAlEWbcSTY+gxl/m29Oggxn2t2E=; b=AqaxSS4Ajf6h22za1/WJbvlgLwwWB8OK1l2Pv15avDNm2cnGIaF+hKef5C+y+sMCsa mKS3BKBrtln26WKFgoRHLCenFrYQd9R3zPCb1x5YUrbQ5tsT5uyDmMB085WJdYAF6o+h uGMg5QLXZbS39HdmeOTINhQi0Ib277U+YM/x8NyDj+ZXw5squhfRkRFPJpxmfFfmIXuH E9QvFbCdPQPdpLMvgkCuYyBh6NXhTzWFdf9USx97nzknAzwXb5yGC5fVDWn0eA2AwpKU MF8woonEOIdpdnzCU7VOuKVyHjjOwuDmROPAwRcvcRifX4AL16PC8P/UQZrivegUfeuU o+Cw== X-Gm-Message-State: AOJu0Yy6rFVsROfJEKSH7eXnHKy1BuLZu7oYHmHuHf6OhtEHQGk6cJ5t OXmATzPHqE/ZWlxTOqnuxo9deBcyQRRywBp58bdPGfNTcMPJdrhE4xoBOWO82GkQMGLGDDERyJp kidDWKI0qhtilLIW7L1n3N5MvhIVgeYz85sIjZLQA+3HMI3ZfaBI/fnK0mlEP X-Gm-Gg: ASbGnctHhDEKSh4VqTtop5bhT/oumqDHjDznMMponhJqAolq6+We278Q4uobJM7jkZD QZ09LGGFvFHhsxGJUxCBcJrrpvW/ZZZi6edS968ttNntmc4OXLz5N5dhw4oy3EnPZLu33u5n5kO 7M/lkY8twInA7UEDzbHoBkRvoz+4ug5ytdmHkQp+PpvcSw7EawUueu53WgFZgD2L/+XTwY/WxvW 5BYjPRnnbpwKK/S97Q7T1VX8BoajVqdh8dAAv/p/ZlAs1yUKyzajxCGeRF+EQdVYDOCOO3biigm tdMC5LVAr3bVWondZBPnMp9f8RHuR3ODY4ioCibBr61nlQE= X-Google-Smtp-Source: AGHT+IHGKDmzLC6fISCyKttf/fC4brSdn/lVKrgpFlkmmy3KzwziegvYriCf1vzinAqDgNok+DgMUV1U4cPY X-Received: by 2002:a17:90a:e706:b0:311:ad7f:3299 with SMTP id 98e67ed59e1d1-31c2df73a04mr121595a91.25.1751987322449; Tue, 08 Jul 2025 08:08:42 -0700 (PDT) Received: from postal.iol.unh.edu (postal.iol.unh.edu. [2606:4100:3880:1234::84]) by smtp-relay.gmail.com with ESMTPS id 98e67ed59e1d1-31c22062391sm80129a91.5.2025.07.08.08.08.42 (version=TLS1_2 cipher=ECDHE-ECDSA-AES128-GCM-SHA256 bits=128/128); Tue, 08 Jul 2025 08:08:42 -0700 (PDT) X-Relaying-Domain: iol.unh.edu Date: Tue, 08 Jul 2025 08:08:42 -0700 (PDT) Message-ID: <686d347a.170a0220.163520.44b5SMTPIN_ADDED_MISSING@mx.google.com> Received: from [172.21.0.7] (unknown [172.18.0.240]) by postal.iol.unh.edu (Postfix) with ESMTP id 9468F604D420; Tue, 8 Jul 2025 11:08:41 -0400 (EDT) Subject: |SUCCESS| pw155055 [PATCH] net/mlx5: fix out of order completions in From: dpdklab@iol.unh.edu To: Test Report Cc: dpdk-test-reports@iol.unh.edu In-Reply-To: <20250708095341.441890-1-viacheslavo@nvidia.com> References: <20250708095341.441890-1-viacheslavo@nvidia.com> Content-Type: text/plain X-BeenThere: test-report@dpdk.org X-Mailman-Version: 2.1.29 Precedence: list List-Id: automatic DPDK test reports List-Unsubscribe: , List-Archive: List-Post: List-Help: List-Subscribe: , Errors-To: test-report-bounces@dpdk.org Test-Label: iol-compile-arm64-testing Test-Status: SUCCESS http://dpdk.org/patch/155055 _Testing PASS_ Submitter: Viacheslav Ovsiienko Date: Tuesday, July 08 2025 09:53:41 DPDK git baseline: Repo:dpdk Branch: master CommitID:e2888614268cbf0abcc7cd72ad97ff4e4901d0a5 155055 --> testing pass Upstream job id: Generic-DPDK-Compile-Meson#406480 Test environment and result as below: +------------------------------+--------------------+ | Environment | dpdk_meson_compile | +==============================+====================+ | Red Hat Enterprise Linux 9.5 | PASS | +------------------------------+--------------------+ | Ubuntu 20.04 | PASS | +------------------------------+--------------------+ | Fedora Linux 40 | PASS | +------------------------------+--------------------+ | Debian GNU/Linux 12 | PASS | +------------------------------+--------------------+ | Fedora Linux 41 | PASS | +------------------------------+--------------------+ | Ubuntu 22.04 | PASS | +------------------------------+--------------------+ | CentOS Stream 10 | PASS | +------------------------------+--------------------+ | Ubuntu 24.04 | PASS | +------------------------------+--------------------+ | CentOS Stream 9 | PASS | +------------------------------+--------------------+ Red Hat Enterprise Linux 9.5 Kernel: 5.4 Compiler: gcc gcc (GCC) 11.5.0 20240719 (Red Hat 11.5.0-2) Ubuntu 20.04 Kernel: 5.15 Compiler: aarch64-linux-gnu-gcc gcc (Ubuntu 9.4.0-1ubuntu1~20.04.2) 9.4.0 Fedora Linux 40 Kernel: 5.4 Compiler: gcc gcc (GCC) 14.2.1 20240912 (Red Hat 14.2.1-3) Debian GNU/Linux 12 Kernel: 5.4 Compiler: gcc gcc (Debian 12.2.0-14+deb12u1) 12.2.0 Fedora Linux 41 Kernel: 5.4 Compiler: gcc gcc (GCC) 14.3.1 20250523 (Red Hat 14.3.1-1) Ubuntu 22.04 Kernel: 5.4 Compiler: gcc gcc (Ubuntu 11.4.0-1ubuntu1~22.04) 11.4.0 CentOS Stream 10 Kernel: 5.4 Compiler: gcc gcc (GCC) 14.2.1 20250110 (Red Hat 14.2.1-8) Ubuntu 24.04 Kernel: 5.4 Compiler: gcc gcc (Ubuntu 13.3.0-6ubuntu2~24.04) 13.3.0 CentOS Stream 9 Kernel: 5.4 Compiler: gcc gcc (GCC) 11.5.0 20240719 (Red Hat 11.5.0-7) To view detailed results, visit: https://lab.dpdk.org/results/dashboard/patchsets/33609/ UNH-IOL DPDK Community Lab To manage your email subscriptions, visit: https://lab.dpdk.org/results/dashboard/preferences/subscriptions/