From mboxrd@z Thu Jan 1 00:00:00 1970 Return-Path: Received: from mails.dpdk.org (mails.dpdk.org [217.70.189.124]) by inbox.dpdk.org (Postfix) with ESMTP id 02F1046B2A for ; Tue, 8 Jul 2025 17:18:21 +0200 (CEST) Received: from mails.dpdk.org (localhost [127.0.0.1]) by mails.dpdk.org (Postfix) with ESMTP id DD21B4025E; Tue, 8 Jul 2025 17:18:21 +0200 (CEST) Received: from mail-oi1-f225.google.com (mail-oi1-f225.google.com [209.85.167.225]) by mails.dpdk.org (Postfix) with ESMTP id E93134025E for ; Tue, 8 Jul 2025 17:18:19 +0200 (CEST) Received: by mail-oi1-f225.google.com with SMTP id 5614622812f47-40a4bf1ebb7so2523677b6e.0 for ; Tue, 08 Jul 2025 08:18:19 -0700 (PDT) DKIM-Signature: v=1; a=rsa-sha256; c=relaxed/relaxed; d=iol.unh.edu; s=unh-iol; t=1751987899; x=1752592699; darn=dpdk.org; h=references:in-reply-to:cc:to:from:subject:message-id:date:from:to :cc:subject:date:message-id:reply-to; bh=oaViFvX4GFI1c/aG9F5MgITp8VmtZUGCzwU17pF9BgI=; b=YcxlKUWAdPc5D9LOCkamBLdppNfP7q8Vyhuyu8uslKYvXGgPnc/fTvJyniy/0JyNIp +VQNKcRuFYsIwPepuoWTJjy+TJ+esWlqOM0PjePassCLrsieRx5+3Yp2bdDYr++8rDcw JD8Z6fhCLc34lseghAea2kEDCZlMriqbKJV2c= X-Google-DKIM-Signature: v=1; a=rsa-sha256; c=relaxed/relaxed; d=1e100.net; s=20230601; t=1751987899; x=1752592699; h=references:in-reply-to:cc:to:from:subject:message-id:date :x-gm-message-state:from:to:cc:subject:date:message-id:reply-to; bh=oaViFvX4GFI1c/aG9F5MgITp8VmtZUGCzwU17pF9BgI=; b=UgIwIyI8fC5SmMktbc1/2i/x8LYzeFCzqXqVVwoC4O+Ep629aF77eTg68PFx+FO2rL tjNHVvJEOVzwFcy9ZzJ+swjRTG6LtcjPtDHKNTEO66p9jgRUs+Zic47zU5aIiXNzd3uW L3tHbpmw8vtrJwtWRvvi86ptVnSSY6AnhCnJngwF/upPdR+9BP8drX0LMa7jRggC8OyJ vR03ePoQ9XXyox3vYKytdn1L0ejACwQ4G2y+g3TqdhXgdLtXcx1kIZ/dqI+0VTawu1r+ n8PTjbJa+Pv1Zc1FOsWx8Vy6LRQfRU43YJBLee2wC3nrrHLKb3JH+bOZDOCSPRB/yrkm vyyQ== X-Gm-Message-State: AOJu0YxEynSA0WwDyJI4IGfg/XcfOTa1iZmflbQtFt4nmxlnTmm/iA4x UumtqnMDaJCSWyZJRO54sGHO9Eje6NH26rXxyV/pRJ9Btj7wDxj+d/0EyfPubhfKH0DiJmPGIAz xj5baStDfOGbRTnnsLAwWKs4/uEQiM3htPYv8u+WcHlQigbjJOdbEp5JLJGpe X-Gm-Gg: ASbGncuqKIngJxC7vwtiP+bWBTmGxkl+4/SLPQMumy6Jdq6uS//sg6evLDllFTP1a4z Vx+tgeh8QfkX+gxmV+O8IpxSYDc3ACitmWn5r6yBI2NHlHrLM7Lbnu4Rmr/YUJpYFVaLlRMZ29b FB3EPWBqoOH+lUHj96+RHB+aqKAGd2mH7v8fDwiATeR5Klsl4SY4CnQdHoa5cPCSNKdbD5E46H1 TLYshl9JoUl7MIpFOtUqCERaeAN1CJVPv1zzMrj0j+hbA3JlirpCYeXYa+yPk7lfopn+98hxDMp V0ykHWkbYBkH9eWxO5UWlqi2/V+KbCl5bd+5hsIHlmrJlxA= X-Google-Smtp-Source: AGHT+IEGwy6ihUNYtSdbSPNoRFeb5T78XpldoWKFlWBA6gOaoPLIz9/IiRyTY1UTd76N8tExcc17CXNjmV1M X-Received: by 2002:a05:6808:10c6:b0:409:f8e:72a8 with SMTP id 5614622812f47-40d073cceeemr12780672b6e.23.1751987899200; Tue, 08 Jul 2025 08:18:19 -0700 (PDT) Received: from postal.iol.unh.edu (postal.iol.unh.edu. [2606:4100:3880:1234::84]) by smtp-relay.gmail.com with ESMTPS id 586e51a60fabf-2f78fe587c1sm649247fac.15.2025.07.08.08.18.19 (version=TLS1_2 cipher=ECDHE-ECDSA-AES128-GCM-SHA256 bits=128/128); Tue, 08 Jul 2025 08:18:19 -0700 (PDT) X-Relaying-Domain: iol.unh.edu Date: Tue, 08 Jul 2025 08:18:19 -0700 (PDT) Message-ID: <686d36bb.050a0220.2010e6.16efSMTPIN_ADDED_MISSING@mx.google.com> Received: from [172.21.0.5] (unknown [172.18.0.240]) by postal.iol.unh.edu (Postfix) with ESMTP id AC19D6051830; Tue, 8 Jul 2025 11:18:18 -0400 (EDT) Subject: |SUCCESS| pw155058-155075 [PATCH] [v3,18/18] ci: extend coverage wit From: dpdklab@iol.unh.edu To: Test Report Cc: dpdk-test-reports@iol.unh.edu In-Reply-To: <20250708122823.3406288-19-david.marchand@redhat.com> References: <20250708122823.3406288-19-david.marchand@redhat.com> Content-Type: text/plain X-BeenThere: test-report@dpdk.org X-Mailman-Version: 2.1.29 Precedence: list List-Id: automatic DPDK test reports List-Unsubscribe: , List-Archive: List-Post: List-Help: List-Subscribe: , Errors-To: test-report-bounces@dpdk.org Test-Label: iol-abi-testing Test-Status: SUCCESS http://dpdk.org/patch/155075 _Testing PASS_ Submitter: David Marchand Date: Tuesday, July 08 2025 12:28:22 DPDK git baseline: Repo:dpdk Branch: master CommitID:a0000859ffbaaaf90bbb9c0f2f5bb7a3d4f5bc9f 155058-155075 --> testing pass Upstream job id: Generic-DPDK-Compile-ABI#133503 Test environment and result as below: +-------------------------------+----------+ | Environment | abi_test | +===============================+==========+ | CentOS Stream 9 | PASS | +-------------------------------+----------+ | CentOS Stream 10 | PASS | +-------------------------------+----------+ | Debian GNU/Linux 12 | PASS | +-------------------------------+----------+ | Fedora Linux 40 | PASS | +-------------------------------+----------+ | Fedora Linux 41 | PASS | +-------------------------------+----------+ | Red Hat Enterprise Linux 8.10 | PASS | +-------------------------------+----------+ | openSUSE Leap 15.6 | PASS | +-------------------------------+----------+ | Red Hat Enterprise Linux 9.5 | PASS | +-------------------------------+----------+ | Ubuntu 22.04 | PASS | +-------------------------------+----------+ | Ubuntu 24.04 | PASS | +-------------------------------+----------+ CentOS Stream 9 Kernel: 5.15 Compiler: gcc gcc (GCC) 11.5.0 20240719 (Red Hat 11.5.0-7) CentOS Stream 10 Kernel: 5.15 Compiler: gcc gcc (GCC) 14.2.1 20250110 (Red Hat 14.2.1-8) Debian GNU/Linux 12 Kernel: 5.15 Compiler: gcc gcc (Debian 12.2.0-14+deb12u1) 12.2.0 Fedora Linux 40 Kernel: 5.15 Compiler: clang gcc (GCC) 14.2.1 20240912 (Red Hat 14.2.1-3) Fedora Linux 41 Kernel: 5.15 Compiler: clang gcc (GCC) 14.3.1 20250523 (Red Hat 14.3.1-1) Red Hat Enterprise Linux 8.10 Kernel: 5.15 Compiler: gcc gcc (GCC) 8.5.0 20210514 (Red Hat 8.5.0-22) openSUSE Leap 15.6 Kernel: 5.15 Compiler: gcc gcc (SUSE Linux) 7.5.0 Red Hat Enterprise Linux 9.5 Kernel: 5.15 Compiler: gcc gcc (GCC) 11.5.0 20240719 (Red Hat 11.5.0-2) Ubuntu 22.04 Kernel: 5.15 Compiler: gcc gcc (Ubuntu 11.4.0-1ubuntu1~22.04) 11.4.0 Ubuntu 24.04 Kernel: 5.15 Compiler: gcc gcc (Ubuntu 13.3.0-6ubuntu2~24.04) 13.3.0 To view detailed results, visit: https://lab.dpdk.org/results/dashboard/patchsets/33612/ UNH-IOL DPDK Community Lab To manage your email subscriptions, visit: https://lab.dpdk.org/results/dashboard/preferences/subscriptions/