From mboxrd@z Thu Jan 1 00:00:00 1970 Return-Path: Received: from mails.dpdk.org (mails.dpdk.org [217.70.189.124]) by inbox.dpdk.org (Postfix) with ESMTP id 33B9946B2A for ; Tue, 8 Jul 2025 17:20:22 +0200 (CEST) Received: from mails.dpdk.org (localhost [127.0.0.1]) by mails.dpdk.org (Postfix) with ESMTP id 2C62E4025E; Tue, 8 Jul 2025 17:20:22 +0200 (CEST) Received: from mail-oi1-f227.google.com (mail-oi1-f227.google.com [209.85.167.227]) by mails.dpdk.org (Postfix) with ESMTP id 146674025E for ; Tue, 8 Jul 2025 17:20:21 +0200 (CEST) Received: by mail-oi1-f227.google.com with SMTP id 5614622812f47-40abe6f8f08so3744294b6e.0 for ; Tue, 08 Jul 2025 08:20:21 -0700 (PDT) DKIM-Signature: v=1; a=rsa-sha256; c=relaxed/relaxed; d=iol.unh.edu; s=unh-iol; t=1751988020; x=1752592820; darn=dpdk.org; h=references:in-reply-to:cc:to:from:subject:message-id:date:from:to :cc:subject:date:message-id:reply-to; bh=pkSWN2VVzgR+xTAtfsvmpvzxk38mWg9UQ0n6IC611yA=; b=hzTvmCvKvIB1pGJzoJpbWYuDreDPHWKY/7ErUhUa8WbrqiVdALGYDR1UEU9DevEOTW 78H67FbS/Es9HpevF8oqtmo/1Q0/XMfbApRkiu1/RCnRFSiS3HDz5C00wpc9C9GMKaoM F0085InmgNJms3j8n56ovtt2N1QwUtvXr4cqk= X-Google-DKIM-Signature: v=1; a=rsa-sha256; c=relaxed/relaxed; d=1e100.net; s=20230601; t=1751988020; x=1752592820; h=references:in-reply-to:cc:to:from:subject:message-id:date :x-gm-message-state:from:to:cc:subject:date:message-id:reply-to; bh=pkSWN2VVzgR+xTAtfsvmpvzxk38mWg9UQ0n6IC611yA=; b=g5oUFmKv2qYuB9fpQSkUlwE1NLio+1Sm7YiNNtGICJnx0H663ytCZMumUw4OymA2cX jjkKhVT1HZNDoMaD7rlq3tdSXpk3q1/6alqKFEoedP24UydA4LoCXpCLq0Ph3tqih7Jc Eg4iqE5THduPmL5kWEkWX6OMbWBCZ458xIXfIcM6fyqfJetXbWKwMQ/vexwtzQG7cSAQ WEvde8ZxS7zT7ROhRtFOPQD2MJWz8mRsamupyykehHcuR+4gYfbvZtKxfLSHoJ7soqRy kkYvd7UM+VHnHJEI13fa7R0f2FWCJK5dXgpz3tjw9yuVKFG12RbLWViIqV7Jj5/Q4MBO A5nw== X-Gm-Message-State: AOJu0YxIcsCi9c/DzQ18NaAkH1Sk17zi9e0KwaBz0NboTZO2zoa58e1F fYmCqiNdO9RPxtpqBih0p6eCiUWfOFnb207sxOAFSLFngTVPbmExPnwYF8ksk+paRTnIYhV69tP 9ZQ6ahl9HzkivKgtRCppLU29mRons0tDawl8a2zZe1/GE X-Gm-Gg: ASbGncu/rd/INCG2CEnPZz6JDuU3jmTVKk1cYpNrbfUAFDsm04ae7fNlGIIYo5RnXEJ byM/c2t3hsli92WiWSdvgUJJFITJOEFxyf1frNLPYICNgapipkalhgOq0oDeZ5fCxG3hExJVyuP +1xv2OzSoIhBKjyZzUXXFZdDHl43u03fcfeyya8l1s4LRr3v7ORtkeKtT+jKRW30RH/F7Lhuyff 9dB4YAzDwmh3JvygFpyTR/2Lli6BreqFFT2L5FaS8adwoBOHrMD+ItU/O5a2uqU9gtLImDYAMJ0 oEqVCpj9N84NPfmxnxwViWqSbCaEyqDp2KB7FayQxxGk/MqZd5X8rsyWujvGMayOnkLV8g== X-Google-Smtp-Source: AGHT+IELUthM5YE3ePTWUhCky/1N6sCwfHJLaQnndhIzZPapSprbGUGzI4CyRWGKFgVJNHC/1aPVEVaGG9rA X-Received: by 2002:a05:6808:1b1e:b0:40c:7996:73e3 with SMTP id 5614622812f47-40d073e02d1mr12178523b6e.28.1751988020322; Tue, 08 Jul 2025 08:20:20 -0700 (PDT) Received: from postal.iol.unh.edu (postal.iol.unh.edu. [132.177.123.84]) by smtp-relay.gmail.com with ESMTPS id a1e0cc1a2514c-886e939e6a1sm73404241.17.2025.07.08.08.20.20 (version=TLS1_2 cipher=ECDHE-ECDSA-AES128-GCM-SHA256 bits=128/128); Tue, 08 Jul 2025 08:20:20 -0700 (PDT) X-Relaying-Domain: iol.unh.edu Date: Tue, 08 Jul 2025 08:20:20 -0700 (PDT) Message-ID: <686d3734.050a0220.3a5db5.3973SMTPIN_ADDED_MISSING@mx.google.com> Received: from [172.21.0.5] (unknown [172.18.0.240]) by postal.iol.unh.edu (Postfix) with ESMTP id E79E46051830; Tue, 8 Jul 2025 11:20:19 -0400 (EDT) Subject: |SUCCESS| pw155058-155075 [PATCH] [v3,18/18] ci: extend coverage wit From: dpdklab@iol.unh.edu To: Test Report Cc: dpdk-test-reports@iol.unh.edu In-Reply-To: <20250708122823.3406288-19-david.marchand@redhat.com> References: <20250708122823.3406288-19-david.marchand@redhat.com> Content-Type: text/plain X-BeenThere: test-report@dpdk.org X-Mailman-Version: 2.1.29 Precedence: list List-Id: automatic DPDK test reports List-Unsubscribe: , List-Archive: List-Post: List-Help: List-Subscribe: , Errors-To: test-report-bounces@dpdk.org Test-Label: iol-unit-amd64-testing Test-Status: SUCCESS http://dpdk.org/patch/155075 _Testing PASS_ Submitter: David Marchand Date: Tuesday, July 08 2025 12:28:22 DPDK git baseline: Repo:dpdk Branch: master CommitID:a0000859ffbaaaf90bbb9c0f2f5bb7a3d4f5bc9f 155058-155075 --> testing pass Upstream job id: Generic-Unit-Test-DPDK#353581 Test environment and result as below: +-------------------------------+----------------+ | Environment | dpdk_unit_test | +===============================+================+ | CentOS Stream 9 | PASS | +-------------------------------+----------------+ | CentOS Stream 10 | PASS | +-------------------------------+----------------+ | Debian GNU/Linux 12 | PASS | +-------------------------------+----------------+ | Fedora Linux 41 | PASS | +-------------------------------+----------------+ | Fedora Linux 40 | PASS | +-------------------------------+----------------+ | Red Hat Enterprise Linux 8.10 | PASS | +-------------------------------+----------------+ | Ubuntu 20.04 | PASS | +-------------------------------+----------------+ | Ubuntu 24.04 | PASS | +-------------------------------+----------------+ | Ubuntu 22.04 | PASS | +-------------------------------+----------------+ | Red Hat Enterprise Linux 9.5 | PASS | +-------------------------------+----------------+ CentOS Stream 9 Kernel: 5.15 Compiler: gcc gcc (GCC) 11.5.0 20240719 (Red Hat 11.5.0-7) CentOS Stream 10 Kernel: 5.15 Compiler: gcc gcc (GCC) 14.2.1 20250110 (Red Hat 14.2.1-8) Debian GNU/Linux 12 Kernel: 5.15 Compiler: gcc gcc (Debian 12.2.0-14+deb12u1) 12.2.0 Fedora Linux 41 Kernel: 5.15 Compiler: gcc gcc (GCC) 14.3.1 20250523 (Red Hat 14.3.1-1) Fedora Linux 40 Kernel: 5.15 Compiler: clang gcc (GCC) 14.2.1 20240912 (Red Hat 14.2.1-3) Red Hat Enterprise Linux 8.10 Kernel: 5.15 Compiler: gcc gcc (GCC) 8.5.0 20210514 (Red Hat 8.5.0-22) Ubuntu 20.04 Kernel: 5.15 Compiler: gcc gcc (Ubuntu 9.4.0-1ubuntu1~20.04.2) 9.4.0 Ubuntu 24.04 Kernel: 5.15 Compiler: gcc gcc (Ubuntu 13.3.0-6ubuntu2~24.04) 13.3.0 Ubuntu 22.04 Kernel: 5.15 Compiler: gcc gcc (Ubuntu 11.4.0-1ubuntu1~22.04) 11.4.0 Red Hat Enterprise Linux 9.5 Kernel: 5.15 Compiler: gcc gcc (GCC) 11.5.0 20240719 (Red Hat 11.5.0-2) To view detailed results, visit: https://lab.dpdk.org/results/dashboard/patchsets/33612/ UNH-IOL DPDK Community Lab To manage your email subscriptions, visit: https://lab.dpdk.org/results/dashboard/preferences/subscriptions/