From mboxrd@z Thu Jan 1 00:00:00 1970 Return-Path: Received: from mails.dpdk.org (mails.dpdk.org [217.70.189.124]) by inbox.dpdk.org (Postfix) with ESMTP id 3646746B2A for ; Tue, 8 Jul 2025 17:31:28 +0200 (CEST) Received: from mails.dpdk.org (localhost [127.0.0.1]) by mails.dpdk.org (Postfix) with ESMTP id 223B04025E; Tue, 8 Jul 2025 17:31:28 +0200 (CEST) Received: from mail-il1-f225.google.com (mail-il1-f225.google.com [209.85.166.225]) by mails.dpdk.org (Postfix) with ESMTP id 626794025E for ; Tue, 8 Jul 2025 17:31:27 +0200 (CEST) Received: by mail-il1-f225.google.com with SMTP id e9e14a558f8ab-3df2f937370so16424015ab.3 for ; Tue, 08 Jul 2025 08:31:27 -0700 (PDT) DKIM-Signature: v=1; a=rsa-sha256; c=relaxed/relaxed; d=iol.unh.edu; s=unh-iol; t=1751988686; x=1752593486; darn=dpdk.org; h=references:in-reply-to:cc:to:from:subject:message-id:date:from:to :cc:subject:date:message-id:reply-to; bh=Ea00JtmUb8bwtHy0uMaBgZ59ufZRDgWCbb4pSwKT0ro=; b=Ti2BCOeGTEz3L0lYMNIVBls5LBogllxapoJgfCfi6Qf8TztW8m5/k/lxxzxSu/zg+N ZnJMgrIcyTXGOcUpTdMb6EAMKpqEcRgl2Sf7Ee89Ier5doOdJJKS44tG6Y5qR1ouwgt2 wmsbfQj1Pim/XP/xBBirHQoGJwYVSJSB38vlI= X-Google-DKIM-Signature: v=1; a=rsa-sha256; c=relaxed/relaxed; d=1e100.net; s=20230601; t=1751988686; x=1752593486; h=references:in-reply-to:cc:to:from:subject:message-id:date :x-gm-message-state:from:to:cc:subject:date:message-id:reply-to; bh=Ea00JtmUb8bwtHy0uMaBgZ59ufZRDgWCbb4pSwKT0ro=; b=DlB+1ey+sOeE59JJu+D/J43ps+8rfwJ3ca1JKDcyhSZ/VFk0W+5yJ0J4UwGcz2wIKX j+9yloAZ9vaMFrDWZFfMBKAMaofjl3vKQLt1ZhlxDl6vQk7/XRlzJ6HxQEzP1x+ANqqv 6FTrKoFHFOhD4SnUywERxYxp5xrhn9s3k8n4S/dpVoo8KYNYWgk+Y2PaTEndVFPsqT/T tKN9J9vY2bhqEn4I3L8FiNrkfb1CJVjCIdZGEC/P+akB8fuLjE2PfwDiqImRAQ3wx8cV LHm1qOD6QcBA9ZoobLmmecQRp13ooZhXQU7omAxnJgRw2cdmHnT2v7LqMz2gkAuCnzRH NNRg== X-Gm-Message-State: AOJu0YxZCNhjQjzdPmpoAsT9ceXjc8BG6dyc1aWclFGFckcbT4Y+YCPZ M5HHEWKj3qEtKRVwRfd7YR2aerfZ1mPUE88D/VY58IjJV8vV7oxIMBipidBn082Hcx224YcDd4w NAUUrr5hEprNbYJYuMSXdM51OqSYkXb+IOVKRouJj3fa9 X-Gm-Gg: ASbGncvPcN+aeI2prHDs0aWmAB/zrb7xt4qGgFBwt5Q5+4RiCQm1aDN2sykd1TI4BdT sooyJhEE4XUuM1IezKh5OkF63va4/F41haIMYNBEUBUIa6bUcJcQJB6Ub8LhWoA6pwbkSTaW9Rk m6gbC7u7aLFw85CJUtWLIYJxhZnbthrr2Qqnii24XU9XGznXTo6SAAGSMBHhhRaX4LZGJKfYBo+ vc9CdKynOuVAO5OJcRO4zzEZS70939c0LzHLmzR/TvDT1iXEnXGDI69yhRV8j5HiDKNA4J6wSjm 8bewLuJ1mZzychtRyhFCIgh8RDvkizoxqMa8jki7uLmoGwpb2xMa4R3sX7yGC/vQdlJllA== X-Google-Smtp-Source: AGHT+IGBSOfktse217VITqQk0AgQ8ZxFiZ9lxSmBCL0XraADtAdKjNuU2uBozIQV03NYpr18Lfvfxt2M12Kz X-Received: by 2002:a05:6e02:3713:b0:3dc:7f3b:aca9 with SMTP id e9e14a558f8ab-3e154e3cb23mr38709125ab.14.1751988686605; Tue, 08 Jul 2025 08:31:26 -0700 (PDT) Received: from postal.iol.unh.edu (postal.iol.unh.edu. [132.177.123.84]) by smtp-relay.gmail.com with ESMTPS id e9e14a558f8ab-3e0f9c5a3aesm6691415ab.46.2025.07.08.08.31.26 (version=TLS1_2 cipher=ECDHE-ECDSA-AES128-GCM-SHA256 bits=128/128); Tue, 08 Jul 2025 08:31:26 -0700 (PDT) X-Relaying-Domain: iol.unh.edu Date: Tue, 08 Jul 2025 08:31:26 -0700 (PDT) Message-ID: <686d39ce.050a0220.c17e3.4903SMTPIN_ADDED_MISSING@mx.google.com> Received: from [172.21.0.5] (unknown [172.18.0.240]) by postal.iol.unh.edu (Postfix) with ESMTP id 1CBF36050A61; Tue, 8 Jul 2025 11:31:26 -0400 (EDT) Subject: |SUCCESS| pw155056 [PATCH] [v2] net/mlx5: fix out of order completio From: dpdklab@iol.unh.edu To: Test Report Cc: dpdk-test-reports@iol.unh.edu In-Reply-To: <20250708104641.444172-1-viacheslavo@nvidia.com> References: <20250708104641.444172-1-viacheslavo@nvidia.com> Content-Type: text/plain X-BeenThere: test-report@dpdk.org X-Mailman-Version: 2.1.29 Precedence: list List-Id: automatic DPDK test reports List-Unsubscribe: , List-Archive: List-Post: List-Help: List-Subscribe: , Errors-To: test-report-bounces@dpdk.org Test-Label: iol-unit-amd64-testing Test-Status: SUCCESS http://dpdk.org/patch/155056 _Testing PASS_ Submitter: Viacheslav Ovsiienko Date: Tuesday, July 08 2025 10:46:41 DPDK git baseline: Repo:dpdk Branch: master CommitID:e2888614268cbf0abcc7cd72ad97ff4e4901d0a5 155056 --> testing pass Upstream job id: Generic-VM-Unit-Test-DPDK#29796 Test environment and result as below: +-------------------------------+----------------+ | Environment | dpdk_unit_test | +===============================+================+ | CentOS Stream 9 | PASS | +-------------------------------+----------------+ | Fedora Linux 40 | PASS | +-------------------------------+----------------+ | Debian GNU/Linux 12 | PASS | +-------------------------------+----------------+ | Fedora Linux 41 | PASS | +-------------------------------+----------------+ | CentOS Stream 10 | PASS | +-------------------------------+----------------+ | Ubuntu 20.04 | PASS | +-------------------------------+----------------+ | Red Hat Enterprise Linux 8.10 | PASS | +-------------------------------+----------------+ | Red Hat Enterprise Linux 9.5 | PASS | +-------------------------------+----------------+ | Ubuntu 22.04 | PASS | +-------------------------------+----------------+ | Ubuntu 24.04 | PASS | +-------------------------------+----------------+ | Windows Server 2022 | PASS | +-------------------------------+----------------+ CentOS Stream 9 Kernel: 5.15 Compiler: gcc gcc (GCC) 11.5.0 20240719 (Red Hat 11.5.0-7) Fedora Linux 40 Kernel: 5.15 Compiler: gcc gcc (GCC) 14.2.1 20240912 (Red Hat 14.2.1-3) Debian GNU/Linux 12 Kernel: 5.15 Compiler: gcc gcc (Debian 12.2.0-14+deb12u1) 12.2.0 Fedora Linux 41 Kernel: 5.15 Compiler: gcc gcc (GCC) 14.3.1 20250523 (Red Hat 14.3.1-1) CentOS Stream 10 Kernel: 5.15 Compiler: gcc gcc (GCC) 14.2.1 20250110 (Red Hat 14.2.1-8) Ubuntu 20.04 Kernel: 5.15 Compiler: gcc gcc (Ubuntu 9.4.0-1ubuntu1~20.04.2) 9.4.0 Red Hat Enterprise Linux 8.10 Kernel: 5.15 Compiler: gcc gcc (GCC) 8.5.0 20210514 (Red Hat 8.5.0-22) Red Hat Enterprise Linux 9.5 Kernel: 5.15 Compiler: gcc gcc (GCC) 11.5.0 20240719 (Red Hat 11.5.0-2) Ubuntu 22.04 Kernel: 5.15 Compiler: gcc gcc (Ubuntu 11.4.0-1ubuntu1~22.04) 11.4.0 Ubuntu 24.04 Kernel: 5.15 Compiler: gcc gcc (Ubuntu 13.3.0-6ubuntu2~24.04) 13.3.0 Windows Server 2022 Kernel: 10.0.20348.2031 Compiler: clang 15.0.7, gcc 14.1.0 (MinGW), and MSVC VS 19.39.33521 To view detailed results, visit: https://lab.dpdk.org/results/dashboard/patchsets/33610/ UNH-IOL DPDK Community Lab To manage your email subscriptions, visit: https://lab.dpdk.org/results/dashboard/preferences/subscriptions/