From mboxrd@z Thu Jan 1 00:00:00 1970 Return-Path: Received: from mails.dpdk.org (mails.dpdk.org [217.70.189.124]) by inbox.dpdk.org (Postfix) with ESMTP id ACB8D46B2A for ; Tue, 8 Jul 2025 17:36:16 +0200 (CEST) Received: from mails.dpdk.org (localhost [127.0.0.1]) by mails.dpdk.org (Postfix) with ESMTP id 8D2754025E; Tue, 8 Jul 2025 17:36:16 +0200 (CEST) Received: from mail-oa1-f97.google.com (mail-oa1-f97.google.com [209.85.160.97]) by mails.dpdk.org (Postfix) with ESMTP id 737AB4025E for ; Tue, 8 Jul 2025 17:36:15 +0200 (CEST) Received: by mail-oa1-f97.google.com with SMTP id 586e51a60fabf-2e9a38d2a3aso4406140fac.3 for ; Tue, 08 Jul 2025 08:36:15 -0700 (PDT) DKIM-Signature: v=1; a=rsa-sha256; c=relaxed/relaxed; d=iol.unh.edu; s=unh-iol; t=1751988974; x=1752593774; darn=dpdk.org; h=references:in-reply-to:cc:to:from:subject:message-id:date:from:to :cc:subject:date:message-id:reply-to; bh=lt35v14FsQVydos7xZFeQNANE/E91BetYQS5/LrnSXM=; b=IoQ2CYVTt5GaA8CXmjYEr4ll9A+g3GT1NIJYuM4kWrc7neAqYJ0txDJsJa8gbJYgbz 3Fl39Puo35qMRY4oOZpG5Jp3qwpNEo0ld8TYw+WINSkJyZuK661WOQJ3s3p4UYGHQ0TK Nf9OEuatyGT9YJwNxUmyveHHAaYwqV87JD7No= X-Google-DKIM-Signature: v=1; a=rsa-sha256; c=relaxed/relaxed; d=1e100.net; s=20230601; t=1751988974; x=1752593774; h=references:in-reply-to:cc:to:from:subject:message-id:date :x-gm-message-state:from:to:cc:subject:date:message-id:reply-to; bh=lt35v14FsQVydos7xZFeQNANE/E91BetYQS5/LrnSXM=; b=LWpDQgUtroIzYz/b2Jipff7z4ghhUwF/EuGBxQt7VD8ljULin5z0mzWuh2QeL0G+9G Mp+DEUPcH7HEVp9ycLbaHZtw7n7Q3ryGwVuTURfBCVfBJpXsYx+z7jHcGxwoqdqjqFhn RJEzQZmjFVc/CyfHU3JFUxuh4CgFXqqZOXz0owj9ID1WTClJYb/7+ET80gH3utTldMIl fg895cbFX2bmAwVhWCrlGyHm+lErc9eeteLwcRBNOMoGYeUy3YtQw7xzpXfzDbOND6lj k+43rNrW1BP7DO1gB0/kdNQvrVaMumNW0Jn7fzdr5RC86M1e3FmQVhc6O71meOWolx3f Xg3Q== X-Gm-Message-State: AOJu0YwOF2cNdXf/zdDfjencdsmsTU+wJkJSJ9wqrF1qje8P684KPWCR jqV7oxIZvZG/Q4T0+iVesQQWBWAQBlOubQVtXDPl/nvLCDa2z1BNebc855UPB/y/WR6OU69DLD8 yNgAzMMlFhhGE6b+HSGKOvRd5ErBDLQAFsTFejh+TO81e X-Gm-Gg: ASbGncvO1GRdmf2Es2+R+Lqc2ojUwkWdleY5+p+N7JjyPRnjUIlFL+4nYxBJd9elJPy Wjfu4K5QEcIN2PTJ5ZGU8qR2u//HxJIEfaxH+cbm552FJTzJymPZxNDw5dWr8KSCdbKB9QoWdio I7rTy2M5yASGIPeILvZeRCZer8OnhKeqTmJ5V/JzEl8xUGtzOXtAa3cuktvYpb+wbQmgf86GhKB XxTb4LWCINr9/uPyzOkaohsXW1zkrDpYx8NEGjn4KKozwL3JALPeZiFgA0zNFAQ2YsdKDGW8/8c ir/LFFi7Re/j4zZr8lzn3Hht3o2+qu/yzquMzjXktKMX0xewJos/65ixmCaCoA3TvwZv5w== X-Google-Smtp-Source: AGHT+IGG4cF1FxHMemZeXofe12Z74upD+x+F0NYJ9ILhe5H6Tzj0OmXZd6KAh+zikruDfaxAWv6q/gPeEUti X-Received: by 2002:a05:6870:972b:b0:2cc:3e39:7352 with SMTP id 586e51a60fabf-2f796c7ac1dmr12500064fac.18.1751988974582; Tue, 08 Jul 2025 08:36:14 -0700 (PDT) Received: from postal.iol.unh.edu (postal.iol.unh.edu. [132.177.123.84]) by smtp-relay.gmail.com with ESMTPS id 586e51a60fabf-2f78feafa26sm649186fac.18.2025.07.08.08.36.14 (version=TLS1_2 cipher=ECDHE-ECDSA-AES128-GCM-SHA256 bits=128/128); Tue, 08 Jul 2025 08:36:14 -0700 (PDT) X-Relaying-Domain: iol.unh.edu Date: Tue, 08 Jul 2025 08:36:14 -0700 (PDT) Message-ID: <686d3aee.050a0220.d4aa3.19b8SMTPIN_ADDED_MISSING@mx.google.com> Received: from [172.21.0.8] (unknown [172.18.0.240]) by postal.iol.unh.edu (Postfix) with ESMTP id 0A91360003E7; Tue, 8 Jul 2025 11:36:14 -0400 (EDT) Subject: |WARNING| pw155058-155075 [PATCH] [v3,18/18] ci: extend coverage wit From: dpdklab@iol.unh.edu To: Test Report Cc: dpdk-test-reports@iol.unh.edu In-Reply-To: <20250708122823.3406288-19-david.marchand@redhat.com> References: <20250708122823.3406288-19-david.marchand@redhat.com> Content-Type: text/plain X-BeenThere: test-report@dpdk.org X-Mailman-Version: 2.1.29 Precedence: list List-Id: automatic DPDK test reports List-Unsubscribe: , List-Archive: List-Post: List-Help: List-Subscribe: , Errors-To: test-report-bounces@dpdk.org Test-Label: iol-compile-amd64-testing Test-Status: WARNING http://dpdk.org/patch/155075 _Testing issues_ Submitter: David Marchand Date: Tuesday, July 08 2025 12:28:22 DPDK git baseline: Repo:dpdk Branch: master CommitID:a0000859ffbaaaf90bbb9c0f2f5bb7a3d4f5bc9f 155058-155075 --> testing issues Upstream job id: Generic-DPDK-Compile-Meson#406562 Test environment and result as below: +-------------------------------+--------------------+-------------------+------------------+-------------------------+-------------------+ | Environment | dpdk_meson_compile | dpdk_compile_spdk | dpdk_compile_ovs | dpdk_llvm_clang_compile | dpdk_msvc_compile | +===============================+====================+===================+==================+=========================+===================+ | CentOS Stream 9 | PASS | PASS | SKIPPED | SKIPPED | SKIPPED | +-------------------------------+--------------------+-------------------+------------------+-------------------------+-------------------+ | Fedora Linux 40 | PASS | PASS | SKIPPED | SKIPPED | SKIPPED | +-------------------------------+--------------------+-------------------+------------------+-------------------------+-------------------+ | Debian GNU/Linux 12 | PASS | PASS | SKIPPED | SKIPPED | SKIPPED | +-------------------------------+--------------------+-------------------+------------------+-------------------------+-------------------+ | Fedora Linux 41 | PASS | PASS | PASS | SKIPPED | SKIPPED | +-------------------------------+--------------------+-------------------+------------------+-------------------------+-------------------+ | Red Hat Enterprise Linux 8.10 | PASS | SKIPPED | SKIPPED | SKIPPED | SKIPPED | +-------------------------------+--------------------+-------------------+------------------+-------------------------+-------------------+ | openSUSE Leap 15.6 | PASS | SKIPPED | SKIPPED | SKIPPED | SKIPPED | +-------------------------------+--------------------+-------------------+------------------+-------------------------+-------------------+ | Red Hat Enterprise Linux 9.5 | PASS | SKIPPED | SKIPPED | SKIPPED | SKIPPED | +-------------------------------+--------------------+-------------------+------------------+-------------------------+-------------------+ | Ubuntu 20.04 | PASS | SKIPPED | SKIPPED | SKIPPED | SKIPPED | +-------------------------------+--------------------+-------------------+------------------+-------------------------+-------------------+ | Ubuntu 24.04 | PEND | PEND | PEND | SKIPPED | SKIPPED | +-------------------------------+--------------------+-------------------+------------------+-------------------------+-------------------+ | Ubuntu 22.04 | PASS | PASS | SKIPPED | SKIPPED | SKIPPED | +-------------------------------+--------------------+-------------------+------------------+-------------------------+-------------------+ | Alpine Linux 3.22.0 | PASS | SKIPPED | SKIPPED | SKIPPED | SKIPPED | +-------------------------------+--------------------+-------------------+------------------+-------------------------+-------------------+ | Windows Server 2022 | SKIPPED | SKIPPED | SKIPPED | PASS | PASS | +-------------------------------+--------------------+-------------------+------------------+-------------------------+-------------------+ CentOS Stream 9 Kernel: 5.15 Compiler: gcc gcc (GCC) 11.5.0 20240719 (Red Hat 11.5.0-7) Fedora Linux 40 Kernel: 5.15 Compiler: clang gcc (GCC) 14.2.1 20240912 (Red Hat 14.2.1-3) Debian GNU/Linux 12 Kernel: 5.15 Compiler: gcc gcc (Debian 12.2.0-14+deb12u1) 12.2.0 Fedora Linux 41 Kernel: 5.15 Compiler: clang gcc (GCC) 14.3.1 20250523 (Red Hat 14.3.1-1) Red Hat Enterprise Linux 8.10 Kernel: 5.15 Compiler: gcc gcc (GCC) 8.5.0 20210514 (Red Hat 8.5.0-22) openSUSE Leap 15.6 Kernel: 5.15 Compiler: gcc gcc (SUSE Linux) 7.5.0 Red Hat Enterprise Linux 9.5 Kernel: 5.15 Compiler: gcc gcc (GCC) 11.5.0 20240719 (Red Hat 11.5.0-2) Ubuntu 20.04 Kernel: 5.15 Compiler: gcc gcc (Ubuntu 9.4.0-1ubuntu1~20.04.2) 9.4.0 Ubuntu 24.04 Kernel: 5.15 Compiler: gcc gcc (Ubuntu 13.3.0-6ubuntu2~24.04) 13.3.0 Ubuntu 22.04 Kernel: 5.15 Compiler: gcc gcc (Ubuntu 11.4.0-1ubuntu1~22.04) 11.4.0 Alpine Linux 3.22.0 Kernel: 5.15 Compiler: gcc gcc (Alpine 14.2.0) 14.2.0 Windows Server 2022 Kernel: 10.0.20348.2031 Compiler: clang 15.0.7, gcc 14.1.0 (MinGW), and MSVC VS 19.39.33521 To view detailed results, visit: https://lab.dpdk.org/results/dashboard/patchsets/33612/ UNH-IOL DPDK Community Lab To manage your email subscriptions, visit: https://lab.dpdk.org/results/dashboard/preferences/subscriptions/