From mboxrd@z Thu Jan 1 00:00:00 1970 Return-Path: Received: from mails.dpdk.org (mails.dpdk.org [217.70.189.124]) by inbox.dpdk.org (Postfix) with ESMTP id F10E346B2A for ; Tue, 8 Jul 2025 17:39:25 +0200 (CEST) Received: from mails.dpdk.org (localhost [127.0.0.1]) by mails.dpdk.org (Postfix) with ESMTP id E2BB24025E; Tue, 8 Jul 2025 17:39:25 +0200 (CEST) Received: from mail-oa1-f99.google.com (mail-oa1-f99.google.com [209.85.160.99]) by mails.dpdk.org (Postfix) with ESMTP id 4F39E4025E for ; Tue, 8 Jul 2025 17:39:25 +0200 (CEST) Received: by mail-oa1-f99.google.com with SMTP id 586e51a60fabf-2ef891cd058so3669228fac.1 for ; Tue, 08 Jul 2025 08:39:25 -0700 (PDT) DKIM-Signature: v=1; a=rsa-sha256; c=relaxed/relaxed; d=iol.unh.edu; s=unh-iol; t=1751989164; x=1752593964; darn=dpdk.org; h=references:in-reply-to:cc:to:from:subject:message-id:date:from:to :cc:subject:date:message-id:reply-to; bh=gu79LjLGfZe/JQu2JTPDiAMK8AC2XIbwy9jEgqRxkJ4=; b=KHVswiP71iSEvO+M0E/IrrAqNXMP7QxL8TJNRrpiM4rVpLjX3P1QMBj7oSZerAt7F0 h0xlmEYDkKRNI9KWi4j+I46Rtiwcv2w6WnkWuorj7nKROFGgXL3i+DlVG7Z3/wi6C6yD P1BeX8yF8GZwEQhqmwYGGlzW0pEEOzD1B4OEY= X-Google-DKIM-Signature: v=1; a=rsa-sha256; c=relaxed/relaxed; d=1e100.net; s=20230601; t=1751989164; x=1752593964; h=references:in-reply-to:cc:to:from:subject:message-id:date :x-gm-message-state:from:to:cc:subject:date:message-id:reply-to; bh=gu79LjLGfZe/JQu2JTPDiAMK8AC2XIbwy9jEgqRxkJ4=; b=wTStR+2Gp+jOWMz7UyDzKrfETrTjUkEV2/HsQG2YJLwbuU/nZho5XpbjMbIItGFNpC mpq9gogz0kFj7rTbYMkuFi95/t0aIVd1z084h6J6Zm+tnrFHygTWvPbenC76/rYLns8w B0McT9Ng8JSf0qM8gmLmwxutcErLbF35d/PvbaUHmObkeVr7xs9qgoxzP5aCYZmeDYto RtfyfO75lLv59J3Ppv8sUoWUdzkNPewT3X0DXUO0niCVsQdwGZB2JGNEBWBnKSwNWCQF 81BKM+HtOzLvRLUbogxJKOMe0xbVYOB3BTqIPbdCZKEx5VIL/dRReQCqC6qaLVqxyMb/ UM0w== X-Gm-Message-State: AOJu0YwOiUZw48cEsq0j7R5h+R0A2Ns1PozB/QqIL4E8G4zal8f8goaK oqsWNzmZqQEARIGoP4wByu0gN8VcL0IGZ7JIZYyOSDALM8isHXVqCx/V9TTOVM/kOaSAKXTlCtL YVVARfgr1SP5r71ISN7dFevir6ysvt4ZKVRbH2BNVDg5i X-Gm-Gg: ASbGncvht3e0NaCxcjLk+luce9oygX1rHgREIlDXUyhQOrDB0ysJ4kpklHZSkfDjfmo LoX7ToBvF615Ww1axlStmOtIno8cs0No771UmF92IyH5q655qt4nMzeW5mgqnzyuXraAfTRTjqO HNR1DR2F8XaIDOYxrHBNi+oaX6biYNVRs0tUhPwH8zfSOUD8tNdRwo3pkVPqydyOuTz7LK7kn0k zb8Lz3iXgK+XjM+9CrJ9y2QFKFNY1M3xrIvlNWAery/OdHLk/3JFFYLr7k+Mb72TTa4yUXI2hZT mx4DeL2gFTK2mEDfVJclpO0hs7DWXsOsLGWAhqk0cQZSI2Sg4VIb7bHtoUB17G8XKtu5KA== X-Google-Smtp-Source: AGHT+IE5Jl3Bg01/tx/QmBdGu319b9yd8iQJpw82jkaftLR7bqx8XIMsuwuZbqUNi1Uic0EIVnlV+F9+7e/j X-Received: by 2002:a05:6e02:258c:b0:3da:71c7:5c7f with SMTP id e9e14a558f8ab-3e1371fcf1bmr163272465ab.15.1751989153883; Tue, 08 Jul 2025 08:39:13 -0700 (PDT) Received: from postal.iol.unh.edu (postal.iol.unh.edu. [132.177.123.84]) by smtp-relay.gmail.com with ESMTPS id 8926c6da1cb9f-503b5a13236sm392602173.21.2025.07.08.08.39.13 (version=TLS1_2 cipher=ECDHE-ECDSA-AES128-GCM-SHA256 bits=128/128); Tue, 08 Jul 2025 08:39:13 -0700 (PDT) X-Relaying-Domain: iol.unh.edu Date: Tue, 08 Jul 2025 08:39:13 -0700 (PDT) Message-ID: <686d3ba1.050a0220.ce1ca.47ceSMTPIN_ADDED_MISSING@mx.google.com> Received: from [172.21.0.5] (unknown [172.18.0.240]) by postal.iol.unh.edu (Postfix) with ESMTP id 61262604D420; Tue, 8 Jul 2025 11:39:13 -0400 (EDT) Subject: |WARNING| pw155058-155075 [PATCH] [v3,18/18] ci: extend coverage wit From: dpdklab@iol.unh.edu To: Test Report Cc: dpdk-test-reports@iol.unh.edu In-Reply-To: <20250708122823.3406288-19-david.marchand@redhat.com> References: <20250708122823.3406288-19-david.marchand@redhat.com> Content-Type: text/plain X-BeenThere: test-report@dpdk.org X-Mailman-Version: 2.1.29 Precedence: list List-Id: automatic DPDK test reports List-Unsubscribe: , List-Archive: List-Post: List-Help: List-Subscribe: , Errors-To: test-report-bounces@dpdk.org Test-Label: iol-compile-amd64-testing Test-Status: WARNING http://dpdk.org/patch/155075 _Testing issues_ Submitter: David Marchand Date: Tuesday, July 08 2025 12:28:22 DPDK git baseline: Repo:dpdk Branch: master CommitID:a0000859ffbaaaf90bbb9c0f2f5bb7a3d4f5bc9f 155058-155075 --> testing issues Upstream job id: Generic-DPDK-Compile-Meson#406554 Test environment and result as below: +-------------------------------+--------------------+-------------------+------------------+-------------------------+-------------------+ | Environment | dpdk_meson_compile | dpdk_compile_spdk | dpdk_compile_ovs | dpdk_llvm_clang_compile | dpdk_msvc_compile | +===============================+====================+===================+==================+=========================+===================+ | CentOS Stream 9 | PASS | PASS | SKIPPED | SKIPPED | SKIPPED | +-------------------------------+--------------------+-------------------+------------------+-------------------------+-------------------+ | Fedora Linux 40 | PASS | PASS | SKIPPED | SKIPPED | SKIPPED | +-------------------------------+--------------------+-------------------+------------------+-------------------------+-------------------+ | Debian GNU/Linux 12 | PASS | PASS | SKIPPED | SKIPPED | SKIPPED | +-------------------------------+--------------------+-------------------+------------------+-------------------------+-------------------+ | Fedora Linux 41 | PASS | PASS | PASS | SKIPPED | SKIPPED | +-------------------------------+--------------------+-------------------+------------------+-------------------------+-------------------+ | Red Hat Enterprise Linux 8.10 | PASS | SKIPPED | SKIPPED | SKIPPED | SKIPPED | +-------------------------------+--------------------+-------------------+------------------+-------------------------+-------------------+ | openSUSE Leap 15.6 | PASS | SKIPPED | SKIPPED | SKIPPED | SKIPPED | +-------------------------------+--------------------+-------------------+------------------+-------------------------+-------------------+ | Red Hat Enterprise Linux 9.5 | PASS | SKIPPED | SKIPPED | SKIPPED | SKIPPED | +-------------------------------+--------------------+-------------------+------------------+-------------------------+-------------------+ | Ubuntu 20.04 | PASS | SKIPPED | SKIPPED | SKIPPED | SKIPPED | +-------------------------------+--------------------+-------------------+------------------+-------------------------+-------------------+ | Ubuntu 24.04 | PEND | PEND | PEND | SKIPPED | SKIPPED | +-------------------------------+--------------------+-------------------+------------------+-------------------------+-------------------+ | Ubuntu 22.04 | PASS | PASS | SKIPPED | SKIPPED | SKIPPED | +-------------------------------+--------------------+-------------------+------------------+-------------------------+-------------------+ | Alpine Linux 3.22.0 | PASS | SKIPPED | SKIPPED | SKIPPED | SKIPPED | +-------------------------------+--------------------+-------------------+------------------+-------------------------+-------------------+ | Windows Server 2022 | SKIPPED | SKIPPED | SKIPPED | PASS | PASS | +-------------------------------+--------------------+-------------------+------------------+-------------------------+-------------------+ CentOS Stream 9 Kernel: 5.15 Compiler: gcc gcc (GCC) 11.5.0 20240719 (Red Hat 11.5.0-7) Fedora Linux 40 Kernel: 5.15 Compiler: clang gcc (GCC) 14.2.1 20240912 (Red Hat 14.2.1-3) Debian GNU/Linux 12 Kernel: 5.15 Compiler: gcc gcc (Debian 12.2.0-14+deb12u1) 12.2.0 Fedora Linux 41 Kernel: 5.15 Compiler: clang gcc (GCC) 14.3.1 20250523 (Red Hat 14.3.1-1) Red Hat Enterprise Linux 8.10 Kernel: 5.15 Compiler: gcc gcc (GCC) 8.5.0 20210514 (Red Hat 8.5.0-22) openSUSE Leap 15.6 Kernel: 5.15 Compiler: gcc gcc (SUSE Linux) 7.5.0 Red Hat Enterprise Linux 9.5 Kernel: 5.15 Compiler: gcc gcc (GCC) 11.5.0 20240719 (Red Hat 11.5.0-2) Ubuntu 20.04 Kernel: 5.15 Compiler: gcc gcc (Ubuntu 9.4.0-1ubuntu1~20.04.2) 9.4.0 Ubuntu 24.04 Kernel: 5.15 Compiler: gcc gcc (Ubuntu 13.3.0-6ubuntu2~24.04) 13.3.0 Ubuntu 22.04 Kernel: 5.15 Compiler: gcc gcc (Ubuntu 11.4.0-1ubuntu1~22.04) 11.4.0 Alpine Linux 3.22.0 Kernel: 5.15 Compiler: gcc gcc (Alpine 14.2.0) 14.2.0 Windows Server 2022 Kernel: 10.0.20348.2031 Compiler: clang 15.0.7, gcc 14.1.0 (MinGW), and MSVC VS 19.39.33521 To view detailed results, visit: https://lab.dpdk.org/results/dashboard/patchsets/33612/ UNH-IOL DPDK Community Lab To manage your email subscriptions, visit: https://lab.dpdk.org/results/dashboard/preferences/subscriptions/