From mboxrd@z Thu Jan 1 00:00:00 1970 Return-Path: Received: from mails.dpdk.org (mails.dpdk.org [217.70.189.124]) by inbox.dpdk.org (Postfix) with ESMTP id A7CB346B2A for ; Tue, 8 Jul 2025 17:43:35 +0200 (CEST) Received: from mails.dpdk.org (localhost [127.0.0.1]) by mails.dpdk.org (Postfix) with ESMTP id 9DE764025E; Tue, 8 Jul 2025 17:43:35 +0200 (CEST) Received: from mail-pl1-f225.google.com (mail-pl1-f225.google.com [209.85.214.225]) by mails.dpdk.org (Postfix) with ESMTP id 66BF84025E for ; Tue, 8 Jul 2025 17:43:34 +0200 (CEST) Received: by mail-pl1-f225.google.com with SMTP id d9443c01a7336-2366e5e4dbaso41576095ad.1 for ; Tue, 08 Jul 2025 08:43:34 -0700 (PDT) DKIM-Signature: v=1; a=rsa-sha256; c=relaxed/relaxed; d=iol.unh.edu; s=unh-iol; t=1751989413; x=1752594213; darn=dpdk.org; h=references:in-reply-to:cc:to:from:subject:message-id:date:from:to :cc:subject:date:message-id:reply-to; bh=u9a+UJ05UkjTw4T/OTTr1n93tfEXzBwDsVOyiGJuWpo=; b=aUWQNmciiwFQFwTJ5SwtzuCVsPfHTzKfayO5nf+v1xs5t9XW5wj+nMJkREB81fWstN 2TaKRAJBDs8i1jDi9l+tNxSYBvXDsnu5NhHYukPIuWdvgS84jCjK4jl5QIzrWVaG+K87 uO8M8ViZC4cku8vMIoW0qrfyCmXy273Y5ktkg= X-Google-DKIM-Signature: v=1; a=rsa-sha256; c=relaxed/relaxed; d=1e100.net; s=20230601; t=1751989413; x=1752594213; h=references:in-reply-to:cc:to:from:subject:message-id:date :x-gm-message-state:from:to:cc:subject:date:message-id:reply-to; bh=u9a+UJ05UkjTw4T/OTTr1n93tfEXzBwDsVOyiGJuWpo=; b=vxSXWL6Fw/jO6rtL3GNLkEvOwAiPU+ealI6VaiEjKPh/6xWg4VzbcbCBJR8QQk/jQo V373Q1Bigfa0QkalPEBQ3dbiDlA0UHLon8Cdz7PkkrhLsLjgm2V++s7s5+trA8WBU1iZ bBOcblU9+MjkSaN7WxH9UZuWDRmFNO7GoR4U6WtLqFtLUNmDH59Ze1FE4lf+rW6KUgx1 oat3976FGsDLKY0CZD3wvd53VOjFAAFfEwjjSw2LIM5Ny+xnaowqbfla3Vo2U0vaYPD4 FLKjTucoIvUHG22x6tHs/L7f88DSJNDqL7gIp0zgYtB2EkMILKpFTbIFWZbVRIm6bapY DBvA== X-Gm-Message-State: AOJu0YxEOwf/ex1L1tyiY/tgpvyUyKxav8heFTEiBbb380EtejOxZpJu Lfs1HpiDczAz1kDYMI/tFhJEW/kUm4jqhM9N1mBhfI6xU7KmEzz8ZCx2lgNCVOB4A2HApv3UHpx RgeosR/LLfLU5ob3NuoIUTxd0C52dup0IUigUcdYY5K30 X-Gm-Gg: ASbGncuULd3z4U8bvScezZ+vD+38sdZihKopR0cVXTvnhfOuXRJgjIXLplehlrzkTqK uRYRJxeQytsa/yzDKc1KOJRLEL435yLNNYczwmv+MW+N+AzmkWmErG3lS17IY0MAZENSztvwjja o/sl4Oh4Zl25CoKQuq/lkItmuXADlnYtefVD4E3me+guljyMAp7SR9VMwx710uJlzspBZ8b43sc vqtcnO0lx26io3cADuT6WK57jW2Ys8yNRxhewdCSQDqj6K7r6MvIAnBRZwJ5DAoMQ9X4Sjnu2Bh LMaGLYWzMB5oUTNMaI8oyGTAgJSsu50Pv/S3ORi/+YotzeN4ig+Uexml8JNXPlCsb5YnGw== X-Google-Smtp-Source: AGHT+IHff0sBcfOQLH9D95rIMBiWBLILsFB6ZC1QcJ2rBVzgj1fcVHb83Y21D90pVYajdUiWpPIuLdXBPfrC X-Received: by 2002:a17:902:fc86:b0:235:eca0:12e8 with SMTP id d9443c01a7336-23dd1cb99f1mr40497085ad.4.1751989413488; Tue, 08 Jul 2025 08:43:33 -0700 (PDT) Received: from postal.iol.unh.edu (postal.iol.unh.edu. [132.177.123.84]) by smtp-relay.gmail.com with ESMTPS id d9443c01a7336-23c842d0a4esm5280425ad.44.2025.07.08.08.43.33 (version=TLS1_2 cipher=ECDHE-ECDSA-AES128-GCM-SHA256 bits=128/128); Tue, 08 Jul 2025 08:43:33 -0700 (PDT) X-Relaying-Domain: iol.unh.edu Date: Tue, 08 Jul 2025 08:43:33 -0700 (PDT) Message-ID: <686d3ca5.170a0220.637f2.badcSMTPIN_ADDED_MISSING@mx.google.com> Received: from [172.21.0.5] (unknown [172.18.0.240]) by postal.iol.unh.edu (Postfix) with ESMTP id A02FF60003E7; Tue, 8 Jul 2025 11:43:32 -0400 (EDT) Subject: |SUCCESS| pw155058-155075 [PATCH] [v3,18/18] ci: extend coverage wit From: dpdklab@iol.unh.edu To: Test Report Cc: dpdk-test-reports@iol.unh.edu In-Reply-To: <20250708122823.3406288-19-david.marchand@redhat.com> References: <20250708122823.3406288-19-david.marchand@redhat.com> Content-Type: text/plain X-BeenThere: test-report@dpdk.org X-Mailman-Version: 2.1.29 Precedence: list List-Id: automatic DPDK test reports List-Unsubscribe: , List-Archive: List-Post: List-Help: List-Subscribe: , Errors-To: test-report-bounces@dpdk.org Test-Label: iol-unit-arm64-testing Test-Status: SUCCESS http://dpdk.org/patch/155075 _Testing PASS_ Submitter: David Marchand Date: Tuesday, July 08 2025 12:28:22 DPDK git baseline: Repo:dpdk Branch: master CommitID:a0000859ffbaaaf90bbb9c0f2f5bb7a3d4f5bc9f 155058-155075 --> testing pass Upstream job id: Aarch32-Unit-Test#6850 Test environment and result as below: +------------------------------+--------------+---------------------------+------------------------------+----------------+ | Environment | lpm_autotest | cryptodev_sw_zuc_autotest | cryptodev_sw_snow3g_autotest | dpdk_unit_test | +==============================+==============+===========================+==============================+================+ | Ubuntu 20.04 | PASS | SKIPPED | SKIPPED | PASS | +------------------------------+--------------+---------------------------+------------------------------+----------------+ | Debian 12 (arm) | SKIPPED | PASS | PASS | SKIPPED | +------------------------------+--------------+---------------------------+------------------------------+----------------+ | Debian GNU/Linux 12 | SKIPPED | SKIPPED | SKIPPED | PASS | +------------------------------+--------------+---------------------------+------------------------------+----------------+ | CentOS Stream 10 | SKIPPED | SKIPPED | SKIPPED | PASS | +------------------------------+--------------+---------------------------+------------------------------+----------------+ | CentOS Stream 9 | SKIPPED | SKIPPED | SKIPPED | PASS | +------------------------------+--------------+---------------------------+------------------------------+----------------+ | Fedora Linux 40 | SKIPPED | SKIPPED | SKIPPED | PASS | +------------------------------+--------------+---------------------------+------------------------------+----------------+ | Fedora Linux 41 | SKIPPED | SKIPPED | SKIPPED | PASS | +------------------------------+--------------+---------------------------+------------------------------+----------------+ | Red Hat Enterprise Linux 9.5 | SKIPPED | SKIPPED | SKIPPED | PASS | +------------------------------+--------------+---------------------------+------------------------------+----------------+ | Ubuntu 22.04 | SKIPPED | SKIPPED | SKIPPED | PASS | +------------------------------+--------------+---------------------------+------------------------------+----------------+ | Ubuntu 24.04 | SKIPPED | SKIPPED | SKIPPED | PASS | +------------------------------+--------------+---------------------------+------------------------------+----------------+ Ubuntu 20.04 Kernel: 5.4 Compiler: gcc gcc (Ubuntu 9.4.0-1ubuntu1~20.04.2) 9.4.0 Debian 12 (arm) Kernel: Depends on container host Compiler: gcc (Debian 12.2.0-14) 12.2.0 Debian GNU/Linux 12 Kernel: 5.4 Compiler: gcc gcc (Debian 12.2.0-14+deb12u1) 12.2.0 CentOS Stream 10 Kernel: 5.4 Compiler: gcc gcc (GCC) 14.2.1 20250110 (Red Hat 14.2.1-8) CentOS Stream 9 Kernel: 5.4 Compiler: gcc gcc (GCC) 11.5.0 20240719 (Red Hat 11.5.0-7) Fedora Linux 40 Kernel: 5.4 Compiler: gcc gcc (GCC) 14.2.1 20240912 (Red Hat 14.2.1-3) Fedora Linux 41 Kernel: 5.4 Compiler: gcc gcc (GCC) 14.3.1 20250523 (Red Hat 14.3.1-1) Red Hat Enterprise Linux 9.5 Kernel: 5.4 Compiler: gcc gcc (GCC) 11.5.0 20240719 (Red Hat 11.5.0-2) Ubuntu 22.04 Kernel: 5.4 Compiler: gcc gcc (Ubuntu 11.4.0-1ubuntu1~22.04) 11.4.0 Ubuntu 24.04 Kernel: 5.4 Compiler: gcc gcc (Ubuntu 13.3.0-6ubuntu2~24.04) 13.3.0 To view detailed results, visit: https://lab.dpdk.org/results/dashboard/patchsets/33612/ UNH-IOL DPDK Community Lab To manage your email subscriptions, visit: https://lab.dpdk.org/results/dashboard/preferences/subscriptions/