From mboxrd@z Thu Jan 1 00:00:00 1970 Return-Path: Received: from mails.dpdk.org (mails.dpdk.org [217.70.189.124]) by inbox.dpdk.org (Postfix) with ESMTP id E062946B2A for ; Tue, 8 Jul 2025 17:44:51 +0200 (CEST) Received: from mails.dpdk.org (localhost [127.0.0.1]) by mails.dpdk.org (Postfix) with ESMTP id DC3994025E; Tue, 8 Jul 2025 17:44:51 +0200 (CEST) Received: from mail-io1-f99.google.com (mail-io1-f99.google.com [209.85.166.99]) by mails.dpdk.org (Postfix) with ESMTP id 9C1314025E for ; Tue, 8 Jul 2025 17:44:50 +0200 (CEST) Received: by mail-io1-f99.google.com with SMTP id ca18e2360f4ac-86cdb330b48so423944939f.0 for ; Tue, 08 Jul 2025 08:44:50 -0700 (PDT) DKIM-Signature: v=1; a=rsa-sha256; c=relaxed/relaxed; d=iol.unh.edu; s=unh-iol; t=1751989490; x=1752594290; darn=dpdk.org; h=references:in-reply-to:cc:to:from:subject:message-id:date:from:to :cc:subject:date:message-id:reply-to; bh=QZjk5PHXjf3es4Rf4v8nxTMco4ydxlbAkxsKCbFCEP0=; b=QV4o5gXuxeQTWxk4G63fxKQVSCmAzQwM7uQAyOdO0SKz2Ra/fDGCyhGumIvE0QklVZ QwgM+XPMXjF9JOxffWswHuFDY1BtnxnAq+JbqPlvM0OQ201OqNi6hMhnFiTk1ZRIP6AM 82WVw/Jn2shjJ8RgS5BSCiBbQ5ioFQ9Anp/cI= X-Google-DKIM-Signature: v=1; a=rsa-sha256; c=relaxed/relaxed; d=1e100.net; s=20230601; t=1751989490; x=1752594290; h=references:in-reply-to:cc:to:from:subject:message-id:date :x-gm-message-state:from:to:cc:subject:date:message-id:reply-to; bh=QZjk5PHXjf3es4Rf4v8nxTMco4ydxlbAkxsKCbFCEP0=; b=MV/Fbtxb//M50utSYTPWtH+1tFRvSlyf2whcWc18qeab+KnTMVKnOEjsb9GyttkZx/ E2X2jGgjJWvReYIcPt3ethwbd64U5LaGeGQh30TSmN0FImlJ8j6aWxvuTv0xKcrRSZah oFys4Ympot0P9OCDcNeOTbJoySkcj318+iRfkdzrWtXE2h+QBMkX/N6Tfe8gcKFYH8lV 5VARdsl/OL3FcTLym2Q0EDw1rsMUPl0406AoNZrHsBYB7RlBKU0qqTxDfjA0S+yZEDSX p22bE58Ba6NVaEVywpqmSFGV1DmI0b/NIDQi6HiEztU9wn96Px82U7BFYdPMfFjyW1az /fYg== X-Gm-Message-State: AOJu0YweBrmxEzJHaatPo8jJ0BSq+cRbJFkkiAUZQO1JLCaIL/G1iu2e qcq8KT30EdEcQ1c8aBkcLcCegveLVsfX48dSULIxvY+8eTo4WmVW7xNuGqfWZiBcNHcm9KjBBoY zD4UPcdAskqaX8DsvZldl28dtGjckxBic3H3s1CDA11e0wJQpE18rPxFej9fB X-Gm-Gg: ASbGncvIyFs4qo8Wol99ol9phNbQ/uNLFxb2QjNMKL6u0KQmgyKef4vBWUA+xeAtgJO 0e2UpGbUdkqs7VqQUJpmTKnOurHM+D+iv993a2PUMWw0j3Fh+yBk4xwoTxQ75JBbMjyjfuhU6jH pwRbv6q9+0J8F+cWBb8+fROoYjj/72uP/HRWfAkaksBIpCjaugRKEtD0BEYZC4SiTpFVTMePTsg 5vRZOkA4sSL9FQHyuVPt+XdMvkEOtc4jLEIShmElidGvviUf6H+d9srj/UYuDDcKDjjAe8tcaYM QtgDvcBATOdjsCAu7pGWhkz/SDJTAlGYbUHI/iqkO9sStzQ= X-Google-Smtp-Source: AGHT+IFdHhWDzatGsBoUuicPL8s5XGYUQimUOgE+wGnb0K8i1aKQOqKC4Ei6PcoN8lQWxRqk8LlovMuoeQFy X-Received: by 2002:a05:6602:2cc3:b0:864:4890:51e4 with SMTP id ca18e2360f4ac-8794b536a27mr376642639f.14.1751989489885; Tue, 08 Jul 2025 08:44:49 -0700 (PDT) Received: from postal.iol.unh.edu (postal.iol.unh.edu. [2606:4100:3880:1234::84]) by smtp-relay.gmail.com with ESMTPS id 8926c6da1cb9f-503b5bb325dsm386051173.61.2025.07.08.08.44.49 (version=TLS1_2 cipher=ECDHE-ECDSA-AES128-GCM-SHA256 bits=128/128); Tue, 08 Jul 2025 08:44:49 -0700 (PDT) X-Relaying-Domain: iol.unh.edu Date: Tue, 08 Jul 2025 08:44:49 -0700 (PDT) Message-ID: <686d3cf1.050a0220.19009c.40acSMTPIN_ADDED_MISSING@mx.google.com> Received: from [172.21.0.7] (unknown [172.18.0.240]) by postal.iol.unh.edu (Postfix) with ESMTP id 895286051830; Tue, 8 Jul 2025 11:44:49 -0400 (EDT) Subject: |WARNING| pw155058-155075 [PATCH] [v3,18/18] ci: extend coverage wit From: dpdklab@iol.unh.edu To: Test Report Cc: dpdk-test-reports@iol.unh.edu In-Reply-To: <20250708122823.3406288-19-david.marchand@redhat.com> References: <20250708122823.3406288-19-david.marchand@redhat.com> Content-Type: text/plain X-BeenThere: test-report@dpdk.org X-Mailman-Version: 2.1.29 Precedence: list List-Id: automatic DPDK test reports List-Unsubscribe: , List-Archive: List-Post: List-Help: List-Subscribe: , Errors-To: test-report-bounces@dpdk.org Test-Label: iol-compile-amd64-testing Test-Status: WARNING http://dpdk.org/patch/155075 _Testing issues_ Submitter: David Marchand Date: Tuesday, July 08 2025 12:28:22 DPDK git baseline: Repo:dpdk Branch: master CommitID:a0000859ffbaaaf90bbb9c0f2f5bb7a3d4f5bc9f 155058-155075 --> testing issues Upstream job id: Generic-DPDK-Compile-Meson#406563 Test environment and result as below: +-------------------------------+--------------------+-------------------+------------------+-------------------------+-------------------+ | Environment | dpdk_meson_compile | dpdk_compile_spdk | dpdk_compile_ovs | dpdk_llvm_clang_compile | dpdk_msvc_compile | +===============================+====================+===================+==================+=========================+===================+ | CentOS Stream 9 | PASS | PASS | SKIPPED | SKIPPED | SKIPPED | +-------------------------------+--------------------+-------------------+------------------+-------------------------+-------------------+ | Fedora Linux 40 | PASS | PASS | SKIPPED | SKIPPED | SKIPPED | +-------------------------------+--------------------+-------------------+------------------+-------------------------+-------------------+ | Debian GNU/Linux 12 | PASS | PASS | SKIPPED | SKIPPED | SKIPPED | +-------------------------------+--------------------+-------------------+------------------+-------------------------+-------------------+ | Fedora Linux 41 | PASS | PASS | PASS | SKIPPED | SKIPPED | +-------------------------------+--------------------+-------------------+------------------+-------------------------+-------------------+ | Red Hat Enterprise Linux 8.10 | PASS | SKIPPED | SKIPPED | SKIPPED | SKIPPED | +-------------------------------+--------------------+-------------------+------------------+-------------------------+-------------------+ | openSUSE Leap 15.6 | PASS | SKIPPED | SKIPPED | SKIPPED | SKIPPED | +-------------------------------+--------------------+-------------------+------------------+-------------------------+-------------------+ | Red Hat Enterprise Linux 9.5 | PASS | SKIPPED | SKIPPED | SKIPPED | SKIPPED | +-------------------------------+--------------------+-------------------+------------------+-------------------------+-------------------+ | Ubuntu 20.04 | PASS | SKIPPED | SKIPPED | SKIPPED | SKIPPED | +-------------------------------+--------------------+-------------------+------------------+-------------------------+-------------------+ | Ubuntu 24.04 | PASS | PASS | PASS | SKIPPED | SKIPPED | +-------------------------------+--------------------+-------------------+------------------+-------------------------+-------------------+ | Ubuntu 22.04 | PASS | PASS | SKIPPED | SKIPPED | SKIPPED | +-------------------------------+--------------------+-------------------+------------------+-------------------------+-------------------+ | Alpine Linux 3.22.0 | PASS | SKIPPED | SKIPPED | SKIPPED | SKIPPED | +-------------------------------+--------------------+-------------------+------------------+-------------------------+-------------------+ | Windows Server 2022 | SKIPPED | SKIPPED | SKIPPED | PASS | PASS | +-------------------------------+--------------------+-------------------+------------------+-------------------------+-------------------+ CentOS Stream 9 Kernel: 5.15 Compiler: gcc gcc (GCC) 11.5.0 20240719 (Red Hat 11.5.0-7) Fedora Linux 40 Kernel: 5.15 Compiler: clang gcc (GCC) 14.2.1 20240912 (Red Hat 14.2.1-3) Debian GNU/Linux 12 Kernel: 5.15 Compiler: gcc gcc (Debian 12.2.0-14+deb12u1) 12.2.0 Fedora Linux 41 Kernel: 5.15 Compiler: clang gcc (GCC) 14.3.1 20250523 (Red Hat 14.3.1-1) Red Hat Enterprise Linux 8.10 Kernel: 5.15 Compiler: gcc gcc (GCC) 8.5.0 20210514 (Red Hat 8.5.0-22) openSUSE Leap 15.6 Kernel: 5.15 Compiler: gcc gcc (SUSE Linux) 7.5.0 Red Hat Enterprise Linux 9.5 Kernel: 5.15 Compiler: gcc gcc (GCC) 11.5.0 20240719 (Red Hat 11.5.0-2) Ubuntu 20.04 Kernel: 5.15 Compiler: gcc gcc (Ubuntu 9.4.0-1ubuntu1~20.04.2) 9.4.0 Ubuntu 24.04 Kernel: 5.15 Compiler: gcc gcc (Ubuntu 13.3.0-6ubuntu2~24.04) 13.3.0 Ubuntu 22.04 Kernel: 5.15 Compiler: gcc gcc (Ubuntu 11.4.0-1ubuntu1~22.04) 11.4.0 Alpine Linux 3.22.0 Kernel: 5.15 Compiler: gcc gcc (Alpine 14.2.0) 14.2.0 Windows Server 2022 Kernel: 10.0.20348.2031 Compiler: clang 15.0.7, gcc 14.1.0 (MinGW), and MSVC VS 19.39.33521 To view detailed results, visit: https://lab.dpdk.org/results/dashboard/patchsets/33612/ UNH-IOL DPDK Community Lab To manage your email subscriptions, visit: https://lab.dpdk.org/results/dashboard/preferences/subscriptions/