From mboxrd@z Thu Jan 1 00:00:00 1970 Return-Path: Received: from mails.dpdk.org (mails.dpdk.org [217.70.189.124]) by inbox.dpdk.org (Postfix) with ESMTP id 0FE3346B2A for ; Tue, 8 Jul 2025 17:46:02 +0200 (CEST) Received: from mails.dpdk.org (localhost [127.0.0.1]) by mails.dpdk.org (Postfix) with ESMTP id 047214025E; Tue, 8 Jul 2025 17:46:02 +0200 (CEST) Received: from mail-qk1-f227.google.com (mail-qk1-f227.google.com [209.85.222.227]) by mails.dpdk.org (Postfix) with ESMTP id 1E45040292 for ; Tue, 8 Jul 2025 17:46:00 +0200 (CEST) Received: by mail-qk1-f227.google.com with SMTP id af79cd13be357-7d094ef02e5so381585a.1 for ; Tue, 08 Jul 2025 08:46:00 -0700 (PDT) DKIM-Signature: v=1; a=rsa-sha256; c=relaxed/relaxed; d=iol.unh.edu; s=unh-iol; t=1751989559; x=1752594359; darn=dpdk.org; h=references:in-reply-to:cc:to:from:subject:message-id:date:from:to :cc:subject:date:message-id:reply-to; bh=Pk/2Jis+3bmSjzmxMsLuXBQZVCbP2Ea1FOz5CHBXSDE=; b=MX+NhF4ACx7NdeocmYE+hiG1p4ZDCOHoCE5wMF8VRDrQxUeJd6jUfPav49oiPvCSpU DCCCa4gWoGYD3BU/G9Dqw/s8uezQ1ZopwCEdX0rtuHSbh5IW7tng5b/X3t1YDvcCDEJM i51ET8L1PIc5xsa0XTY4VT0fU4SoQX21kgEcI= X-Google-DKIM-Signature: v=1; a=rsa-sha256; c=relaxed/relaxed; d=1e100.net; s=20230601; t=1751989559; x=1752594359; h=references:in-reply-to:cc:to:from:subject:message-id:date :x-gm-message-state:from:to:cc:subject:date:message-id:reply-to; bh=Pk/2Jis+3bmSjzmxMsLuXBQZVCbP2Ea1FOz5CHBXSDE=; b=rAWspJHMHTeGAa9x5otZDLfz+MjcoxghFCA/sHKoPKxRmMeilVCjwvtcxZHSjLKh57 y6GXsjFhI9BIFFZArwM2FJsCOcSP2Ltdhb+okvsKaPEOJgSIvGmlHcnYbUARxXJ42sI0 XwjxfmjT8p3FjeIWucbxOPQd/oAuVXhRrrCHpa9XHXeClxoajoVQR2JSIpsg4U6t/zQI FEWvCChXYEe9CIy/jfboOQVBHMTjVR2NEMoEoKDeN5XuT1j0hI0Cc6babG3W1Ip8hE37 InXyIE2by1adb9pkRaYaPIWdRFsS8lG0frryimmkixJC1EpEnUFwNCdOQicR0iNXVwwg YKAw== X-Gm-Message-State: AOJu0YyRFfPRLGJKBGiODIBt+C5wHJzjhW1uaWXDTOmWN+n/JTZ1/DHi sFsC8G4UZotNW2SWDm9KZBo2s8Rlt7kYXCoBZWI2AGWg8eZa7mL4uuwW9v4LHTSBz9WyWNBmlQo jqdavGeqeOBmBCgceolPzgx9TqxHu3dlRSNkrqWp0/edk X-Gm-Gg: ASbGnctgNCrAG5xCOgIFX3oaxMxoihtQZt7V6RUxwkrzjK2d3tGYqQkIT+ntPJQuqGq zKIadykiVfm+9UHTKVpyU0Hd28AQWE1UjOZ8gq1YzuOCkkqEdiKYdkdoFCUDKaeFk0K5My3gOsf qgWAwrmr6PD0lShtm9NmXFvvop7NCHfLPmawQXgMJbF/8IE5GQvvF6HQbtfnJ1+kvj7ryn8PALi BWe8raolay000B5eQ3eo+1aqpxusWicG1+Hsi6OsxEI+CGcMw7Eg5jCV8iw/C6FJ038SGJz5l3o cxr1ZEdrT4G8uXbb1uDNn6b9wTHFtPTctYYqi3+orCN0NW/8b4Tq6oQzyywBx8yT+1wYog== X-Google-Smtp-Source: AGHT+IGz4D/u/6NL2Peu1X5ZnWIRusOH8LEUcjIDN4CgWKgQEj0ukuMWkLC2fcEOWyRDaOobQ8kOapoyc8SC X-Received: by 2002:a05:620a:454e:b0:7d5:db77:da81 with SMTP id af79cd13be357-7da1d4a9b36mr513678885a.1.1751989559441; Tue, 08 Jul 2025 08:45:59 -0700 (PDT) Received: from postal.iol.unh.edu (postal.iol.unh.edu. [132.177.123.84]) by smtp-relay.gmail.com with ESMTPS id 6a1803df08f44-702d8366713sm3879226d6.46.2025.07.08.08.45.59 (version=TLS1_2 cipher=ECDHE-ECDSA-AES128-GCM-SHA256 bits=128/128); Tue, 08 Jul 2025 08:45:59 -0700 (PDT) X-Relaying-Domain: iol.unh.edu Date: Tue, 08 Jul 2025 08:45:59 -0700 (PDT) Message-ID: <686d3d37.050a0220.301121.3f16SMTPIN_ADDED_MISSING@mx.google.com> Received: from [172.21.0.5] (unknown [172.18.0.240]) by postal.iol.unh.edu (Postfix) with ESMTP id 2285D6051830; Tue, 8 Jul 2025 11:45:59 -0400 (EDT) Subject: |WARNING| pw155058-155075 [PATCH] [v3,18/18] ci: extend coverage wit From: dpdklab@iol.unh.edu To: Test Report Cc: dpdk-test-reports@iol.unh.edu In-Reply-To: <20250708122823.3406288-19-david.marchand@redhat.com> References: <20250708122823.3406288-19-david.marchand@redhat.com> Content-Type: text/plain X-BeenThere: test-report@dpdk.org X-Mailman-Version: 2.1.29 Precedence: list List-Id: automatic DPDK test reports List-Unsubscribe: , List-Archive: List-Post: List-Help: List-Subscribe: , Errors-To: test-report-bounces@dpdk.org Test-Label: iol-compile-amd64-testing Test-Status: WARNING http://dpdk.org/patch/155075 _Testing issues_ Submitter: David Marchand Date: Tuesday, July 08 2025 12:28:22 DPDK git baseline: Repo:dpdk Branch: master CommitID:a0000859ffbaaaf90bbb9c0f2f5bb7a3d4f5bc9f 155058-155075 --> testing issues Upstream job id: Generic-DPDK-Compile-Meson#406556 Test environment and result as below: +-------------------------------+--------------------+-------------------+------------------+-------------------------+-------------------+ | Environment | dpdk_meson_compile | dpdk_compile_spdk | dpdk_compile_ovs | dpdk_llvm_clang_compile | dpdk_msvc_compile | +===============================+====================+===================+==================+=========================+===================+ | CentOS Stream 9 | PASS | PASS | SKIPPED | SKIPPED | SKIPPED | +-------------------------------+--------------------+-------------------+------------------+-------------------------+-------------------+ | Fedora Linux 40 | PASS | PASS | SKIPPED | SKIPPED | SKIPPED | +-------------------------------+--------------------+-------------------+------------------+-------------------------+-------------------+ | Debian GNU/Linux 12 | PASS | PASS | SKIPPED | SKIPPED | SKIPPED | +-------------------------------+--------------------+-------------------+------------------+-------------------------+-------------------+ | Fedora Linux 41 | PASS | PASS | PASS | SKIPPED | SKIPPED | +-------------------------------+--------------------+-------------------+------------------+-------------------------+-------------------+ | Red Hat Enterprise Linux 8.10 | PASS | SKIPPED | SKIPPED | SKIPPED | SKIPPED | +-------------------------------+--------------------+-------------------+------------------+-------------------------+-------------------+ | openSUSE Leap 15.6 | PASS | SKIPPED | SKIPPED | SKIPPED | SKIPPED | +-------------------------------+--------------------+-------------------+------------------+-------------------------+-------------------+ | Red Hat Enterprise Linux 9.5 | PASS | SKIPPED | SKIPPED | SKIPPED | SKIPPED | +-------------------------------+--------------------+-------------------+------------------+-------------------------+-------------------+ | Ubuntu 20.04 | PASS | SKIPPED | SKIPPED | SKIPPED | SKIPPED | +-------------------------------+--------------------+-------------------+------------------+-------------------------+-------------------+ | Ubuntu 24.04 | PASS | PASS | PASS | SKIPPED | SKIPPED | +-------------------------------+--------------------+-------------------+------------------+-------------------------+-------------------+ | Ubuntu 22.04 | PASS | PASS | SKIPPED | SKIPPED | SKIPPED | +-------------------------------+--------------------+-------------------+------------------+-------------------------+-------------------+ | Alpine Linux 3.22.0 | PASS | SKIPPED | SKIPPED | SKIPPED | SKIPPED | +-------------------------------+--------------------+-------------------+------------------+-------------------------+-------------------+ | Windows Server 2022 | SKIPPED | SKIPPED | SKIPPED | PASS | PASS | +-------------------------------+--------------------+-------------------+------------------+-------------------------+-------------------+ CentOS Stream 9 Kernel: 5.15 Compiler: gcc gcc (GCC) 11.5.0 20240719 (Red Hat 11.5.0-7) Fedora Linux 40 Kernel: 5.15 Compiler: clang gcc (GCC) 14.2.1 20240912 (Red Hat 14.2.1-3) Debian GNU/Linux 12 Kernel: 5.15 Compiler: gcc gcc (Debian 12.2.0-14+deb12u1) 12.2.0 Fedora Linux 41 Kernel: 5.15 Compiler: clang gcc (GCC) 14.3.1 20250523 (Red Hat 14.3.1-1) Red Hat Enterprise Linux 8.10 Kernel: 5.15 Compiler: gcc gcc (GCC) 8.5.0 20210514 (Red Hat 8.5.0-22) openSUSE Leap 15.6 Kernel: 5.15 Compiler: gcc gcc (SUSE Linux) 7.5.0 Red Hat Enterprise Linux 9.5 Kernel: 5.15 Compiler: gcc gcc (GCC) 11.5.0 20240719 (Red Hat 11.5.0-2) Ubuntu 20.04 Kernel: 5.15 Compiler: gcc gcc (Ubuntu 9.4.0-1ubuntu1~20.04.2) 9.4.0 Ubuntu 24.04 Kernel: 5.15 Compiler: gcc gcc (Ubuntu 13.3.0-6ubuntu2~24.04) 13.3.0 Ubuntu 22.04 Kernel: 5.15 Compiler: gcc gcc (Ubuntu 11.4.0-1ubuntu1~22.04) 11.4.0 Alpine Linux 3.22.0 Kernel: 5.15 Compiler: gcc gcc (Alpine 14.2.0) 14.2.0 Windows Server 2022 Kernel: 10.0.20348.2031 Compiler: clang 15.0.7, gcc 14.1.0 (MinGW), and MSVC VS 19.39.33521 To view detailed results, visit: https://lab.dpdk.org/results/dashboard/patchsets/33612/ UNH-IOL DPDK Community Lab To manage your email subscriptions, visit: https://lab.dpdk.org/results/dashboard/preferences/subscriptions/